BEGIN:VCALENDAR
VERSION:2.0
PRODID:-//Urbancasual.ca - ECPv6.15.20//NONSGML v1.0//EN
CALSCALE:GREGORIAN
METHOD:PUBLISH
X-WR-CALNAME:Urbancasual.ca
X-ORIGINAL-URL:https://urbancasual.ca
X-WR-CALDESC:Events for Urbancasual.ca
REFRESH-INTERVAL;VALUE=DURATION:PT1H
X-Robots-Tag:noindex
X-PUBLISHED-TTL:PT1H
BEGIN:VTIMEZONE
TZID:America/Edmonton
BEGIN:DAYLIGHT
TZOFFSETFROM:-0700
TZOFFSETTO:-0600
TZNAME:MDT
DTSTART:20250309T090000
END:DAYLIGHT
BEGIN:STANDARD
TZOFFSETFROM:-0600
TZOFFSETTO:-0700
TZNAME:MST
DTSTART:20251102T080000
END:STANDARD
BEGIN:DAYLIGHT
TZOFFSETFROM:-0700
TZOFFSETTO:-0600
TZNAME:MDT
DTSTART:20260308T090000
END:DAYLIGHT
BEGIN:STANDARD
TZOFFSETFROM:-0600
TZOFFSETTO:-0700
TZNAME:MST
DTSTART:20261101T080000
END:STANDARD
BEGIN:DAYLIGHT
TZOFFSETFROM:-0700
TZOFFSETTO:-0600
TZNAME:MDT
DTSTART:20270314T090000
END:DAYLIGHT
BEGIN:STANDARD
TZOFFSETFROM:-0600
TZOFFSETTO:-0700
TZNAME:MST
DTSTART:20271107T080000
END:STANDARD
END:VTIMEZONE
BEGIN:VEVENT
DTSTART;TZID=America/Edmonton:20260324T171500
DTEND;TZID=America/Edmonton:20260324T200000
DTSTAMP:20260419T082825
CREATED:20260122T012316Z
LAST-MODIFIED:20260122T012316Z
UID:10054179-1774372500-1774382400@urbancasual.ca
SUMMARY:Cochrane Drama Classes by Sleeping Giants Theatre
DESCRIPTION:Winter Drama registration is now open! Join us for an exciting term of drama classes for ages 8 through 12 at Sleeping Giants Theatre! \nWho is drama for? Anyone who loves making up stories\, creating fun characters\, and playing in imaginary worlds with new friends! \nEvery class\, we play fun drama games to build our ensemble and teamwork skills while developing our acting skills at the same time. We also work on body and voice techniques to build presence and confidence on stage through fun exercises. And throughout the term\, we work together to create a brand new original play to present at the end of the semester! \nIf you’d like to learn more\, head on over to www.sleepinggiantstheatre.ca/classes for all the details. \nClass starts on January 27th! Don’t miss your chance to register!
URL:https://urbancasual.ca/cochrane-event/cochrane-drama-classes-by-sleeping-giants-theatre/2026-03-24/
LOCATION:AB
CATEGORIES:Business,Drama,Learning,Parents & Caregivers,Theatre
ATTACH;FMTTYPE=image/jpeg:https://urbancasual.ca/wp-content/uploads/2026/01/Drama-Classes-Instagram-Post-45.jpg
END:VEVENT
BEGIN:VEVENT
DTSTART;TZID=America/Edmonton:20260324T190000
DTEND;TZID=America/Edmonton:20260324T210000
DTSTAMP:20260419T082825
CREATED:20230518T210646Z
LAST-MODIFIED:20250512T220248Z
UID:10009647-1774378800-1774386000@urbancasual.ca
SUMMARY:Start Up Cochrane
DESCRIPTION:WHEN: Join us on the FOURTH Tuesday night of each month\, 7 PM – 9 PM at The Corner Coworking on Railway Street E in Cochrane\, AB.\n\nNOTE: EACH MONTH WE WILL UPDATE IF THERE WILL BE A TOPIC OR PRESENTER.\n\nCOST: Free\n\nWhat can I do? How do I get involved?\n\nFor these events to be a success\, and to grow the local #startup community\, we need entrepreneurs at all stages of the startup & launch phases.\n\n-Got a new idea?\n-Have a concept you are curious about?\n-Ready to pitch for funding?\n-Looking to grow an existing business?\nPLUS\n-Have you launched a new business already?\n-Are you an investor?\n-Been involved in startups before? (Successful & less successful)\n-Just plain curious?
URL:https://urbancasual.ca/cochrane-event/start-up-cochrane-4/2026-03-24/
LOCATION:The Corner Coworking\, 225 Railway Street E\, Cochrane
CATEGORIES:Business,Community,Learning,Networking
ATTACH;FMTTYPE=image/jpeg:https://urbancasual.ca/wp-content/uploads/2025/05/3-START-UP-1640-X-850.jpg
END:VEVENT
BEGIN:VEVENT
DTSTART;TZID=America/Edmonton:20260324T190000
DTEND;TZID=America/Edmonton:20260324T210000
DTSTAMP:20260419T082825
CREATED:20240618T152427Z
LAST-MODIFIED:20240619T174110Z
UID:10028808-1774378800-1774386000@urbancasual.ca
SUMMARY:Rockyview Hotel - Learn to line dance
DESCRIPTION:THE ROCKYVIEW HOTEL | EST’D IN 1904 – Celebrating 120 years in Historic Downtown. \n+ Dance the night away at the @texasgate.cochrane ! \n+ Tuesdays – learn to line dance\, 7pm\n+ Thursdays – karaoke\, 8pm\n+ Fridays / Saturdays – all request DJ\, 10pm\n+ Sundays – All day free pool! \nTo book your stay & for more info: rockyviewhotel.ca \n  \n\n\n  \n\n\n\n\n\n\n\n\n\n\nView this post on Instagram\n\n\n\n\n\n\n\n\n\n\n\n\n\n\n\n\n\n\n\n\n\n\n  \nA post shared by Urban Casual Cochrane (@urbancasual.ca)
URL:https://urbancasual.ca/cochrane-event/rockyview-hotel-learn-to-line-dance/2026-03-24/
LOCATION:Rockyview Hotel
CATEGORIES:Business,Downtown,Hotel,Pub/Bar Event,Restaurant
ATTACH;FMTTYPE=image/jpeg:https://urbancasual.ca/wp-content/uploads/2024/06/305308494_488593543275767_6866078460144404837_n.jpg
END:VEVENT
END:VCALENDAR