BEGIN:VCALENDAR
VERSION:2.0
PRODID:-//Urbancasual.ca - ECPv6.15.20//NONSGML v1.0//EN
CALSCALE:GREGORIAN
METHOD:PUBLISH
X-WR-CALNAME:Urbancasual.ca
X-ORIGINAL-URL:https://urbancasual.ca
X-WR-CALDESC:Events for Urbancasual.ca
REFRESH-INTERVAL;VALUE=DURATION:PT1H
X-Robots-Tag:noindex
X-PUBLISHED-TTL:PT1H
BEGIN:VTIMEZONE
TZID:America/Edmonton
BEGIN:DAYLIGHT
TZOFFSETFROM:-0700
TZOFFSETTO:-0600
TZNAME:MDT
DTSTART:20250309T090000
END:DAYLIGHT
BEGIN:STANDARD
TZOFFSETFROM:-0600
TZOFFSETTO:-0700
TZNAME:MST
DTSTART:20251102T080000
END:STANDARD
BEGIN:DAYLIGHT
TZOFFSETFROM:-0700
TZOFFSETTO:-0600
TZNAME:MDT
DTSTART:20260308T090000
END:DAYLIGHT
BEGIN:STANDARD
TZOFFSETFROM:-0600
TZOFFSETTO:-0700
TZNAME:MST
DTSTART:20261101T080000
END:STANDARD
BEGIN:DAYLIGHT
TZOFFSETFROM:-0700
TZOFFSETTO:-0600
TZNAME:MDT
DTSTART:20270314T090000
END:DAYLIGHT
BEGIN:STANDARD
TZOFFSETFROM:-0600
TZOFFSETTO:-0700
TZNAME:MST
DTSTART:20271107T080000
END:STANDARD
END:VTIMEZONE
BEGIN:VEVENT
DTSTART;TZID=America/Edmonton:20260321T090000
DTEND;TZID=America/Edmonton:20260321T110000
DTSTAMP:20260419T232028
CREATED:20260319T150005Z
LAST-MODIFIED:20260319T150055Z
UID:10048269-1774083600-1774090800@urbancasual.ca
SUMMARY:Silent Book Club
DESCRIPTION:Register HERE & welcome to introvert happy hour! Learn more about Silent Book Club – hosted by Mortgages by Melanie
URL:https://urbancasual.ca/cochrane-event/silent-book-club-june-21-2025-2/2026-03-21/
LOCATION:Found Book Shop\, 206 1st Street W\, Cochrane\, AB
CATEGORIES:Book Club,Business,Community,Entertainment & Games
ATTACH;FMTTYPE=image/png:https://urbancasual.ca/wp-content/uploads/2025/05/silent_book_club.png
END:VEVENT
BEGIN:VEVENT
DTSTART;TZID=America/Edmonton:20260321T100000
DTEND;TZID=America/Edmonton:20260321T170000
DTSTAMP:20260419T232028
CREATED:20260310T173516Z
LAST-MODIFIED:20260310T173516Z
UID:10056608-1774087200-1774112400@urbancasual.ca
SUMMARY:Blowout Sale at the Lions Club Event Centre
DESCRIPTION:Mark your calendar for Saturday March 21st\, 10-5pm and come get some AMAZING deals at our blowout Sale! We are clearing out overstock of decorated samples\, blank t shirts\, hoodies\, hats and so much more!We even have sublimation blanks and prints (DTF and Silk screen) for DIY Crafters.Cash/Debit. Bring your own bag!
URL:https://urbancasual.ca/cochrane-event/blowout-sale-at-the-lions-club-event-centre/
LOCATION:The Lions Event Centre\, 109 5th Avenue\, Cochrane\, Alberta\, Canada
CATEGORIES:Business,LIONS EVENTS CENTRE,Sale,Shopping
ATTACH;FMTTYPE=image/jpeg:https://urbancasual.ca/wp-content/uploads/2026/03/648792989_1707288196916503_2447312512079106675_n.jpg
END:VEVENT
BEGIN:VEVENT
DTSTART;TZID=America/Edmonton:20260321T143000
DTEND;TZID=America/Edmonton:20260321T230000
DTSTAMP:20260419T232028
CREATED:20260219T160624Z
LAST-MODIFIED:20260319T165117Z
UID:10054681-1774103400-1774134000@urbancasual.ca
SUMMARY:10th Anniversary Party & New Beer Launch at Rocky View Brewing Company
DESCRIPTION:Get ready to raise a glass and celebrate!  Join us for a fantastic 10-year milestone of Rocky View Brewing Company!\n\nWe’re thrilled to unveil our brand-new beer\, and the excitement kicks off with live music starting at 2:30 PM!\n\nPlus\, don’t miss out on thrilling giveaways throughout the day.\n\nIt’s going to be an unforgettable celebration—come join the fun! 
URL:https://urbancasual.ca/cochrane-event/save-the-date-new-beer-release-rocky-view-brewing/
LOCATION:Rocky View Taproom\, 420 1st Street\, Cochrane\, AB
CATEGORIES:Anniversary,Business,Downtown,Entertainment & Games,Family Friendly,Launch,Pub/Bar Event,Restaurant
ATTACH;FMTTYPE=image/jpeg:https://urbancasual.ca/wp-content/uploads/2026/02/649354969_1596495865272161_942686401895692173_n.jpg
END:VEVENT
BEGIN:VEVENT
DTSTART;TZID=America/Edmonton:20260321T180000
DTEND;TZID=America/Edmonton:20260321T210000
DTSTAMP:20260419T232028
CREATED:20241219T180111Z
LAST-MODIFIED:20260312T155218Z
UID:10032375-1774116000-1774126800@urbancasual.ca
SUMMARY:LIVE music Saturdays at Rocky View Brewing
DESCRIPTION:  \n  \n  \nLive music Saturdays in the taproom starting at 6pm. \n  \n  \n  \n  \n  \n  \n 
URL:https://urbancasual.ca/cochrane-event/live-music-saturdays-at-rocky-view-brewing-9-15-2-2/2026-03-21/
LOCATION:Rocky View Taproom\, 420 1st Street\, Cochrane\, AB
CATEGORIES:Business,Downtown,Entertainment & Games,Music,Pub/Bar Event,Restaurant
ATTACH;FMTTYPE=image/jpeg:https://urbancasual.ca/wp-content/uploads/2024/07/241712073_342240897364337_6168788210147837504_n-3.jpg
END:VEVENT
BEGIN:VEVENT
DTSTART;TZID=America/Edmonton:20260321T220000
DTEND;TZID=America/Edmonton:20260321T233000
DTSTAMP:20260419T232028
CREATED:20240917T161425Z
LAST-MODIFIED:20240917T161426Z
UID:10030985-1774130400-1774135800@urbancasual.ca
SUMMARY:The Rockyview Hotel - All Request DJ
DESCRIPTION:THE ROCKYVIEW HOTEL | EST’D IN 1904 – Celebrating 120 years in Historic Downtown. \n+ Dance the night away at the @texasgate.cochrane ! \n+ Tuesdays – learn to line dance\, 7pm\n+ Thursdays – karaoke\, 8pm\n+ Fridays / Saturdays – all request DJ\, 10pm +\n+ Sundays – All day free pool! \nTo book your stay & for more info: rockyviewhotel.ca \n  \n  \n  \n\n\n  \n\n\n\n\n\n\n\n\n\n\nView this post on Instagram\n\n\n\n\n\n\n\n\n\n\n\n\n\n\n\n\n\n\n\n\n\n\n  \nA post shared by Urban Casual Cochrane (@urbancasual.ca)
URL:https://urbancasual.ca/cochrane-event/the-rockyview-hotel-all-request-dj-2/2026-03-21/
LOCATION:Rockyview Hotel
CATEGORIES:Business,Downtown,Entertainment & Games,Pub/Bar Event,Restaurant
ATTACH;FMTTYPE=image/jpeg:https://urbancasual.ca/wp-content/uploads/2024/06/305308494_488593543275767_6866078460144404837_n.jpg
END:VEVENT
END:VCALENDAR