BEGIN:VCALENDAR
VERSION:2.0
PRODID:-//Urbancasual.ca - ECPv6.15.20//NONSGML v1.0//EN
CALSCALE:GREGORIAN
METHOD:PUBLISH
X-WR-CALNAME:Urbancasual.ca
X-ORIGINAL-URL:https://urbancasual.ca
X-WR-CALDESC:Events for Urbancasual.ca
REFRESH-INTERVAL;VALUE=DURATION:PT1H
X-Robots-Tag:noindex
X-PUBLISHED-TTL:PT1H
BEGIN:VTIMEZONE
TZID:America/Edmonton
BEGIN:DAYLIGHT
TZOFFSETFROM:-0700
TZOFFSETTO:-0600
TZNAME:MDT
DTSTART:20250309T090000
END:DAYLIGHT
BEGIN:STANDARD
TZOFFSETFROM:-0600
TZOFFSETTO:-0700
TZNAME:MST
DTSTART:20251102T080000
END:STANDARD
BEGIN:DAYLIGHT
TZOFFSETFROM:-0700
TZOFFSETTO:-0600
TZNAME:MDT
DTSTART:20260308T090000
END:DAYLIGHT
BEGIN:STANDARD
TZOFFSETFROM:-0600
TZOFFSETTO:-0700
TZNAME:MST
DTSTART:20261101T080000
END:STANDARD
BEGIN:DAYLIGHT
TZOFFSETFROM:-0700
TZOFFSETTO:-0600
TZNAME:MDT
DTSTART:20270314T090000
END:DAYLIGHT
BEGIN:STANDARD
TZOFFSETFROM:-0600
TZOFFSETTO:-0700
TZNAME:MST
DTSTART:20271107T080000
END:STANDARD
END:VTIMEZONE
BEGIN:VEVENT
DTSTART;TZID=America/Edmonton:20260314T140000
DTEND;TZID=America/Edmonton:20260314T160000
DTSTAMP:20260420T020215
CREATED:20260304T010720Z
LAST-MODIFIED:20260304T010720Z
UID:10056306-1773496800-1773504000@urbancasual.ca
SUMMARY:POLAR PLUNGE FUNDRAISER
DESCRIPTION:🦁❄️ LION HEAD PUB STAFF ARE TAKING THE POLAR PLUNGE! ❄️🦁 \nOn Saturday\, March 14th\, our team will be braving the icy waters at Riverfront Park in Cochrane to raise funds for an incredible cause. \nWe’re jumping in to support Wayfinders Wellness Society\, helping: \n🇨🇦 First Responders\n🇨🇦 Military Members\n🇨🇦 Veterans\n🇨🇦 Their families\nAll affected by PTSD \nThis is bigger than us. It’s about standing behind the people who stand for all of us. \nIf you’d like to support: \n✅ Scan the QR code on the poster\n✅ Reserve a donation spot\n✅ Or send an e-transfer to: treasurer@wayfinderswellness.ca \nCome down to Riverfront Park from 2PM – 4PM and cheer us on as we make some waves for mental wellness 💙 \nCommunity Strong. Lion Strong. \n#LionHeadPub\n#PolarPlunge\n#SupportOurFirstResponders\n#SupportOurVeterans\n#CochraneAB\n#MentalWellnessMatters
URL:https://urbancasual.ca/cochrane-event/polar-plunge-fundraiser/
LOCATION:AB
CATEGORIES:advocacy,Business,Community,Fundraiser,Mental Health,Restaurant
ATTACH;FMTTYPE=image/jpeg:https://urbancasual.ca/wp-content/uploads/2026/03/inbound1858194297877946661.jpg
END:VEVENT
BEGIN:VEVENT
DTSTART;TZID=America/Edmonton:20260314T180000
DTEND;TZID=America/Edmonton:20260314T210000
DTSTAMP:20260420T020215
CREATED:20241219T180111Z
LAST-MODIFIED:20260312T155218Z
UID:10032374-1773511200-1773522000@urbancasual.ca
SUMMARY:LIVE music Saturdays at Rocky View Brewing
DESCRIPTION:  \n  \n  \nLive music Saturdays in the taproom starting at 6pm. \n  \n  \n  \n  \n  \n  \n 
URL:https://urbancasual.ca/cochrane-event/live-music-saturdays-at-rocky-view-brewing-9-15-2-2/2026-03-14/
LOCATION:Rocky View Taproom\, 420 1st Street\, Cochrane\, AB
CATEGORIES:Business,Downtown,Entertainment & Games,Music,Pub/Bar Event,Restaurant
ATTACH;FMTTYPE=image/jpeg:https://urbancasual.ca/wp-content/uploads/2024/07/241712073_342240897364337_6168788210147837504_n-3.jpg
END:VEVENT
BEGIN:VEVENT
DTSTART;TZID=America/Edmonton:20260314T220000
DTEND;TZID=America/Edmonton:20260314T233000
DTSTAMP:20260420T020215
CREATED:20240917T161425Z
LAST-MODIFIED:20240917T161426Z
UID:10030983-1773525600-1773531000@urbancasual.ca
SUMMARY:The Rockyview Hotel - All Request DJ
DESCRIPTION:THE ROCKYVIEW HOTEL | EST’D IN 1904 – Celebrating 120 years in Historic Downtown. \n+ Dance the night away at the @texasgate.cochrane ! \n+ Tuesdays – learn to line dance\, 7pm\n+ Thursdays – karaoke\, 8pm\n+ Fridays / Saturdays – all request DJ\, 10pm +\n+ Sundays – All day free pool! \nTo book your stay & for more info: rockyviewhotel.ca \n  \n  \n  \n\n\n  \n\n\n\n\n\n\n\n\n\n\nView this post on Instagram\n\n\n\n\n\n\n\n\n\n\n\n\n\n\n\n\n\n\n\n\n\n\n  \nA post shared by Urban Casual Cochrane (@urbancasual.ca)
URL:https://urbancasual.ca/cochrane-event/the-rockyview-hotel-all-request-dj-2/2026-03-14/
LOCATION:Rockyview Hotel
CATEGORIES:Business,Downtown,Entertainment & Games,Pub/Bar Event,Restaurant
ATTACH;FMTTYPE=image/jpeg:https://urbancasual.ca/wp-content/uploads/2024/06/305308494_488593543275767_6866078460144404837_n.jpg
END:VEVENT
END:VCALENDAR