BEGIN:VCALENDAR
VERSION:2.0
PRODID:-//Urbancasual.ca - ECPv6.15.20//NONSGML v1.0//EN
CALSCALE:GREGORIAN
METHOD:PUBLISH
X-ORIGINAL-URL:https://urbancasual.ca
X-WR-CALDESC:Events for Urbancasual.ca
REFRESH-INTERVAL;VALUE=DURATION:PT1H
X-Robots-Tag:noindex
X-PUBLISHED-TTL:PT1H
BEGIN:VTIMEZONE
TZID:America/Edmonton
BEGIN:DAYLIGHT
TZOFFSETFROM:-0700
TZOFFSETTO:-0600
TZNAME:MDT
DTSTART:20240310T090000
END:DAYLIGHT
BEGIN:STANDARD
TZOFFSETFROM:-0600
TZOFFSETTO:-0700
TZNAME:MST
DTSTART:20241103T080000
END:STANDARD
BEGIN:DAYLIGHT
TZOFFSETFROM:-0700
TZOFFSETTO:-0600
TZNAME:MDT
DTSTART:20250309T090000
END:DAYLIGHT
BEGIN:STANDARD
TZOFFSETFROM:-0600
TZOFFSETTO:-0700
TZNAME:MST
DTSTART:20251102T080000
END:STANDARD
BEGIN:DAYLIGHT
TZOFFSETFROM:-0700
TZOFFSETTO:-0600
TZNAME:MDT
DTSTART:20260308T090000
END:DAYLIGHT
BEGIN:STANDARD
TZOFFSETFROM:-0600
TZOFFSETTO:-0700
TZNAME:MST
DTSTART:20261101T080000
END:STANDARD
END:VTIMEZONE
BEGIN:VEVENT
DTSTART;TZID=America/Edmonton:20251206T100000
DTEND;TZID=America/Edmonton:20251206T150000
DTSTAMP:20260424T163441
CREATED:20251106T174353Z
LAST-MODIFIED:20251106T174353Z
UID:10051158-1765015200-1765033200@urbancasual.ca
SUMMARY:STUFF THE VAN
DESCRIPTION:We’re on a mission to stuff the van full of donations for our furry friends at the Cochrane and Area Humane Society!\nHow can you help:Bring pet food\, toys\, treats\, blankets and supplies – or shop in-store and help fill the van!\n\nEVERY little bit helps give the animals the love and care they deserve.\n\nLet’s show some local love\, fill that van\, and make a real difference for the pets waiting for their furever homes.
URL:https://urbancasual.ca/cochrane-event/stuff-the-van/
LOCATION:PET VALU COCHRANE\, 55 BOW STREET COMMON\, COCHRANE
CATEGORIES:advocacy,Animals,Business,Community,Fundraiser,HOLIDAY FUN,Pets
ATTACH;FMTTYPE=image/jpeg:https://urbancasual.ca/wp-content/uploads/2025/11/577025172_1448570760612435_3477537631809153627_n.jpg
END:VEVENT
BEGIN:VEVENT
DTSTART;TZID=America/Edmonton:20251206T100000
DTEND;TZID=America/Edmonton:20251206T180000
DTSTAMP:20260424T163441
CREATED:20251106T183653Z
LAST-MODIFIED:20251106T183653Z
UID:10051162-1765015200-1765044000@urbancasual.ca
SUMMARY:Cochrane Lions Club Christmas Market
DESCRIPTION:
URL:https://urbancasual.ca/cochrane-event/cochrane-lions-club-christmas-market/2025-12-06/
LOCATION:The Lions Event Centre\, 109 5th Avenue\, Cochrane\, Alberta\, Canada
CATEGORIES:Business,Entertainment & Games,Family Friendly,HOLIDAY FUN,HOLIDAY MARKET 2025,LIONS EVENTS CENTRE,Market,Shopping
ATTACH;FMTTYPE=image/jpeg:https://urbancasual.ca/wp-content/uploads/2025/11/inbound7482814921391869427.jpg
END:VEVENT
BEGIN:VEVENT
DTSTART;TZID=America/Edmonton:20251206T100000
DTEND;TZID=America/Edmonton:20251206T190000
DTSTAMP:20260424T163441
CREATED:20250820T235207Z
LAST-MODIFIED:20250820T235207Z
UID:10050235-1765015200-1765047600@urbancasual.ca
SUMMARY:BEARSPAW CHRISTMAS MARKET
DESCRIPTION:
URL:https://urbancasual.ca/cochrane-event/bearspaw-christmas-market/2025-12-06/
LOCATION:Bearspaw Lifestyle Centre
CATEGORIES:Bearspaw,Business,HOLIDAY MARKET 2025,Market,Shopping
ATTACH;FMTTYPE=image/jpeg:https://urbancasual.ca/wp-content/uploads/2025/08/494446540_1654382482135371_1810479703318832526_n-1.jpg
END:VEVENT
BEGIN:VEVENT
DTSTART;TZID=America/Edmonton:20251206T130000
DTEND;TZID=America/Edmonton:20251206T150000
DTSTAMP:20260424T163441
CREATED:20251119T185003Z
LAST-MODIFIED:20251119T185003Z
UID:10051216-1765026000-1765033200@urbancasual.ca
SUMMARY:Holiday Doorstep Arrangment with Elaine
DESCRIPTION:Come and create a fabulous arrangement of seasonal greens\, branches\, pinecones\, and holiday glamour!\n\nParticipants will fill a 12″ pot of their own with a combination of seasonally available materials. We will show you inspiring combinations to try and guide you in creating your own masterpiece. The instructor will also share suggestions for keeping your arrangement looking lovely throughout the holidays!\n\nAll supplies are included to make a beautiful arrangement\, except for the 12″ pot. Attendees may purchase a pot and/or any additional decorations if they wish to add to their arrangement prior to class. Please arrive at least 15 minutes prior to the class if purchasing a pot.\n\nYou will need to bring a 12″ pot\, apron\, pruners\, and gloves (or purchase on site before the workshop starts). You may also want to bring something to protect your car seat as these arrangements are a little messy to transport.\n\nInstructor: Elaine Rude\n\nRegistration for this workshop will close on Tuesday\, December 2\, 2025.\n\nCost: $82.50 for Society members and $105 for non-member (plus GST). Not a member? Join us and save! (https://bit.ly/385lSac) Discounts on workshops is just one of the many benefits of being a Society member.\n\nIf you have questions\, please call 403.287.3469 ext. 0 or email office@calhort.org.
URL:https://urbancasual.ca/cochrane-event/holiday-doorstep-arrangment-with-elaine/
CATEGORIES:Business,Crafts,Learning
ATTACH;FMTTYPE=image/jpeg:https://urbancasual.ca/wp-content/uploads/2025/11/577821394_814527667864621_3572401336713454690_n.jpg
END:VEVENT
BEGIN:VEVENT
DTSTART;TZID=America/Edmonton:20251206T180000
DTEND;TZID=America/Edmonton:20251206T210000
DTSTAMP:20260424T163441
CREATED:20241219T180111Z
LAST-MODIFIED:20260312T155218Z
UID:10032360-1765044000-1765054800@urbancasual.ca
SUMMARY:LIVE music Saturdays at Rocky View Brewing
DESCRIPTION:  \n  \n  \nLive music Saturdays in the taproom starting at 6pm. \n  \n  \n  \n  \n  \n  \n 
URL:https://urbancasual.ca/cochrane-event/live-music-saturdays-at-rocky-view-brewing-9-15-2-2/2025-12-06/
LOCATION:Rocky View Taproom\, 420 1st Street\, Cochrane\, AB
CATEGORIES:Business,Downtown,Entertainment & Games,Music,Pub/Bar Event,Restaurant
ATTACH;FMTTYPE=image/jpeg:https://urbancasual.ca/wp-content/uploads/2024/07/241712073_342240897364337_6168788210147837504_n-3.jpg
END:VEVENT
BEGIN:VEVENT
DTSTART;TZID=America/Edmonton:20251206T220000
DTEND;TZID=America/Edmonton:20251206T233000
DTSTAMP:20260424T163441
CREATED:20240917T161425Z
LAST-MODIFIED:20240917T161426Z
UID:10030955-1765058400-1765063800@urbancasual.ca
SUMMARY:The Rockyview Hotel - All Request DJ
DESCRIPTION:THE ROCKYVIEW HOTEL | EST’D IN 1904 – Celebrating 120 years in Historic Downtown. \n+ Dance the night away at the @texasgate.cochrane ! \n+ Tuesdays – learn to line dance\, 7pm\n+ Thursdays – karaoke\, 8pm\n+ Fridays / Saturdays – all request DJ\, 10pm +\n+ Sundays – All day free pool! \nTo book your stay & for more info: rockyviewhotel.ca \n  \n  \n  \n\n\n  \n\n\n\n\n\n\n\n\n\n\nView this post on Instagram\n\n\n\n\n\n\n\n\n\n\n\n\n\n\n\n\n\n\n\n\n\n\n  \nA post shared by Urban Casual Cochrane (@urbancasual.ca)
URL:https://urbancasual.ca/cochrane-event/the-rockyview-hotel-all-request-dj-2/2025-12-06/
LOCATION:Rockyview Hotel
CATEGORIES:Business,Downtown,Entertainment & Games,Pub/Bar Event,Restaurant
ATTACH;FMTTYPE=image/jpeg:https://urbancasual.ca/wp-content/uploads/2024/06/305308494_488593543275767_6866078460144404837_n.jpg
END:VEVENT
END:VCALENDAR