BEGIN:VCALENDAR
VERSION:2.0
PRODID:-//Urbancasual.ca - ECPv6.15.20//NONSGML v1.0//EN
CALSCALE:GREGORIAN
METHOD:PUBLISH
X-WR-CALNAME:Urbancasual.ca
X-ORIGINAL-URL:https://urbancasual.ca
X-WR-CALDESC:Events for Urbancasual.ca
REFRESH-INTERVAL;VALUE=DURATION:PT1H
X-Robots-Tag:noindex
X-PUBLISHED-TTL:PT1H
BEGIN:VTIMEZONE
TZID:America/Edmonton
BEGIN:DAYLIGHT
TZOFFSETFROM:-0700
TZOFFSETTO:-0600
TZNAME:MDT
DTSTART:20230312T090000
END:DAYLIGHT
BEGIN:STANDARD
TZOFFSETFROM:-0600
TZOFFSETTO:-0700
TZNAME:MST
DTSTART:20231105T080000
END:STANDARD
BEGIN:DAYLIGHT
TZOFFSETFROM:-0700
TZOFFSETTO:-0600
TZNAME:MDT
DTSTART:20240310T090000
END:DAYLIGHT
BEGIN:STANDARD
TZOFFSETFROM:-0600
TZOFFSETTO:-0700
TZNAME:MST
DTSTART:20241103T080000
END:STANDARD
BEGIN:DAYLIGHT
TZOFFSETFROM:-0700
TZOFFSETTO:-0600
TZNAME:MDT
DTSTART:20250309T090000
END:DAYLIGHT
BEGIN:STANDARD
TZOFFSETFROM:-0600
TZOFFSETTO:-0700
TZNAME:MST
DTSTART:20251102T080000
END:STANDARD
END:VTIMEZONE
BEGIN:VEVENT
DTSTART;TZID=America/Edmonton:20241025T190000
DTEND;TZID=America/Edmonton:20241025T223000
DTSTAMP:20260424T202132
CREATED:20241003T030336Z
LAST-MODIFIED:20241015T183202Z
UID:10036562-1729882800-1729895400@urbancasual.ca
SUMMARY:Halloween Bowling Tournament
DESCRIPTION:8th Annual Halloween Tournament! \nHappy Hour all night! \nWear your best Halloween costume\, prizes to be awarded for best costumes. \n3 games of No Tap bowling (leave a corner pin your first shot it counts as a strike) \nPoints over average scoring; you can still join without being a league bowler! An average will be assigned to you. \nCash prizes for top bowlers!
URL:https://urbancasual.ca/cochrane-event/halloween-bowling-tournament/2024-10-25/
LOCATION:Cochrane Lanes\, 402 Railway Street West #Suite 11\, Cochrane\, Alberta\, T4C 2B6\, Canada
CATEGORIES:Bowling,Business,Downtown,Entertainment & Games,Family Friendly,HALLOWEEN 2024,Sports
ATTACH;FMTTYPE=image/jpeg:https://urbancasual.ca/wp-content/uploads/2024/10/IMG_8815-1-scaled.jpeg
END:VEVENT
BEGIN:VEVENT
DTSTART;TZID=America/Edmonton:20241026T160000
DTEND;TZID=America/Edmonton:20241026T190000
DTSTAMP:20260424T202132
CREATED:20241003T030336Z
LAST-MODIFIED:20241015T183202Z
UID:10036563-1729958400-1729969200@urbancasual.ca
SUMMARY:Halloween Bowling Tournament
DESCRIPTION:8th Annual Halloween Tournament! \nHappy Hour all night! \nWear your best Halloween costume\, prizes to be awarded for best costumes. \n3 games of No Tap bowling (leave a corner pin your first shot it counts as a strike) \nPoints over average scoring; you can still join without being a league bowler! An average will be assigned to you. \nCash prizes for top bowlers!
URL:https://urbancasual.ca/cochrane-event/halloween-bowling-tournament/2024-10-26/1/
LOCATION:Cochrane Lanes\, 402 Railway Street West #Suite 11\, Cochrane\, Alberta\, T4C 2B6\, Canada
CATEGORIES:Bowling,Business,Downtown,Entertainment & Games,Family Friendly,HALLOWEEN 2024,Sports
ATTACH;FMTTYPE=image/jpeg:https://urbancasual.ca/wp-content/uploads/2024/10/IMG_8815-1-scaled.jpeg
END:VEVENT
BEGIN:VEVENT
DTSTART;TZID=America/Edmonton:20241026T190000
DTEND;TZID=America/Edmonton:20241026T223000
DTSTAMP:20260424T202132
CREATED:20241003T030336Z
LAST-MODIFIED:20241015T183202Z
UID:10036212-1729969200-1729981800@urbancasual.ca
SUMMARY:Halloween Bowling Tournament
DESCRIPTION:8th Annual Halloween Tournament! \nHappy Hour all night! \nWear your best Halloween costume\, prizes to be awarded for best costumes. \n3 games of No Tap bowling (leave a corner pin your first shot it counts as a strike) \nPoints over average scoring; you can still join without being a league bowler! An average will be assigned to you. \nCash prizes for top bowlers!
URL:https://urbancasual.ca/cochrane-event/halloween-bowling-tournament/2024-10-26/2/
LOCATION:Cochrane Lanes\, 402 Railway Street West #Suite 11\, Cochrane\, Alberta\, T4C 2B6\, Canada
CATEGORIES:Bowling,Business,Downtown,Entertainment & Games,Family Friendly,HALLOWEEN 2024,Sports
ATTACH;FMTTYPE=image/jpeg:https://urbancasual.ca/wp-content/uploads/2024/10/IMG_8815-1-scaled.jpeg
END:VEVENT
END:VCALENDAR