BEGIN:VCALENDAR
VERSION:2.0
PRODID:-//Urbancasual.ca - ECPv6.15.20//NONSGML v1.0//EN
CALSCALE:GREGORIAN
METHOD:PUBLISH
X-WR-CALNAME:Urbancasual.ca
X-ORIGINAL-URL:https://urbancasual.ca
X-WR-CALDESC:Events for Urbancasual.ca
REFRESH-INTERVAL;VALUE=DURATION:PT1H
X-Robots-Tag:noindex
X-PUBLISHED-TTL:PT1H
BEGIN:VTIMEZONE
TZID:America/Edmonton
BEGIN:DAYLIGHT
TZOFFSETFROM:-0700
TZOFFSETTO:-0600
TZNAME:MDT
DTSTART:20240310T090000
END:DAYLIGHT
BEGIN:STANDARD
TZOFFSETFROM:-0600
TZOFFSETTO:-0700
TZNAME:MST
DTSTART:20241103T080000
END:STANDARD
BEGIN:DAYLIGHT
TZOFFSETFROM:-0700
TZOFFSETTO:-0600
TZNAME:MDT
DTSTART:20250309T090000
END:DAYLIGHT
BEGIN:STANDARD
TZOFFSETFROM:-0600
TZOFFSETTO:-0700
TZNAME:MST
DTSTART:20251102T080000
END:STANDARD
BEGIN:DAYLIGHT
TZOFFSETFROM:-0700
TZOFFSETTO:-0600
TZNAME:MDT
DTSTART:20260308T090000
END:DAYLIGHT
BEGIN:STANDARD
TZOFFSETFROM:-0600
TZOFFSETTO:-0700
TZNAME:MST
DTSTART:20261101T080000
END:STANDARD
BEGIN:DAYLIGHT
TZOFFSETFROM:-0700
TZOFFSETTO:-0600
TZNAME:MDT
DTSTART:20270314T090000
END:DAYLIGHT
BEGIN:STANDARD
TZOFFSETFROM:-0600
TZOFFSETTO:-0700
TZNAME:MST
DTSTART:20271107T080000
END:STANDARD
END:VTIMEZONE
BEGIN:VEVENT
DTSTART;TZID=America/Edmonton:20250509T163000
DTEND;TZID=America/Edmonton:20250509T190000
DTSTAMP:20260425T050231
CREATED:20250508T211247Z
LAST-MODIFIED:20250508T220701Z
UID:10048010-1746808200-1746817200@urbancasual.ca
SUMMARY:FOOD TRUCK PARTY
DESCRIPTION:Its your turn Heartland community!!! This friday we are coming to your community by Appaloosa Gdns and Paint horse park for our famous\n\n\n\n\n\nFOOD TRUCK PARTY!!!!\n\n\n\n\n\nTime : 16:30-19:00 ( or later if still busy)\n\n\n\n\n\nSaturday night we will be in BOW RIDGE Community By the baseball diamond\n\n\nTime: 16:30-19:00 ( or later if still busy)\n\n\n\n\n\nMiss Poutine Food Truck\n\n\nMister Puffs Delight\n\n\nEl Nopal Tacos and More in Cochrane\, Alberta\n\n\nWannawafel – Calgary\n\n\n\n\n\nCome see us!!!
URL:https://urbancasual.ca/cochrane-event/food-truck-party/2025-05-09/
CATEGORIES:Bow Ridge,Business,Community,Food,Food Truck,Heartland
ATTACH;FMTTYPE=image/jpeg:https://urbancasual.ca/wp-content/uploads/2025/04/inbound6875561641206142094-e1746742009390.jpg
END:VEVENT
BEGIN:VEVENT
DTSTART;TZID=America/Edmonton:20250510T163000
DTEND;TZID=America/Edmonton:20250510T190000
DTSTAMP:20260425T050231
CREATED:20250508T211247Z
LAST-MODIFIED:20250508T220701Z
UID:10048011-1746894600-1746903600@urbancasual.ca
SUMMARY:FOOD TRUCK PARTY
DESCRIPTION:Its your turn Heartland community!!! This friday we are coming to your community by Appaloosa Gdns and Paint horse park for our famous\n\n\n\n\n\nFOOD TRUCK PARTY!!!!\n\n\n\n\n\nTime : 16:30-19:00 ( or later if still busy)\n\n\n\n\n\nSaturday night we will be in BOW RIDGE Community By the baseball diamond\n\n\nTime: 16:30-19:00 ( or later if still busy)\n\n\n\n\n\nMiss Poutine Food Truck\n\n\nMister Puffs Delight\n\n\nEl Nopal Tacos and More in Cochrane\, Alberta\n\n\nWannawafel – Calgary\n\n\n\n\n\nCome see us!!!
URL:https://urbancasual.ca/cochrane-event/food-truck-party/2025-05-10/
CATEGORIES:Bow Ridge,Business,Community,Food,Food Truck,Heartland
ATTACH;FMTTYPE=image/jpeg:https://urbancasual.ca/wp-content/uploads/2025/04/inbound6875561641206142094-e1746742009390.jpg
END:VEVENT
BEGIN:VEVENT
DTSTART;TZID=America/Edmonton:20260425T100000
DTEND;TZID=America/Edmonton:20260425T120000
DTSTAMP:20260425T050231
CREATED:20260409T161606Z
LAST-MODIFIED:20260409T162738Z
UID:10059169-1777111200-1777118400@urbancasual.ca
SUMMARY:Cochrane Food Drive
DESCRIPTION:🥫 Food Drive Announcement – Mark Your Calendars! 🥫 \nOur Spring community food drive is just around the corner! \n📅 Collection Day: Saturday\, April 25 at 10 AM \nOur amazing volunteers will be out collecting donations from:\nFireside\, Bow Meadows\, Bow Ridge\, Crawford Ranch\, Jumping Pound\, West Terrace\, West Valley\, West Pointe\, Heartland\, Heritage Hills\, and Harmony. \n💙 Your support helps us provide food and care to individuals and families right here in our community. \n👉 Start setting aside your non-perishable items and help us make a difference! \n📢 Please share to help spread the word! \n#CochraneCares #FoodDrive #CommunitySupport #GiveBack #TogetherWeCan #CochraneFoodBank #Cochrane
URL:https://urbancasual.ca/cochrane-event/cochrane-food-drive-april-2026/
CATEGORIES:Bow Meadows,Bow Ridge,Community,Crawford Ranch,Fireside,Food Drive,Health & Wellness,Heartland,Heritage Hills,Jumping Pound Ridge,Town of Cochrane,Volunteer,West Pointe,West Terrace,West Valley
ATTACH;FMTTYPE=image/jpeg:https://urbancasual.ca/wp-content/uploads/2026/04/inbound2591404480692429978.jpg
END:VEVENT
END:VCALENDAR