BEGIN:VCALENDAR
VERSION:2.0
PRODID:-//Urbancasual.ca - ECPv6.15.20//NONSGML v1.0//EN
CALSCALE:GREGORIAN
METHOD:PUBLISH
X-WR-CALNAME:Urbancasual.ca
X-ORIGINAL-URL:https://urbancasual.ca
X-WR-CALDESC:Events for Urbancasual.ca
REFRESH-INTERVAL;VALUE=DURATION:PT1H
X-Robots-Tag:noindex
X-PUBLISHED-TTL:PT1H
BEGIN:VTIMEZONE
TZID:America/Edmonton
BEGIN:DAYLIGHT
TZOFFSETFROM:-0700
TZOFFSETTO:-0600
TZNAME:MDT
DTSTART:20230312T090000
END:DAYLIGHT
BEGIN:STANDARD
TZOFFSETFROM:-0600
TZOFFSETTO:-0700
TZNAME:MST
DTSTART:20231105T080000
END:STANDARD
BEGIN:DAYLIGHT
TZOFFSETFROM:-0700
TZOFFSETTO:-0600
TZNAME:MDT
DTSTART:20240310T090000
END:DAYLIGHT
BEGIN:STANDARD
TZOFFSETFROM:-0600
TZOFFSETTO:-0700
TZNAME:MST
DTSTART:20241103T080000
END:STANDARD
BEGIN:DAYLIGHT
TZOFFSETFROM:-0700
TZOFFSETTO:-0600
TZNAME:MDT
DTSTART:20250309T090000
END:DAYLIGHT
BEGIN:STANDARD
TZOFFSETFROM:-0600
TZOFFSETTO:-0700
TZNAME:MST
DTSTART:20251102T080000
END:STANDARD
BEGIN:DAYLIGHT
TZOFFSETFROM:-0700
TZOFFSETTO:-0600
TZNAME:MDT
DTSTART:20260308T090000
END:DAYLIGHT
BEGIN:STANDARD
TZOFFSETFROM:-0600
TZOFFSETTO:-0700
TZNAME:MST
DTSTART:20261101T080000
END:STANDARD
END:VTIMEZONE
BEGIN:VEVENT
DTSTART;TZID=America/Edmonton:20250823T120000
DTEND;TZID=America/Edmonton:20250823T140000
DTSTAMP:20260423T205324
CREATED:20250707T165014Z
LAST-MODIFIED:20250707T165014Z
UID:10049625-1755950400-1755957600@urbancasual.ca
SUMMARY:FOUND: Book Signing and Reading with Author Cerys Thompson
DESCRIPTION:Let us know you are coming HERE! \nJoin us at Found Books & Shop for a book signing and reading with Author Cerys Thompson! \nCerys will be here from 12:00pm to 2:00pm with not just her new Children’s Book\, The Galloping Frog. Signed copies of the books will be available for purchase! \nWhile tickets are free\, we do appreicate an RSVP just so we know you are coming! \nWhen: Sat August 23rd\, 12:00pm-2:00pm\nWhere: Found Books & Shop\, 208 1st Street W\, Cochrane\, AB T4C 1B7\nCost: Nothing at all!
URL:https://urbancasual.ca/cochrane-event/found-book-signing-and-reading-with-author-cerys-thompson/
LOCATION:Found Book Shop\, 206 1st Street W\, Cochrane\, AB
CATEGORIES:Book Launch,Business,Community,Entertainment & Games,Family Friendly,Parents & Caregivers,Shopping
ATTACH;FMTTYPE=image/jpeg:https://urbancasual.ca/wp-content/uploads/2025/07/cerys2.jpg
END:VEVENT
BEGIN:VEVENT
DTSTART;TZID=America/Edmonton:20250607T190000
DTEND;TZID=America/Edmonton:20250607T210000
DTSTAMP:20260423T205324
CREATED:20250526T194756Z
LAST-MODIFIED:20250526T194756Z
UID:10048258-1749322800-1749330000@urbancasual.ca
SUMMARY:Book Launch with Author Lynsey Harper: Found With You
DESCRIPTION:RESERVE YOUR TICKETS HERE! \nJoin us at Found Books & Shop for a Book Launch with Author Lynsey Harper! Lysney will be with us for a night of author talks\, treats\, specialty cocktails\, and a cozy book signing to boot! Come hang out to learn all about Lynsey and her writing process\, and make sure to have your questions prepped for a Q&A. Books will be available for purchase on the evening of\, while supplies last. \nWhen: Sat June 7th\, 7-9:00pm (Doors Open 6:30pm) \nWhere: Found Books & Shop\, 208 1st Street W\, Cochrane\, AB T4C 1B7 \nCost: $5 (plus tax) for entry\, but this $5 goes directly towards the purchase of your copy of Found With You. \nAbout Found With You: \nShe hates his denim jeans. He hates her button nose.\nWhen Millie Adams steps off the bus in Braggan Valley with two suitcases and a backpack full of daddy issues\, finding love is the last thing on her mind. She’s here for a fresh start in the mountains—a chance to focus on herself and keep the pain of her past at bay. But the universe seems to have different plans.\nEnter\, Caden Thompson.\nHe’s grumpy\, he’s arrogant\, and he’s six foot four. With dirt on his hands and a mouth to match\, he’s the lodge’s resident fix-it man—and Millie’s latest problem. His own wounded past doesn’t exactly make him the settling-down type. He keeps it simple: no strings\, no complications\, no promises\, and he refuses to let himself want for anything more. Especially not with a girl like her. Yet\, as the summer progresses and Millie tries to find her way in the Canadian Rockies\, fate keeps finding ways to throw these two together—forcing them to face their broken parts and let down their walls\, whether they like it or not… \nYou don’t want to miss this one! Reserve your spot here!
URL:https://urbancasual.ca/cochrane-event/book-launch-with-author-lynsey-harper-found-with-you/
LOCATION:Found Book Shop\, 206 1st Street W\, Cochrane\, AB
CATEGORIES:Book Launch,Business,Community,Downtown,Entertainment & Games,Networking,Pub/Bar Event
ATTACH;FMTTYPE=image/png:https://urbancasual.ca/wp-content/uploads/2025/05/Lynsey_Harper_Event_June_7th_Square.png
END:VEVENT
BEGIN:VEVENT
DTSTART;TZID=America/Edmonton:20250521T180000
DTEND;TZID=America/Edmonton:20250521T190000
DTSTAMP:20260423T205324
CREATED:20250514T142418Z
LAST-MODIFIED:20250514T142418Z
UID:10048113-1747850400-1747854000@urbancasual.ca
SUMMARY:Inside the Writer's World: A Conversation with Shelly Campbell
DESCRIPTION:Discover the world of writing with local author Shelly Campbell. \nShelly writes speculative fiction and has a wealth of knowledge about the writing and publishing process. \nWhether you’re curious about worldbuilding\, self-publishing\, or the ins and outs of indie publishing\, Shelly is ready to share her insights and answer your questions. \nThis is your chance to connect with a local author and delve into the world of writing. \nRefreshments will be served. \nRegistration opens at 10:30am on Saturday\, April 5.
URL:https://urbancasual.ca/cochrane-event/inside-the-writers-world-a-conversation-with-shelly-campbell/
LOCATION:Cochrane Public Library\, 405 Railway Street W\, Cochrane\, Alberta
CATEGORIES:Book Launch,Learning,Workshop
ATTACH;FMTTYPE=image/png:https://urbancasual.ca/wp-content/uploads/2025/05/IMG_0484-2.png
END:VEVENT
BEGIN:VEVENT
DTSTART;TZID=America/Edmonton:20250503T190000
DTEND;TZID=America/Edmonton:20250503T210000
DTSTAMP:20260423T205324
CREATED:20250429T212936Z
LAST-MODIFIED:20250429T212936Z
UID:10047805-1746298800-1746306000@urbancasual.ca
SUMMARY:Cochrane Ecological Institute: Lorne Finch
DESCRIPTION:Upcoming event on May 3rd!\n\n\n\nJoin us for an evening with Lorne Fitch as he reads from his new book ‘Travels up the creek’ followed by questions.\n\n\n\nThis event is FREE! Books will be available for purchase and refreshments will be provided!\n\n\n\nWant to join us? Give us an email communications.cei@gmail.com or call us +1 (403) 688-0812; +1 (403) 932-5632.\n\n\n\nDetails are as follows:\n\nMay 3rd\, 7pm\, 51061 Township Road 280\, Cochrane\, AB\, T4C 1A7\n\n\n\nWe look forward to seeing you there!
URL:https://urbancasual.ca/cochrane-event/cochrane-ecological-institute-lorne-finch/
LOCATION:AB
CATEGORIES:advocacy,Book Launch,Environment,Learning
ATTACH;FMTTYPE=image/jpeg:https://urbancasual.ca/wp-content/uploads/2025/04/493829820_1080291847463084_8893178405237114335_n.jpg
END:VEVENT
BEGIN:VEVENT
DTSTART;TZID=America/Edmonton:20241116T120000
DTEND;TZID=America/Edmonton:20241116T140000
DTSTAMP:20260423T205324
CREATED:20241114T175552Z
LAST-MODIFIED:20241114T175552Z
UID:10037369-1731758400-1731765600@urbancasual.ca
SUMMARY:In the Cathedral of the Plains
DESCRIPTION:Alberta author\, Joan Young\, will be reading from her new book “In the Cathedral of the Plains”\, a journey of discovery and the forming of friendships with Indigenous Albertans.
URL:https://urbancasual.ca/cochrane-event/in-the-cathedral-of-the-plains/
LOCATION:Wazin Ichinabi Ti\, 521-1st Street West\, Cochrane\, Alberta\, Alberta\, Canada
CATEGORIES:Book Launch,Indigenous
ATTACH;FMTTYPE=image/jpeg:https://urbancasual.ca/wp-content/uploads/2024/11/Cover-scaled.jpeg
END:VEVENT
END:VCALENDAR