BEGIN:VCALENDAR
VERSION:2.0
PRODID:-//Urbancasual.ca - ECPv6.15.20//NONSGML v1.0//EN
CALSCALE:GREGORIAN
METHOD:PUBLISH
X-WR-CALNAME:Urbancasual.ca
X-ORIGINAL-URL:https://urbancasual.ca
X-WR-CALDESC:Events for Urbancasual.ca
REFRESH-INTERVAL;VALUE=DURATION:PT1H
X-Robots-Tag:noindex
X-PUBLISHED-TTL:PT1H
BEGIN:VTIMEZONE
TZID:America/Edmonton
BEGIN:DAYLIGHT
TZOFFSETFROM:-0700
TZOFFSETTO:-0600
TZNAME:MDT
DTSTART:20240310T090000
END:DAYLIGHT
BEGIN:STANDARD
TZOFFSETFROM:-0600
TZOFFSETTO:-0700
TZNAME:MST
DTSTART:20241103T080000
END:STANDARD
BEGIN:DAYLIGHT
TZOFFSETFROM:-0700
TZOFFSETTO:-0600
TZNAME:MDT
DTSTART:20250309T090000
END:DAYLIGHT
BEGIN:STANDARD
TZOFFSETFROM:-0600
TZOFFSETTO:-0700
TZNAME:MST
DTSTART:20251102T080000
END:STANDARD
BEGIN:DAYLIGHT
TZOFFSETFROM:-0700
TZOFFSETTO:-0600
TZNAME:MDT
DTSTART:20260308T090000
END:DAYLIGHT
BEGIN:STANDARD
TZOFFSETFROM:-0600
TZOFFSETTO:-0700
TZNAME:MST
DTSTART:20261101T080000
END:STANDARD
END:VTIMEZONE
BEGIN:VEVENT
DTSTART;VALUE=DATE:20250826
DTEND;VALUE=DATE:20250901
DTSTAMP:20260419T150746
CREATED:20250718T175443Z
LAST-MODIFIED:20250718T221458Z
UID:10049676-1756177200-1756609199@urbancasual.ca
SUMMARY:Art in the Park
DESCRIPTION:Join us this year for the fourth annual Come Paint Alberta Arts Festival Circuit\, an artist-led collaborative project celebrating Alberta’s breathtaking landscapes. \nImmerse yourself in the rich artistic tradition of Plein Air Painting\, and let the magic of Alberta’s natural beauty inspire your creative spirit. \nSign up now to secure your spot in this year’s Kick Off to ‘Come Paint Alberta’ events at Route 22 Gallery and Glenbow Ranch Park Foundation\, and let your artistic journey begin!
URL:https://urbancasual.ca/cochrane-event/art-in-the-park-2025/
LOCATION:Route 22 Artist Collective Gallery\, 208 1st Street W.\, Cochrane\, Alberta\, Canada
CATEGORIES:Art,Glenbow Ranch Provincial Park,Learning
ATTACH;FMTTYPE=image/jpeg:https://urbancasual.ca/wp-content/uploads/2025/07/Main-ART-PARK-PROMO-2.jpg
ORGANIZER;CN="Route 22 Artist Collective Gallery":MAILTO:INFO@ROUTE22GALLERY.COM
END:VEVENT
BEGIN:VEVENT
DTSTART;TZID=America/Edmonton:20250826T090000
DTEND;TZID=America/Edmonton:20250826T210000
DTSTAMP:20260419T150746
CREATED:20250806T002252Z
LAST-MODIFIED:20250806T002252Z
UID:10049828-1756198800-1756242000@urbancasual.ca
SUMMARY:Art of the Wild: A Dwayne Harty Master Class
DESCRIPTION:Art of the Wild: A Dwayne Harty MasterClass is your chance to paint alongside a master. Spend your days in hands-on workshops with renowned wildlife artist Dwayne Harty at the scenic Glenbow Ranch Park (indoors & outdoors)\, then unwind with inspiring evening talks and art presentations at Route 22 Gallery in historic Downtown Cochrane. Connect\, create\, and be inspired. \nHands-on workshops with world-renowned wildlife artist Dwayne Harty\, with inspiring evening talks and art presentations. \nDates: Aug 26- 28th\, 2025 \nAudience: Adults 18+ \nRegistration Cost:\n– Early Bird Special: $500.00 until AUGUST 15th\n– Regular Registration Price: $750.00 [after August 15th] \nRegistrants are encouraged to also register as a participating artist for Art in the Park\, with opportunities to put their learning from the workshop into practice at the park! Join other plein-air artists for the 29/30th and enjoy the Wet Paint Sale & Soirée on Saturday evening! \nFor more information and registration please visit our website at route22gallery.com under events!
URL:https://urbancasual.ca/cochrane-event/art-of-the-wild-a-dwayne-harty-master-class/2025-08-26/
LOCATION:Route 22 Artist Collective Gallery\, 208 1st Street W.\, Cochrane\, Alberta\, Canada
CATEGORIES:Art,Glenbow Ranch Provincial Park,Learning,Parks
ATTACH;FMTTYPE=image/png:https://urbancasual.ca/wp-content/uploads/2025/07/dwaynehartysocialpost.png
ORGANIZER;CN="Route 22 Artist Collective Gallery":MAILTO:INFO@ROUTE22GALLERY.COM
END:VEVENT
BEGIN:VEVENT
DTSTART;TZID=America/Edmonton:20250827T090000
DTEND;TZID=America/Edmonton:20250827T210000
DTSTAMP:20260419T150746
CREATED:20250806T002252Z
LAST-MODIFIED:20250806T002252Z
UID:10049879-1756285200-1756328400@urbancasual.ca
SUMMARY:Art of the Wild: A Dwayne Harty Master Class
DESCRIPTION:Art of the Wild: A Dwayne Harty MasterClass is your chance to paint alongside a master. Spend your days in hands-on workshops with renowned wildlife artist Dwayne Harty at the scenic Glenbow Ranch Park (indoors & outdoors)\, then unwind with inspiring evening talks and art presentations at Route 22 Gallery in historic Downtown Cochrane. Connect\, create\, and be inspired. \nHands-on workshops with world-renowned wildlife artist Dwayne Harty\, with inspiring evening talks and art presentations. \nDates: Aug 26- 28th\, 2025 \nAudience: Adults 18+ \nRegistration Cost:\n– Early Bird Special: $500.00 until AUGUST 15th\n– Regular Registration Price: $750.00 [after August 15th] \nRegistrants are encouraged to also register as a participating artist for Art in the Park\, with opportunities to put their learning from the workshop into practice at the park! Join other plein-air artists for the 29/30th and enjoy the Wet Paint Sale & Soirée on Saturday evening! \nFor more information and registration please visit our website at route22gallery.com under events!
URL:https://urbancasual.ca/cochrane-event/art-of-the-wild-a-dwayne-harty-master-class/2025-08-27/
LOCATION:Route 22 Artist Collective Gallery\, 208 1st Street W.\, Cochrane\, Alberta\, Canada
CATEGORIES:Art,Glenbow Ranch Provincial Park,Learning,Parks
ATTACH;FMTTYPE=image/png:https://urbancasual.ca/wp-content/uploads/2025/07/dwaynehartysocialpost.png
ORGANIZER;CN="Route 22 Artist Collective Gallery":MAILTO:INFO@ROUTE22GALLERY.COM
END:VEVENT
BEGIN:VEVENT
DTSTART;TZID=America/Edmonton:20250828T090000
DTEND;TZID=America/Edmonton:20250828T210000
DTSTAMP:20260419T150746
CREATED:20250806T002252Z
LAST-MODIFIED:20250806T002252Z
UID:10049880-1756371600-1756414800@urbancasual.ca
SUMMARY:Art of the Wild: A Dwayne Harty Master Class
DESCRIPTION:Art of the Wild: A Dwayne Harty MasterClass is your chance to paint alongside a master. Spend your days in hands-on workshops with renowned wildlife artist Dwayne Harty at the scenic Glenbow Ranch Park (indoors & outdoors)\, then unwind with inspiring evening talks and art presentations at Route 22 Gallery in historic Downtown Cochrane. Connect\, create\, and be inspired. \nHands-on workshops with world-renowned wildlife artist Dwayne Harty\, with inspiring evening talks and art presentations. \nDates: Aug 26- 28th\, 2025 \nAudience: Adults 18+ \nRegistration Cost:\n– Early Bird Special: $500.00 until AUGUST 15th\n– Regular Registration Price: $750.00 [after August 15th] \nRegistrants are encouraged to also register as a participating artist for Art in the Park\, with opportunities to put their learning from the workshop into practice at the park! Join other plein-air artists for the 29/30th and enjoy the Wet Paint Sale & Soirée on Saturday evening! \nFor more information and registration please visit our website at route22gallery.com under events!
URL:https://urbancasual.ca/cochrane-event/art-of-the-wild-a-dwayne-harty-master-class/2025-08-28/
LOCATION:Route 22 Artist Collective Gallery\, 208 1st Street W.\, Cochrane\, Alberta\, Canada
CATEGORIES:Art,Glenbow Ranch Provincial Park,Learning,Parks
ATTACH;FMTTYPE=image/png:https://urbancasual.ca/wp-content/uploads/2025/07/dwaynehartysocialpost.png
ORGANIZER;CN="Route 22 Artist Collective Gallery":MAILTO:INFO@ROUTE22GALLERY.COM
END:VEVENT
BEGIN:VEVENT
DTSTART;TZID=America/Edmonton:20250828T170000
DTEND;TZID=America/Edmonton:20250828T200000
DTSTAMP:20260419T150746
CREATED:20250815T161226Z
LAST-MODIFIED:20250815T161226Z
UID:10050194-1756400400-1756411200@urbancasual.ca
SUMMARY:Kaleidoscope: Four Dimensions | Opening Reception
DESCRIPTION:Kaleidoscope: Four Dimensions | Opening Reception \nWe proudly present our next Member Exclusive Exhibition in our downtown Cochrane Gallery. \nKaleidoscope: Four dimensions of perception\, currents\, perspective and catalyst… \nAn Art Exhibition featuring the collaborative artworks of Susan Lindsay\, Lara Kruger\, Rick Ducommun\, and Kelly Zeeb. \nThis exhibition is showing from August 25th to September 28th. \nEach member chose a word to describe their body of work:\nSusan Lindsay: Perception\nLara Kruger: Currents\nRick Ducommun: Catalyst\nKelly Zeeb: Perspective \nOpening Reception | Celebration:\nThursday – August 28\, 2025\nTime: 5:00 pm to 8:00 pm\nLocation: Route 22 Artist Collective Gallery\, Cochrane\, AB. \nRefreshments served\, including a dessert bar! \nAll are welcome! \nFor more information:\n– Please visit our website at route22gallery.com for our Events Calendar!
URL:https://urbancasual.ca/cochrane-event/kaleidoscope-four-dimensions-opening-reception/
LOCATION:Route 22 Artist Collective Gallery\, 208 1st Street W.\, Cochrane\, Alberta\, Canada
CATEGORIES:Art,Community,Downtown,Entertainment & Games,Learning
ATTACH;FMTTYPE=image/png:https://urbancasual.ca/wp-content/uploads/2025/08/3.png
ORGANIZER;CN="Route 22 Artist Collective Gallery":MAILTO:INFO@ROUTE22GALLERY.COM
END:VEVENT
BEGIN:VEVENT
DTSTART;TZID=America/Edmonton:20250829T090000
DTEND;TZID=America/Edmonton:20250829T120000
DTSTAMP:20260419T150746
CREATED:20250806T015233Z
LAST-MODIFIED:20250806T015233Z
UID:10049829-1756458000-1756468800@urbancasual.ca
SUMMARY:Learn Landscape Painting with Stephen Purdy
DESCRIPTION:Learn Landscape Painting with Stephen Purdy! \nDip your toes (or paintbrushes) into plein air painting and learn to make the landscape that you see real in your paintings. \nDate: Friday\, August 29th\, 2025 \nLocation: Glenbow Ranch Provincial Park (please meet at pathway entrance to the park). \nTime: 9:00 AM – 12:00 PM | Meet at 9:00 AM at the picnic tables by the parking lot. \nCost: $25.00 \nAudience: All Ages! \nAttire: Dress for being outside. Warm layers\, sunscreen\, etc. Pack water or something warm to drink. \nWhat Students Will Learn:\n– Learn to make the landscape that you see real in your paintings.\n– Students will learn how to compose a painting\, establish a strong base design and an approach to detailing and finishing.\n– The goal of the class is for each student to take home a painting they can be proud of.\n– The format for the class will be a demonstration of painting stages\, with most of the time focused on each individual student’s painting. \nFor more information and registration please visit our website at route22gallery.com under events!
URL:https://urbancasual.ca/cochrane-event/learn-landscape-painting-with-stephen-purdy-2/
LOCATION:Glenbow Ranch Provincial Park
CATEGORIES:Art,Glenbow Ranch Provincial Park,Learning
ATTACH;FMTTYPE=image/jpeg:https://urbancasual.ca/wp-content/uploads/2025/07/purdyworkshopsocialpost.jpg
ORGANIZER;CN="Route 22 Artist Collective Gallery":MAILTO:INFO@ROUTE22GALLERY.COM
END:VEVENT
BEGIN:VEVENT
DTSTART;TZID=America/Edmonton:20250830T160000
DTEND;TZID=America/Edmonton:20250830T200000
DTSTAMP:20260419T150746
CREATED:20250812T174446Z
LAST-MODIFIED:20250812T174446Z
UID:10050058-1756569600-1756584000@urbancasual.ca
SUMMARY:Wet Paint Sale & Soirée
DESCRIPTION:Wet Paint Sale & Soirée Event! \nPlease join us for Art in the Park’s Wet Paint Sale & Soirée in celebration and admiration of all the beautiful Cochrane landscapes as captured in real time by the Festival’s participating Plein Air Artists. \nThis “soirée” is open to all to attend and mingle with artists\, peruse the artworks (available for purchasing) and enjoy all the festivities of Discovery Days\, including newly curated\, juried artworks as we combine the evening with our Interchange reception! \nNibbles and refreshments available along with a cash bar. \nDate: Saturday\, August 30th\, 2025 \nLocation: Route 22 Artist Collective Gallery | 208 1st W.\, Cochrane \nTime: 4:00 pm – 8:00 pm \nCost: Free! \nFor more information about Art in the Park Plein Air Festival:\n– Please visit our website at route22gallery.com/come-paint-alberta!
URL:https://urbancasual.ca/cochrane-event/wet-paint-sale-soiree/
LOCATION:Route 22 Artist Collective Gallery\, 208 1st Street W.\, Cochrane\, Alberta\, Canada
CATEGORIES:Art,Club,Community,Culture,Downtown,Sale
ATTACH;FMTTYPE=image/png:https://urbancasual.ca/wp-content/uploads/2025/08/Wet-Paint-Sale-Soiree-Aug-2025-POSTER-SOCIAL-POST-scaled.png
ORGANIZER;CN="Route 22 Artist Collective Gallery":MAILTO:INFO@ROUTE22GALLERY.COM
END:VEVENT
BEGIN:VEVENT
DTSTART;TZID=America/Edmonton:20250830T160000
DTEND;TZID=America/Edmonton:20250830T200000
DTSTAMP:20260419T150746
CREATED:20250827T184544Z
LAST-MODIFIED:20250827T184544Z
UID:10050261-1756569600-1756584000@urbancasual.ca
SUMMARY:New Interchange Opening Reception!
DESCRIPTION:Join us for our next interchange opening reception! \nWe are welcoming the end of the summer season in the best way possible: with a fresh new art installation! \nWe welcome you to explore the latest exhibition featuring stunning new artworks from our talented Route 22 Artist Member Collective. \nEnjoy delicious hors d’oeuvres and meet the amazing Route 22 Artists! \nDate: Saturday\, August 30th\, 2025 \nTime: 4:00 pm – 8:00 pm \nLocation: Route 22 Artist Collective Gallery\, Cochrane\, AB \nDon’t miss out on this vibrant celebration of art and community\, see you there! \nFor more information please visit our website at route22gallery.com for our Monthly Event Calendar!
URL:https://urbancasual.ca/cochrane-event/new-interchange-opening-reception/
LOCATION:Route 22 Artist Collective Gallery\, 208 1st Street W.\, Cochrane\, Alberta\, Canada
CATEGORIES:Art,Community,Culture,DISCOVERY DAYS,Entertainment & Games,Family Friendly,Learning,Sale
ATTACH;FMTTYPE=image/jpeg:https://urbancasual.ca/wp-content/uploads/2025/08/UPDATED-INTERCHANGE-AUG-30.jpg
ORGANIZER;CN="Route 22 Artist Collective Gallery":MAILTO:INFO@ROUTE22GALLERY.COM
END:VEVENT
END:VCALENDAR