BEGIN:VCALENDAR
VERSION:2.0
PRODID:-//Urbancasual.ca - ECPv6.15.20//NONSGML v1.0//EN
CALSCALE:GREGORIAN
METHOD:PUBLISH
X-WR-CALNAME:Urbancasual.ca
X-ORIGINAL-URL:https://urbancasual.ca
X-WR-CALDESC:Events for Urbancasual.ca
REFRESH-INTERVAL;VALUE=DURATION:PT1H
X-Robots-Tag:noindex
X-PUBLISHED-TTL:PT1H
BEGIN:VTIMEZONE
TZID:America/Edmonton
BEGIN:DAYLIGHT
TZOFFSETFROM:-0700
TZOFFSETTO:-0600
TZNAME:MDT
DTSTART:20240310T090000
END:DAYLIGHT
BEGIN:STANDARD
TZOFFSETFROM:-0600
TZOFFSETTO:-0700
TZNAME:MST
DTSTART:20241103T080000
END:STANDARD
BEGIN:DAYLIGHT
TZOFFSETFROM:-0700
TZOFFSETTO:-0600
TZNAME:MDT
DTSTART:20250309T090000
END:DAYLIGHT
BEGIN:STANDARD
TZOFFSETFROM:-0600
TZOFFSETTO:-0700
TZNAME:MST
DTSTART:20251102T080000
END:STANDARD
BEGIN:DAYLIGHT
TZOFFSETFROM:-0700
TZOFFSETTO:-0600
TZNAME:MDT
DTSTART:20260308T090000
END:DAYLIGHT
BEGIN:STANDARD
TZOFFSETFROM:-0600
TZOFFSETTO:-0700
TZNAME:MST
DTSTART:20261101T080000
END:STANDARD
END:VTIMEZONE
BEGIN:VEVENT
DTSTART;TZID=America/Edmonton:20250410T160000
DTEND;TZID=America/Edmonton:20250410T190000
DTSTAMP:20260424T144037
CREATED:20250402T172111Z
LAST-MODIFIED:20250402T172111Z
UID:10046157-1744300800-1744311600@urbancasual.ca
SUMMARY:OPENING RECEPTION
DESCRIPTION:  \n Join Us for our Opening Reception! We’re excited to invite you to our Opening Reception on Thursday April 10th\, from 4 PM to 7 PM at the Route 22 Artist Collective Gallery in our new downtown location in Cochrane!\n\n Explore the latest exhibition featuring stunning new artworks from our talented Route 22 Artist Member Collective and support local Canadian artists! \n Enjoy delicious hors d’oeuvres and mingle with the amazing Route 22 Artists!\n\nDon’t miss out on this vibrant celebration of art and community! We can’t wait to see you there!
URL:https://urbancasual.ca/cochrane-event/opening-reception/
LOCATION:Route 22 Artist Collective Gallery\, 208 1st Street W.\, Cochrane\, Alberta\, Canada
CATEGORIES:advocacy,Art,Community,Downtown,Entertainment & Games,Free,Open House
ATTACH;FMTTYPE=image/jpeg:https://urbancasual.ca/wp-content/uploads/2025/04/487414128_122234979284026072_7157034795256007650_n.jpg
END:VEVENT
BEGIN:VEVENT
DTSTART;TZID=America/Edmonton:20250411T190000
DTEND;TZID=America/Edmonton:20250411T220000
DTSTAMP:20260424T144037
CREATED:20250404T164313Z
LAST-MODIFIED:20250404T164313Z
UID:10046187-1744398000-1744408800@urbancasual.ca
SUMMARY:“Northern Whisper”
DESCRIPTION:Join the crew at this great paint night!
URL:https://urbancasual.ca/cochrane-event/northern-whisper/
LOCATION:Final Touch Art Studio\, #10 118 1 Ave West\, Cochrane\, Alberta\, Canada
CATEGORIES:Art,Crafts,Ladies Night,Learning
ATTACH;FMTTYPE=image/png:https://urbancasual.ca/wp-content/uploads/2025/04/Your-paragraph-text.png
ORGANIZER;CN="Final Touch Art Studio":MAILTO:finaltouchart2015@gmail.com
END:VEVENT
BEGIN:VEVENT
DTSTART;TZID=America/Edmonton:20250412T100000
DTEND;TZID=America/Edmonton:20250412T160000
DTSTAMP:20260424T144037
CREATED:20250307T012014Z
LAST-MODIFIED:20250307T012014Z
UID:10045327-1744452000-1744473600@urbancasual.ca
SUMMARY:Foothills Art Club's Spring Art Show & Sale
DESCRIPTION:Paintings will be on display for sale in the main gallery\, along with dozens of small artworks in the Boutique. Acrylic\, oil\, watercolour\, pastel\, multi-media and graphite are some of the mediums used. Club members will be on hand to talk with you about their paintings and to answer any questions. Come out and see some truly wonderful and unique artwork.
URL:https://urbancasual.ca/cochrane-event/foothills-art-clubs-spring-art-show-sale/
LOCATION:St. Andrew’s United Church\, 128 1st Street E\, Cochrane\, AB
CATEGORIES:Art,Sale
ATTACH;FMTTYPE=image/jpeg:https://urbancasual.ca/wp-content/uploads/2025/03/2025-FAC-banner-Spring-75.jpg
END:VEVENT
END:VCALENDAR