BEGIN:VCALENDAR
VERSION:2.0
PRODID:-//Urbancasual.ca - ECPv6.15.20//NONSGML v1.0//EN
CALSCALE:GREGORIAN
METHOD:PUBLISH
X-ORIGINAL-URL:https://urbancasual.ca
X-WR-CALDESC:Events for Urbancasual.ca
REFRESH-INTERVAL;VALUE=DURATION:PT1H
X-Robots-Tag:noindex
X-PUBLISHED-TTL:PT1H
BEGIN:VTIMEZONE
TZID:America/Edmonton
BEGIN:DAYLIGHT
TZOFFSETFROM:-0700
TZOFFSETTO:-0600
TZNAME:MDT
DTSTART:20230312T090000
END:DAYLIGHT
BEGIN:STANDARD
TZOFFSETFROM:-0600
TZOFFSETTO:-0700
TZNAME:MST
DTSTART:20231105T080000
END:STANDARD
BEGIN:DAYLIGHT
TZOFFSETFROM:-0700
TZOFFSETTO:-0600
TZNAME:MDT
DTSTART:20240310T090000
END:DAYLIGHT
BEGIN:STANDARD
TZOFFSETFROM:-0600
TZOFFSETTO:-0700
TZNAME:MST
DTSTART:20241103T080000
END:STANDARD
BEGIN:DAYLIGHT
TZOFFSETFROM:-0700
TZOFFSETTO:-0600
TZNAME:MDT
DTSTART:20250309T090000
END:DAYLIGHT
BEGIN:STANDARD
TZOFFSETFROM:-0600
TZOFFSETTO:-0700
TZNAME:MST
DTSTART:20251102T080000
END:STANDARD
END:VTIMEZONE
BEGIN:VEVENT
DTSTART;TZID=America/Edmonton:20241119T170000
DTEND;TZID=America/Edmonton:20241119T183000
DTSTAMP:20260424T195254
CREATED:20240725T162046Z
LAST-MODIFIED:20240905T193019Z
UID:10035668-1732035600-1732041000@urbancasual.ca
SUMMARY:After School Club at The Messy Moose Studio
DESCRIPTION:Let’s ignite their creativity and unwind after school with some relaxing activities like crafting\, creating\, or simply chilling out with our sensory bins.​ \nThis is a registered\, drop off event. \nStarting Tuesday\, Sept 10th\, now from 5:00pm to 6:30pm.$145/per month\, drop off every Tuesday for some creative process art and sensory play!The first session runs from Sept to November.Register online to save your spot!*Can be billed monthly* \nLocation: 3-123 2nd Avenue West -The Messy Moose Studio
URL:https://urbancasual.ca/cochrane-event/after-school-club-at-the-messy-moose-studio/2024-11-19/
LOCATION:The Messy Moose Inc.\, 123 2nd Avenue West\, Unit #3\, Cochrane\, Alberta\, Canada
CATEGORIES:Art,Community,Family Friendly,Learning,Town of Cochrane
ATTACH;FMTTYPE=image/jpeg:https://urbancasual.ca/wp-content/uploads/2024/07/458540557_450612814600871_1026879836003693240_n.jpg
ORGANIZER;CN="The Messy Moose Inc.":MAILTO:themessymoosestudio@gmail.com
END:VEVENT
BEGIN:VEVENT
DTSTART;TZID=America/Edmonton:20241121T183000
DTEND;TZID=America/Edmonton:20241121T210000
DTSTAMP:20260424T195254
CREATED:20241010T152952Z
LAST-MODIFIED:20241121T181948Z
UID:10036274-1732213800-1732222800@urbancasual.ca
SUMMARY:Open Mic Night at Route 22
DESCRIPTION:NOVEMBER 21ST IS POSTPONED DUE TO MOVING LOCATION!\n\nDates: October 10th & November 21st\, 2024\nTime: 6:30pm-9:00pm\nLocation: Route 22 Artist Collective\nCost: $5 for spectators (Free for performers)\nAudience: 16+\n\nDescription:\nAt Route 22\, we believe in ALL forms of art! Whether you’re a seasoned performer or just looking to showcase your talents\, this event is the perfect opportunity to share your music\, poetry\, comedy\, or any other creative form of expression. A fun way to test out new material or get feedback from like-minded folks. Don’y be shy – bring a friend\, grab a drink\, sit back\, and enjoy the show with us.\n\nPre-purchase not required\, walk-ins welcome by admission at the door\nDoors open at 6:30 pm for pre-show mingling and to sign-up for the stage\n\nPerformances begin at 7pm sharpAlcoholic beverages will be available for purchase at this event\n\nUnable to attend but want to support the arts? Donate today! Click the donate button or visit our website at: Support The Gallery – Route 22 (route22gallery.com)\nDid you know that Route 22 Members get a 10% discount on all programming/events? Apply today! Become a Member – Route 22 (route22gallery.com)
URL:https://urbancasual.ca/cochrane-event/open-mic-night-at-route-22-2/2024-11-21/
LOCATION:Route 22 Artist Collective Gallery\, 208 1st Street W.\, Cochrane\, Alberta\, Canada
CATEGORIES:Art,Community,Entertainment & Games,Music,OPEN MIC
ATTACH;FMTTYPE=image/jpeg:https://urbancasual.ca/wp-content/uploads/2024/10/inbound7780464869784441137.jpg
END:VEVENT
BEGIN:VEVENT
DTSTART;TZID=America/Edmonton:20241123T100000
DTEND;TZID=America/Edmonton:20241123T150000
DTSTAMP:20260424T195254
CREATED:20241105T030503Z
LAST-MODIFIED:20241105T030503Z
UID:10037338-1732356000-1732374000@urbancasual.ca
SUMMARY:Winter Art & Craft Market
DESCRIPTION:This pop-up market at Frank Wills Hall will have lots of local art and maker vendors so you can shop for that special someone. Take in all the wares and then enjoy a tea & treat.\nCome and support local artisans and help 1st Cochrane Pathfinders raise funds for their trip to Quebec while you’re at it. \nA few vendor spots are still available. Contact: 1stcochranepathfinders@gmail.com
URL:https://urbancasual.ca/cochrane-event/winter-art-craft-market/
LOCATION:Frank Wills Memorial Hall\, 405 1st Street E\, Cochrane\, Alberta
CATEGORIES:Art,HOLIDAY MARKETS 2024,Market
ATTACH;FMTTYPE=image/jpeg:https://urbancasual.ca/wp-content/uploads/2024/11/winter-craft-market-GG-II-1.jpg
ORGANIZER;CN="1st Cochrane Pathfinders":MAILTO:1stcochranepathfinders@gmail.com
END:VEVENT
END:VCALENDAR