BEGIN:VCALENDAR
VERSION:2.0
PRODID:-//Urbancasual.ca - ECPv6.15.20//NONSGML v1.0//EN
CALSCALE:GREGORIAN
METHOD:PUBLISH
X-ORIGINAL-URL:https://urbancasual.ca
X-WR-CALDESC:Events for Urbancasual.ca
REFRESH-INTERVAL;VALUE=DURATION:PT1H
X-Robots-Tag:noindex
X-PUBLISHED-TTL:PT1H
BEGIN:VTIMEZONE
TZID:America/Edmonton
BEGIN:DAYLIGHT
TZOFFSETFROM:-0700
TZOFFSETTO:-0600
TZNAME:MDT
DTSTART:20230312T090000
END:DAYLIGHT
BEGIN:STANDARD
TZOFFSETFROM:-0600
TZOFFSETTO:-0700
TZNAME:MST
DTSTART:20231105T080000
END:STANDARD
BEGIN:DAYLIGHT
TZOFFSETFROM:-0700
TZOFFSETTO:-0600
TZNAME:MDT
DTSTART:20240310T090000
END:DAYLIGHT
BEGIN:STANDARD
TZOFFSETFROM:-0600
TZOFFSETTO:-0700
TZNAME:MST
DTSTART:20241103T080000
END:STANDARD
BEGIN:DAYLIGHT
TZOFFSETFROM:-0700
TZOFFSETTO:-0600
TZNAME:MDT
DTSTART:20250309T090000
END:DAYLIGHT
BEGIN:STANDARD
TZOFFSETFROM:-0600
TZOFFSETTO:-0700
TZNAME:MST
DTSTART:20251102T080000
END:STANDARD
END:VTIMEZONE
BEGIN:VEVENT
DTSTART;TZID=America/Edmonton:20240920T183000
DTEND;TZID=America/Edmonton:20240920T213000
DTSTAMP:20260421T073601
CREATED:20240903T195655Z
LAST-MODIFIED:20240903T195655Z
UID:10035617-1726857000-1726867800@urbancasual.ca
SUMMARY:SIP & PAINT FOR PAWS
DESCRIPTION:Event Highlights\n\nThis fabulous event is perfect for animal lovers and art enthusiasts alike. You’ll enjoy two glasses of wine\, bubbly soda\, or water\, a delicious charcuterie board\, a silent auction\, exciting prizes\, and best of all\, a visit from some adorable furry friends. \nSponsored by Global Pet Foods Cochrane and guided by the talented artist Jillian Gabel\, guests can choose to paint a shelter dog or cat\, all while raising much-needed funds for the animals. Thanks to our generous sponsors\, 100% of the proceeds will go directly to supporting the shelter’s animals. \nHeld at the Cochrane & Area Humane Society’s Rehabilitation & Education Centre\, this event is exclusively for those 18 and over. Come sip\, paint\, and make a difference in the lives of our furry companions!
URL:https://urbancasual.ca/cochrane-event/sip-paint-for-paws/
CATEGORIES:Animals,Art,Fundraiser
ATTACH;FMTTYPE=image/jpeg:https://urbancasual.ca/wp-content/uploads/2024/08/inbound2887596191861362033.jpg
END:VEVENT
BEGIN:VEVENT
DTSTART;TZID=America/Edmonton:20240917T170000
DTEND;TZID=America/Edmonton:20240917T183000
DTSTAMP:20260421T073601
CREATED:20240725T162046Z
LAST-MODIFIED:20240905T193019Z
UID:10035659-1726592400-1726597800@urbancasual.ca
SUMMARY:After School Club at The Messy Moose Studio
DESCRIPTION:Let’s ignite their creativity and unwind after school with some relaxing activities like crafting\, creating\, or simply chilling out with our sensory bins.​ \nThis is a registered\, drop off event. \nStarting Tuesday\, Sept 10th\, now from 5:00pm to 6:30pm.$145/per month\, drop off every Tuesday for some creative process art and sensory play!The first session runs from Sept to November.Register online to save your spot!*Can be billed monthly* \nLocation: 3-123 2nd Avenue West -The Messy Moose Studio
URL:https://urbancasual.ca/cochrane-event/after-school-club-at-the-messy-moose-studio/2024-09-17/
LOCATION:The Messy Moose Inc.\, 123 2nd Avenue West\, Unit #3\, Cochrane\, Alberta\, Canada
CATEGORIES:Art,Community,Family Friendly,Learning,Town of Cochrane
ATTACH;FMTTYPE=image/jpeg:https://urbancasual.ca/wp-content/uploads/2024/07/458540557_450612814600871_1026879836003693240_n.jpg
ORGANIZER;CN="The Messy Moose Inc.":MAILTO:themessymoosestudio@gmail.com
END:VEVENT
BEGIN:VEVENT
DTSTART;TZID=America/Edmonton:20240910T170000
DTEND;TZID=America/Edmonton:20240910T183000
DTSTAMP:20260421T073601
CREATED:20240725T162046Z
LAST-MODIFIED:20240905T193019Z
UID:10035658-1725987600-1725993000@urbancasual.ca
SUMMARY:After School Club at The Messy Moose Studio
DESCRIPTION:Let’s ignite their creativity and unwind after school with some relaxing activities like crafting\, creating\, or simply chilling out with our sensory bins.​ \nThis is a registered\, drop off event. \nStarting Tuesday\, Sept 10th\, now from 5:00pm to 6:30pm.$145/per month\, drop off every Tuesday for some creative process art and sensory play!The first session runs from Sept to November.Register online to save your spot!*Can be billed monthly* \nLocation: 3-123 2nd Avenue West -The Messy Moose Studio
URL:https://urbancasual.ca/cochrane-event/after-school-club-at-the-messy-moose-studio/2024-09-10/
LOCATION:The Messy Moose Inc.\, 123 2nd Avenue West\, Unit #3\, Cochrane\, Alberta\, Canada
CATEGORIES:Art,Community,Family Friendly,Learning,Town of Cochrane
ATTACH;FMTTYPE=image/jpeg:https://urbancasual.ca/wp-content/uploads/2024/07/458540557_450612814600871_1026879836003693240_n.jpg
ORGANIZER;CN="The Messy Moose Inc.":MAILTO:themessymoosestudio@gmail.com
END:VEVENT
END:VCALENDAR