BEGIN:VCALENDAR
VERSION:2.0
PRODID:-//Urbancasual.ca - ECPv6.15.20//NONSGML v1.0//EN
CALSCALE:GREGORIAN
METHOD:PUBLISH
X-ORIGINAL-URL:https://urbancasual.ca
X-WR-CALDESC:Events for Urbancasual.ca
REFRESH-INTERVAL;VALUE=DURATION:PT1H
X-Robots-Tag:noindex
X-PUBLISHED-TTL:PT1H
BEGIN:VTIMEZONE
TZID:America/Edmonton
BEGIN:DAYLIGHT
TZOFFSETFROM:-0700
TZOFFSETTO:-0600
TZNAME:MDT
DTSTART:20250309T090000
END:DAYLIGHT
BEGIN:STANDARD
TZOFFSETFROM:-0600
TZOFFSETTO:-0700
TZNAME:MST
DTSTART:20251102T080000
END:STANDARD
BEGIN:DAYLIGHT
TZOFFSETFROM:-0700
TZOFFSETTO:-0600
TZNAME:MDT
DTSTART:20260308T090000
END:DAYLIGHT
BEGIN:STANDARD
TZOFFSETFROM:-0600
TZOFFSETTO:-0700
TZNAME:MST
DTSTART:20261101T080000
END:STANDARD
BEGIN:DAYLIGHT
TZOFFSETFROM:-0700
TZOFFSETTO:-0600
TZNAME:MDT
DTSTART:20270314T090000
END:DAYLIGHT
BEGIN:STANDARD
TZOFFSETFROM:-0600
TZOFFSETTO:-0700
TZNAME:MST
DTSTART:20271107T080000
END:STANDARD
END:VTIMEZONE
BEGIN:VEVENT
DTSTART;TZID=America/Edmonton:20260130T160000
DTEND;TZID=America/Edmonton:20260130T190000
DTSTAMP:20260421T190956
CREATED:20260122T010546Z
LAST-MODIFIED:20260122T010605Z
UID:10054100-1769788800-1769799600@urbancasual.ca
SUMMARY:Interchange Opening Reception!
DESCRIPTION:Join us for the next Interchange Opening Reception! \nWe are settling into the new year in the best way possible: with a Fresh New Art Installation! \nWe welcome you to explore the latest exhibition featuring stunning new artworks from our talented Route 22 Artist Member Collective. \nEnjoy delicious hors d’oeuvres and meet the amazing Route 22 Artists! \nDate: Friday\, January 30th\, 2026 \nTime: 4:00 pm – 7:00 pm \nLocation: Route 22 Artist Collective Gallery\, Cochrane\, AB \nDon’t miss out on this vibrant celebration of art and community\, see you there!
URL:https://urbancasual.ca/cochrane-event/interchange-opening-reception-january-30-2026/
LOCATION:Route 22 Artist Collective Gallery\, 208 1st Street W.\, Cochrane\, Alberta\, Canada
CATEGORIES:Art
ATTACH;FMTTYPE=image/jpeg:https://urbancasual.ca/wp-content/uploads/2026/01/NEW-JAN.-INTERCHANGE-Opening-Reception-Social-Post.jpg
ORGANIZER;CN="Route 22 Artist Collective Gallery":MAILTO:INFO@ROUTE22GALLERY.COM
END:VEVENT
END:VCALENDAR