BEGIN:VCALENDAR
VERSION:2.0
PRODID:-//Urbancasual.ca - ECPv6.15.20//NONSGML v1.0//EN
CALSCALE:GREGORIAN
METHOD:PUBLISH
X-WR-CALNAME:Urbancasual.ca
X-ORIGINAL-URL:https://urbancasual.ca
X-WR-CALDESC:Events for Urbancasual.ca
REFRESH-INTERVAL;VALUE=DURATION:PT1H
X-Robots-Tag:noindex
X-PUBLISHED-TTL:PT1H
BEGIN:VTIMEZONE
TZID:America/Edmonton
BEGIN:DAYLIGHT
TZOFFSETFROM:-0700
TZOFFSETTO:-0600
TZNAME:MDT
DTSTART:20240310T090000
END:DAYLIGHT
BEGIN:STANDARD
TZOFFSETFROM:-0600
TZOFFSETTO:-0700
TZNAME:MST
DTSTART:20241103T080000
END:STANDARD
BEGIN:DAYLIGHT
TZOFFSETFROM:-0700
TZOFFSETTO:-0600
TZNAME:MDT
DTSTART:20250309T090000
END:DAYLIGHT
BEGIN:STANDARD
TZOFFSETFROM:-0600
TZOFFSETTO:-0700
TZNAME:MST
DTSTART:20251102T080000
END:STANDARD
BEGIN:DAYLIGHT
TZOFFSETFROM:-0700
TZOFFSETTO:-0600
TZNAME:MDT
DTSTART:20260308T090000
END:DAYLIGHT
BEGIN:STANDARD
TZOFFSETFROM:-0600
TZOFFSETTO:-0700
TZNAME:MST
DTSTART:20261101T080000
END:STANDARD
END:VTIMEZONE
BEGIN:VEVENT
DTSTART;VALUE=DATE:20250826
DTEND;VALUE=DATE:20250901
DTSTAMP:20260419T221534
CREATED:20250718T175443Z
LAST-MODIFIED:20250718T221458Z
UID:10049676-1756177200-1756609199@urbancasual.ca
SUMMARY:Art in the Park
DESCRIPTION:Join us this year for the fourth annual Come Paint Alberta Arts Festival Circuit\, an artist-led collaborative project celebrating Alberta’s breathtaking landscapes. \nImmerse yourself in the rich artistic tradition of Plein Air Painting\, and let the magic of Alberta’s natural beauty inspire your creative spirit. \nSign up now to secure your spot in this year’s Kick Off to ‘Come Paint Alberta’ events at Route 22 Gallery and Glenbow Ranch Park Foundation\, and let your artistic journey begin!
URL:https://urbancasual.ca/cochrane-event/art-in-the-park-2025/
LOCATION:Route 22 Artist Collective Gallery\, 208 1st Street W.\, Cochrane\, Alberta\, Canada
CATEGORIES:Art,Glenbow Ranch Provincial Park,Learning
ATTACH;FMTTYPE=image/jpeg:https://urbancasual.ca/wp-content/uploads/2025/07/Main-ART-PARK-PROMO-2.jpg
ORGANIZER;CN="Route 22 Artist Collective Gallery":MAILTO:INFO@ROUTE22GALLERY.COM
END:VEVENT
BEGIN:VEVENT
DTSTART;TZID=America/Edmonton:20250830T160000
DTEND;TZID=America/Edmonton:20250830T200000
DTSTAMP:20260419T221534
CREATED:20250812T174446Z
LAST-MODIFIED:20250812T174446Z
UID:10050058-1756569600-1756584000@urbancasual.ca
SUMMARY:Wet Paint Sale & Soirée
DESCRIPTION:Wet Paint Sale & Soirée Event! \nPlease join us for Art in the Park’s Wet Paint Sale & Soirée in celebration and admiration of all the beautiful Cochrane landscapes as captured in real time by the Festival’s participating Plein Air Artists. \nThis “soirée” is open to all to attend and mingle with artists\, peruse the artworks (available for purchasing) and enjoy all the festivities of Discovery Days\, including newly curated\, juried artworks as we combine the evening with our Interchange reception! \nNibbles and refreshments available along with a cash bar. \nDate: Saturday\, August 30th\, 2025 \nLocation: Route 22 Artist Collective Gallery | 208 1st W.\, Cochrane \nTime: 4:00 pm – 8:00 pm \nCost: Free! \nFor more information about Art in the Park Plein Air Festival:\n– Please visit our website at route22gallery.com/come-paint-alberta!
URL:https://urbancasual.ca/cochrane-event/wet-paint-sale-soiree/
LOCATION:Route 22 Artist Collective Gallery\, 208 1st Street W.\, Cochrane\, Alberta\, Canada
CATEGORIES:Art,Club,Community,Culture,Downtown,Sale
ATTACH;FMTTYPE=image/png:https://urbancasual.ca/wp-content/uploads/2025/08/Wet-Paint-Sale-Soiree-Aug-2025-POSTER-SOCIAL-POST-scaled.png
ORGANIZER;CN="Route 22 Artist Collective Gallery":MAILTO:INFO@ROUTE22GALLERY.COM
END:VEVENT
BEGIN:VEVENT
DTSTART;TZID=America/Edmonton:20250830T160000
DTEND;TZID=America/Edmonton:20250830T200000
DTSTAMP:20260419T221534
CREATED:20250827T184544Z
LAST-MODIFIED:20250827T184544Z
UID:10050261-1756569600-1756584000@urbancasual.ca
SUMMARY:New Interchange Opening Reception!
DESCRIPTION:Join us for our next interchange opening reception! \nWe are welcoming the end of the summer season in the best way possible: with a fresh new art installation! \nWe welcome you to explore the latest exhibition featuring stunning new artworks from our talented Route 22 Artist Member Collective. \nEnjoy delicious hors d’oeuvres and meet the amazing Route 22 Artists! \nDate: Saturday\, August 30th\, 2025 \nTime: 4:00 pm – 8:00 pm \nLocation: Route 22 Artist Collective Gallery\, Cochrane\, AB \nDon’t miss out on this vibrant celebration of art and community\, see you there! \nFor more information please visit our website at route22gallery.com for our Monthly Event Calendar!
URL:https://urbancasual.ca/cochrane-event/new-interchange-opening-reception/
LOCATION:Route 22 Artist Collective Gallery\, 208 1st Street W.\, Cochrane\, Alberta\, Canada
CATEGORIES:Art,Community,Culture,DISCOVERY DAYS,Entertainment & Games,Family Friendly,Learning,Sale
ATTACH;FMTTYPE=image/jpeg:https://urbancasual.ca/wp-content/uploads/2025/08/UPDATED-INTERCHANGE-AUG-30.jpg
ORGANIZER;CN="Route 22 Artist Collective Gallery":MAILTO:INFO@ROUTE22GALLERY.COM
END:VEVENT
END:VCALENDAR