BEGIN:VCALENDAR
VERSION:2.0
PRODID:-//Urbancasual.ca - ECPv6.15.20//NONSGML v1.0//EN
CALSCALE:GREGORIAN
METHOD:PUBLISH
X-WR-CALNAME:Urbancasual.ca
X-ORIGINAL-URL:https://urbancasual.ca
X-WR-CALDESC:Events for Urbancasual.ca
REFRESH-INTERVAL;VALUE=DURATION:PT1H
X-Robots-Tag:noindex
X-PUBLISHED-TTL:PT1H
BEGIN:VTIMEZONE
TZID:America/Edmonton
BEGIN:DAYLIGHT
TZOFFSETFROM:-0700
TZOFFSETTO:-0600
TZNAME:MDT
DTSTART:20250309T090000
END:DAYLIGHT
BEGIN:STANDARD
TZOFFSETFROM:-0600
TZOFFSETTO:-0700
TZNAME:MST
DTSTART:20251102T080000
END:STANDARD
BEGIN:DAYLIGHT
TZOFFSETFROM:-0700
TZOFFSETTO:-0600
TZNAME:MDT
DTSTART:20260308T090000
END:DAYLIGHT
BEGIN:STANDARD
TZOFFSETFROM:-0600
TZOFFSETTO:-0700
TZNAME:MST
DTSTART:20261101T080000
END:STANDARD
BEGIN:DAYLIGHT
TZOFFSETFROM:-0700
TZOFFSETTO:-0600
TZNAME:MDT
DTSTART:20270314T090000
END:DAYLIGHT
BEGIN:STANDARD
TZOFFSETFROM:-0600
TZOFFSETTO:-0700
TZNAME:MST
DTSTART:20271107T080000
END:STANDARD
END:VTIMEZONE
BEGIN:VEVENT
DTSTART;TZID=America/Edmonton:20260201T120000
DTEND;TZID=America/Edmonton:20260201T150000
DTSTAMP:20260419T161811
CREATED:20260129T202943Z
LAST-MODIFIED:20260129T203011Z
UID:10054242-1769947200-1769958000@urbancasual.ca
SUMMARY:The Social Spot is 4!
DESCRIPTION:Join us as we celebrate 4 years of The Social Spot Marketplace – and one year in our new space! Stop by on Sunday\, February 1st from 12-3 PM to connect with some of our incredible vendors\, enjoy in-store promotions\, sample local favourites\, and enter to win a range of great prizes!Prizes include: Two weekend passes to Bow Valley Boot Stomp A $100 Social Spot gift card Handmade earrings from @thedabblingartisan A Natural Char Yamnuska tea light holder (set of 4) from The Originals Emporium Plus even more goodies from @kirks_alpaca_farm \, Chromatic Cards\, and @naturenotescanadaEnjoy samples from Meskari\, The Salt Cellar and Wildcat Coffee Company\, plus in-store promotions from Kirk’s Alpaca Farm\, The Originals Emporium\, Chromatic Cards\, and @pampasandreed.And\, of course\, a few extra surprises along the way!Hope you can pop by and celebrate with us!
URL:https://urbancasual.ca/cochrane-event/the-social-spot-is-4/
LOCATION:The Social Spot Marketplace\, 218 1 St W\, Cochrane\, AB\, T4C1Z6\, Canada
CATEGORIES:Anniversary,Business,Downtown,Shopping
ATTACH;FMTTYPE=image/jpeg:https://urbancasual.ca/wp-content/uploads/2026/01/622423355_1320520186760057_8925044240046738975_n.jpg
END:VEVENT
END:VCALENDAR