BEGIN:VCALENDAR
VERSION:2.0
PRODID:-//Urbancasual.ca - ECPv6.15.20//NONSGML v1.0//EN
CALSCALE:GREGORIAN
METHOD:PUBLISH
X-WR-CALNAME:Urbancasual.ca
X-ORIGINAL-URL:https://urbancasual.ca
X-WR-CALDESC:Events for Urbancasual.ca
REFRESH-INTERVAL;VALUE=DURATION:PT1H
X-Robots-Tag:noindex
X-PUBLISHED-TTL:PT1H
BEGIN:VTIMEZONE
TZID:America/Edmonton
BEGIN:DAYLIGHT
TZOFFSETFROM:-0700
TZOFFSETTO:-0600
TZNAME:MDT
DTSTART:20240310T090000
END:DAYLIGHT
BEGIN:STANDARD
TZOFFSETFROM:-0600
TZOFFSETTO:-0700
TZNAME:MST
DTSTART:20241103T080000
END:STANDARD
BEGIN:DAYLIGHT
TZOFFSETFROM:-0700
TZOFFSETTO:-0600
TZNAME:MDT
DTSTART:20250309T090000
END:DAYLIGHT
BEGIN:STANDARD
TZOFFSETFROM:-0600
TZOFFSETTO:-0700
TZNAME:MST
DTSTART:20251102T080000
END:STANDARD
BEGIN:DAYLIGHT
TZOFFSETFROM:-0700
TZOFFSETTO:-0600
TZNAME:MDT
DTSTART:20260308T090000
END:DAYLIGHT
BEGIN:STANDARD
TZOFFSETFROM:-0600
TZOFFSETTO:-0700
TZNAME:MST
DTSTART:20261101T080000
END:STANDARD
END:VTIMEZONE
BEGIN:VEVENT
DTSTART;TZID=America/Edmonton:20250815T100000
DTEND;TZID=America/Edmonton:20250815T180000
DTSTAMP:20260421T222827
CREATED:20250729T225823Z
LAST-MODIFIED:20250729T225823Z
UID:10049763-1755252000-1755280800@urbancasual.ca
SUMMARY:One Year Celebration at THriv Apparel
DESCRIPTION:Join us in celebrating a year of THriving in our community!\n\nGiveaways\, light refreshments will be served.\n\nBUY ONE GET ONE FREE* select products*\n\nBring a non perishable donation for helping hands.
URL:https://urbancasual.ca/cochrane-event/one-year-celebration-at-thriv-apparel/
LOCATION:Thriv Apparel\, 2nd Street W\, Cochrane
CATEGORIES:Anniversary,Business,Downtown,Shopping
ATTACH;FMTTYPE=image/jpeg:https://urbancasual.ca/wp-content/uploads/2025/07/517169742_122201877872268671_9091837882609740237_n.jpg
END:VEVENT
END:VCALENDAR