BEGIN:VCALENDAR
VERSION:2.0
PRODID:-//Urbancasual.ca - ECPv6.15.20//NONSGML v1.0//EN
CALSCALE:GREGORIAN
METHOD:PUBLISH
X-WR-CALNAME:Urbancasual.ca
X-ORIGINAL-URL:https://urbancasual.ca
X-WR-CALDESC:Events for Urbancasual.ca
REFRESH-INTERVAL;VALUE=DURATION:PT1H
X-Robots-Tag:noindex
X-PUBLISHED-TTL:PT1H
BEGIN:VTIMEZONE
TZID:America/Edmonton
BEGIN:DAYLIGHT
TZOFFSETFROM:-0700
TZOFFSETTO:-0600
TZNAME:MDT
DTSTART:20230312T090000
END:DAYLIGHT
BEGIN:STANDARD
TZOFFSETFROM:-0600
TZOFFSETTO:-0700
TZNAME:MST
DTSTART:20231105T080000
END:STANDARD
BEGIN:DAYLIGHT
TZOFFSETFROM:-0700
TZOFFSETTO:-0600
TZNAME:MDT
DTSTART:20240310T090000
END:DAYLIGHT
BEGIN:STANDARD
TZOFFSETFROM:-0600
TZOFFSETTO:-0700
TZNAME:MST
DTSTART:20241103T080000
END:STANDARD
BEGIN:DAYLIGHT
TZOFFSETFROM:-0700
TZOFFSETTO:-0600
TZNAME:MDT
DTSTART:20250309T090000
END:DAYLIGHT
BEGIN:STANDARD
TZOFFSETFROM:-0600
TZOFFSETTO:-0700
TZNAME:MST
DTSTART:20251102T080000
END:STANDARD
END:VTIMEZONE
BEGIN:VEVENT
DTSTART;TZID=America/Edmonton:20241007T190000
DTEND;TZID=America/Edmonton:20241007T210000
DTSTAMP:20260424T193454
CREATED:20240827T005211Z
LAST-MODIFIED:20240827T005250Z
UID:10035579-1728327600-1728334800@urbancasual.ca
SUMMARY:Cochrane Sings
DESCRIPTION:
URL:https://urbancasual.ca/cochrane-event/cochrane-sings/2024-10-07/
LOCATION:All Saints Anglican Church\, 404 Fourth Ave N\, Cochrane\, Alberta
CATEGORIES:Adults Only,Choir,Club,Community,Concert,Entertainment & Games,Music
ATTACH;FMTTYPE=image/jpeg:https://urbancasual.ca/wp-content/uploads/2024/08/cochrane-sings.jpg
END:VEVENT
BEGIN:VEVENT
DTSTART;TZID=America/Edmonton:20241008T190000
DTEND;TZID=America/Edmonton:20241008T220000
DTSTAMP:20260424T193454
CREATED:20241002T232842Z
LAST-MODIFIED:20241002T232842Z
UID:10036201-1728414000-1728424800@urbancasual.ca
SUMMARY:Paint\, Sip & Create
DESCRIPTION:
URL:https://urbancasual.ca/cochrane-event/paint-sip-create-2/
CATEGORIES:Adults Only,Art,Learning,Pub/Bar Event
ATTACH;FMTTYPE=image/jpeg:https://urbancasual.ca/wp-content/uploads/2024/09/inbound744000743500171199.jpg
END:VEVENT
BEGIN:VEVENT
DTSTART;TZID=America/Edmonton:20241010T193000
DTEND;TZID=America/Edmonton:20241010T233000
DTSTAMP:20260424T193454
CREATED:20240718T163542Z
LAST-MODIFIED:20240718T163542Z
UID:10032892-1728588600-1728603000@urbancasual.ca
SUMMARY:Karaoke at the Venue
DESCRIPTION:🎤🍽 Join us at The Venue this Thursday for a night of delicious food and epic karaoke! \n🎶 Get ready to sing your heart out starting at 7:30pm. \nSee you there! #KaraokeNight #TheVenue #ThursdayVibes 🎤🍷
URL:https://urbancasual.ca/cochrane-event/karaoke-at-the-venue/2024-10-10/
CATEGORIES:Adults Only,Entertainment & Games,Pub/Bar Event,Restaurant
ATTACH;FMTTYPE=image/jpeg:https://urbancasual.ca/wp-content/uploads/2024/07/Screenshot_20240718_103348_Instagram.jpg
END:VEVENT
BEGIN:VEVENT
DTSTART;TZID=America/Edmonton:20241011T193000
DTEND;TZID=America/Edmonton:20241011T233000
DTSTAMP:20260424T193454
CREATED:20241010T050133Z
LAST-MODIFIED:20241010T153939Z
UID:10036267-1728675000-1728689400@urbancasual.ca
SUMMARY:LIVE MUSIC with The Lost Prospectors
DESCRIPTION:Live bluegrass music at the Shire. Great musicians with 4 part harmony will keep you dancing all night.
URL:https://urbancasual.ca/cochrane-event/live-music-this-saturday-oct-12-with-the-lost-prospectors/
LOCATION:The Shire Pub\, 8-57 West Aarsby Road\, Cochrane\, AB
CATEGORIES:Adults Only,Dance,Entertainment & Games,Music,Pub/Bar Event,Restaurant
ATTACH;FMTTYPE=image/jpeg:https://urbancasual.ca/wp-content/uploads/2024/10/lost-prospectors.jpg
END:VEVENT
END:VCALENDAR