BEGIN:VCALENDAR
VERSION:2.0
PRODID:-//Urbancasual.ca - ECPv6.15.20//NONSGML v1.0//EN
CALSCALE:GREGORIAN
METHOD:PUBLISH
X-ORIGINAL-URL:https://urbancasual.ca
X-WR-CALDESC:Events for Urbancasual.ca
REFRESH-INTERVAL;VALUE=DURATION:PT1H
X-Robots-Tag:noindex
X-PUBLISHED-TTL:PT1H
BEGIN:VTIMEZONE
TZID:America/Edmonton
BEGIN:DAYLIGHT
TZOFFSETFROM:-0700
TZOFFSETTO:-0600
TZNAME:MDT
DTSTART:20230312T090000
END:DAYLIGHT
BEGIN:STANDARD
TZOFFSETFROM:-0600
TZOFFSETTO:-0700
TZNAME:MST
DTSTART:20231105T080000
END:STANDARD
BEGIN:DAYLIGHT
TZOFFSETFROM:-0700
TZOFFSETTO:-0600
TZNAME:MDT
DTSTART:20240310T090000
END:DAYLIGHT
BEGIN:STANDARD
TZOFFSETFROM:-0600
TZOFFSETTO:-0700
TZNAME:MST
DTSTART:20241103T080000
END:STANDARD
BEGIN:DAYLIGHT
TZOFFSETFROM:-0700
TZOFFSETTO:-0600
TZNAME:MDT
DTSTART:20250309T090000
END:DAYLIGHT
BEGIN:STANDARD
TZOFFSETFROM:-0600
TZOFFSETTO:-0700
TZNAME:MST
DTSTART:20251102T080000
END:STANDARD
END:VTIMEZONE
BEGIN:VEVENT
DTSTART;TZID=America/Edmonton:20240916T190000
DTEND;TZID=America/Edmonton:20240916T210000
DTSTAMP:20260424T194122
CREATED:20240827T005211Z
LAST-MODIFIED:20240827T005250Z
UID:10035576-1726513200-1726520400@urbancasual.ca
SUMMARY:Cochrane Sings
DESCRIPTION:
URL:https://urbancasual.ca/cochrane-event/cochrane-sings/2024-09-16/
LOCATION:All Saints Anglican Church\, 404 Fourth Ave N\, Cochrane\, Alberta
CATEGORIES:Adults Only,Choir,Club,Community,Concert,Entertainment & Games,Music
ATTACH;FMTTYPE=image/jpeg:https://urbancasual.ca/wp-content/uploads/2024/08/cochrane-sings.jpg
END:VEVENT
BEGIN:VEVENT
DTSTART;TZID=America/Edmonton:20240919T193000
DTEND;TZID=America/Edmonton:20240919T233000
DTSTAMP:20260424T194122
CREATED:20240718T163542Z
LAST-MODIFIED:20240718T163542Z
UID:10032889-1726774200-1726788600@urbancasual.ca
SUMMARY:Karaoke at the Venue
DESCRIPTION:🎤🍽 Join us at The Venue this Thursday for a night of delicious food and epic karaoke! \n🎶 Get ready to sing your heart out starting at 7:30pm. \nSee you there! #KaraokeNight #TheVenue #ThursdayVibes 🎤🍷
URL:https://urbancasual.ca/cochrane-event/karaoke-at-the-venue/2024-09-19/
CATEGORIES:Adults Only,Entertainment & Games,Pub/Bar Event,Restaurant
ATTACH;FMTTYPE=image/jpeg:https://urbancasual.ca/wp-content/uploads/2024/07/Screenshot_20240718_103348_Instagram.jpg
END:VEVENT
BEGIN:VEVENT
DTSTART;TZID=America/Edmonton:20240921T190000
DTEND;TZID=America/Edmonton:20240921T235900
DTSTAMP:20260424T194122
CREATED:20240823T173709Z
LAST-MODIFIED:20240823T175049Z
UID:10035562-1726945200-1726963140@urbancasual.ca
SUMMARY:Cochrane's Oktoberfest 2024
DESCRIPTION:PROST! Cochrane’s Annual Oktoberfest returns for 2024 celebrations on September 21st!\n\nJoin us at the Lion’s Event Centre for endless steins of craft beer\, live music\, and Bavarian snacks!\n\nGet ready for games\, prizes\, and dancing in your Oktoberfest best as Premium Akkord delivers a mix of traditional Oktoberfest tunes\, Schlager hits\, and contemporary pop-rock & country. Plus\, don’t miss the unforgettable Yodel Ladies making a special appearance. It’s the Oktoberfest you know and love—bigger and better than ever!\n\nAdmission is $30General admission includes entry\, entertainment & prizes\, with food and drinks available for purchase onsite.\nDoors at 7pm – Band starts at 8pmAGE 18+\nJoin us as we kick-off this awesome annual celebration! It’s going to be one hell of a good time\, ya!\n\nCochrane Lions Club Event Centre109 Fifth Avenue Cochrane\, AB T4C 0A4\n\nPurchase tickets here now:  https://www.eventbrite.ca/e/cochrane-oktoberfest-2024-tickets-1000351868367?aff=oddtdtcreator&fbclid=IwY2xjawE1p8NleHRuA2FlbQIxMAABHZOGP1hHosiaxXxAOGBsZJgMAAg8nvA8wZztLEkUhX5o3ibdCwkdLlVk2g_aem_C4LkNR8iXWZnn8taHoTi-g
URL:https://urbancasual.ca/cochrane-event/cochranes-oktoberfest-2024/
CATEGORIES:Adults Only,Dance,Downtown,Entertainment & Games,Oktoberfest 2024,Pub/Bar Event
ATTACH;FMTTYPE=image/jpeg:https://urbancasual.ca/wp-content/uploads/2024/08/456325398_1036153991847363_7263978390188813061_n-1.jpg
END:VEVENT
END:VCALENDAR