BEGIN:VCALENDAR
VERSION:2.0
PRODID:-//Urbancasual.ca - ECPv6.15.20//NONSGML v1.0//EN
CALSCALE:GREGORIAN
METHOD:PUBLISH
X-WR-CALNAME:Urbancasual.ca
X-ORIGINAL-URL:https://urbancasual.ca
X-WR-CALDESC:Events for Urbancasual.ca
REFRESH-INTERVAL;VALUE=DURATION:PT1H
X-Robots-Tag:noindex
X-PUBLISHED-TTL:PT1H
BEGIN:VTIMEZONE
TZID:America/Edmonton
BEGIN:DAYLIGHT
TZOFFSETFROM:-0700
TZOFFSETTO:-0600
TZNAME:MDT
DTSTART:20290311T090000
END:DAYLIGHT
BEGIN:STANDARD
TZOFFSETFROM:-0600
TZOFFSETTO:-0700
TZNAME:MST
DTSTART:20291104T080000
END:STANDARD
BEGIN:DAYLIGHT
TZOFFSETFROM:-0700
TZOFFSETTO:-0600
TZNAME:MDT
DTSTART:20300310T090000
END:DAYLIGHT
BEGIN:STANDARD
TZOFFSETFROM:-0600
TZOFFSETTO:-0700
TZNAME:MST
DTSTART:20301103T080000
END:STANDARD
BEGIN:DAYLIGHT
TZOFFSETFROM:-0700
TZOFFSETTO:-0600
TZNAME:MDT
DTSTART:20310309T090000
END:DAYLIGHT
BEGIN:STANDARD
TZOFFSETFROM:-0600
TZOFFSETTO:-0700
TZNAME:MST
DTSTART:20311102T080000
END:STANDARD
END:VTIMEZONE
BEGIN:VEVENT
DTSTART;TZID=America/Edmonton:20300226T190000
DTEND;TZID=America/Edmonton:20300226T220000
DTSTAMP:20260421T183059
CREATED:20260329T005646Z
LAST-MODIFIED:20260329T005959Z
UID:10058580-1898362800-1898373600@urbancasual.ca
SUMMARY:OPEN MIC / OPEN JAM AT THE SHIRE PUB
DESCRIPTION:Every Tuesday we have a Jam/Open Mic night for all . \nNo matter what instrument or type of music you play\, come on down.
URL:https://urbancasual.ca/cochrane-event/open-mic-open-jam-at-the-shire-pub/2030-02-26/
LOCATION:The Shire Pub\, 8-57 West Aarsby Road\, Cochrane\, AB
CATEGORIES:Adults Only,Entertainment & Games,Music,OPEN MIC,Pub/Bar Event,Restaurant
ATTACH;FMTTYPE=image/webp:https://urbancasual.ca/wp-content/uploads/2026/03/432615705_386171574189780_2391788280087978784_n-768x614-1.webp
END:VEVENT
BEGIN:VEVENT
DTSTART;TZID=America/Edmonton:20300301T190000
DTEND;TZID=America/Edmonton:20300301T220000
DTSTAMP:20260421T183059
CREATED:20260328T204426Z
LAST-MODIFIED:20260328T204426Z
UID:10058361-1898622000-1898632800@urbancasual.ca
SUMMARY:IRISH MUSIC AT THE SHIRE PUB
DESCRIPTION:The first Friday of every month \, The Shire pub welcomes the Irish club of calgary to play traditional irish music.
URL:https://urbancasual.ca/cochrane-event/irish-music-at-the-shire-pub/2030-03-01/
LOCATION:The Shire Pub\, 8-57 West Aarsby Road\, Cochrane\, AB
CATEGORIES:Adults Only,Entertainment & Games,Music,Pub/Bar Event,Restaurant
ATTACH;FMTTYPE=image/gif:https://urbancasual.ca/wp-content/uploads/2026/03/trad-irish-2.gif
END:VEVENT
BEGIN:VEVENT
DTSTART;TZID=America/Edmonton:20300302T210000
DTEND;TZID=America/Edmonton:20300303T020000
DTSTAMP:20260421T183059
CREATED:20260416T172129Z
LAST-MODIFIED:20260416T172129Z
UID:10059539-1898715600-1898733600@urbancasual.ca
SUMMARY:LIVE MUSIC AT THE VENUE
DESCRIPTION:APRIL AT THE VENUE \n\n\nCochrane’s #1 Nightlife Spot\n\n\nNew vibes. Bigger nights. Non-stop entertainment.\n\n\n\n\n\n\n\n\n From country to full party mode \n\n\n EVERY SATURDAY – LIVE BANDS (9PM – 2AM)\n\n\n\nAPRIL 4 – ALLEN CHRISTIE\n(Folk Rock • Soft Pop Rock)\n\n\n\nAPRIL 11 – ROCK BOTTOM\n(70s • 80s • 90s Rock & Roll)\n\n\n\nAPRIL 18 – STATIC\n(Classic Rock Favorites)\n\n\n\nAPRIL 25 – KRANK’D\n(Classic Rock • Hard Rock • Modern Hits)\n\n\n\n Every Saturday = packed dance floor\n\n\n\n\n\n\n\n THE VENUE\n79 Railway St. E\, Cochrane
URL:https://urbancasual.ca/cochrane-event/live-music-at-the-venue-602/2030-03-02/
LOCATION:VENUE SPORTSBAR AND GRILL
CATEGORIES:Adults Only,Downtown,Entertainment & Games,Music,Pub/Bar Event,Restaurant
ATTACH;FMTTYPE=image/jpeg:https://urbancasual.ca/wp-content/uploads/2026/04/657258995_17966147115019573_2071770635758293235_n.jpg
END:VEVENT
BEGIN:VEVENT
DTSTART;TZID=America/Edmonton:20300305T190000
DTEND;TZID=America/Edmonton:20300305T220000
DTSTAMP:20260421T183059
CREATED:20260329T005646Z
LAST-MODIFIED:20260329T005959Z
UID:10058581-1898967600-1898978400@urbancasual.ca
SUMMARY:OPEN MIC / OPEN JAM AT THE SHIRE PUB
DESCRIPTION:Every Tuesday we have a Jam/Open Mic night for all . \nNo matter what instrument or type of music you play\, come on down.
URL:https://urbancasual.ca/cochrane-event/open-mic-open-jam-at-the-shire-pub/2030-03-05/
LOCATION:The Shire Pub\, 8-57 West Aarsby Road\, Cochrane\, AB
CATEGORIES:Adults Only,Entertainment & Games,Music,OPEN MIC,Pub/Bar Event,Restaurant
ATTACH;FMTTYPE=image/webp:https://urbancasual.ca/wp-content/uploads/2026/03/432615705_386171574189780_2391788280087978784_n-768x614-1.webp
END:VEVENT
BEGIN:VEVENT
DTSTART;TZID=America/Edmonton:20300309T210000
DTEND;TZID=America/Edmonton:20300310T030000
DTSTAMP:20260421T183059
CREATED:20260416T172129Z
LAST-MODIFIED:20260416T172129Z
UID:10059540-1899320400-1899342000@urbancasual.ca
SUMMARY:LIVE MUSIC AT THE VENUE
DESCRIPTION:APRIL AT THE VENUE \n\n\nCochrane’s #1 Nightlife Spot\n\n\nNew vibes. Bigger nights. Non-stop entertainment.\n\n\n\n\n\n\n\n\n From country to full party mode \n\n\n EVERY SATURDAY – LIVE BANDS (9PM – 2AM)\n\n\n\nAPRIL 4 – ALLEN CHRISTIE\n(Folk Rock • Soft Pop Rock)\n\n\n\nAPRIL 11 – ROCK BOTTOM\n(70s • 80s • 90s Rock & Roll)\n\n\n\nAPRIL 18 – STATIC\n(Classic Rock Favorites)\n\n\n\nAPRIL 25 – KRANK’D\n(Classic Rock • Hard Rock • Modern Hits)\n\n\n\n Every Saturday = packed dance floor\n\n\n\n\n\n\n\n THE VENUE\n79 Railway St. E\, Cochrane
URL:https://urbancasual.ca/cochrane-event/live-music-at-the-venue-602/2030-03-09/
LOCATION:VENUE SPORTSBAR AND GRILL
CATEGORIES:Adults Only,Downtown,Entertainment & Games,Music,Pub/Bar Event,Restaurant
ATTACH;FMTTYPE=image/jpeg:https://urbancasual.ca/wp-content/uploads/2026/04/657258995_17966147115019573_2071770635758293235_n.jpg
END:VEVENT
BEGIN:VEVENT
DTSTART;TZID=America/Edmonton:20300312T190000
DTEND;TZID=America/Edmonton:20300312T220000
DTSTAMP:20260421T183059
CREATED:20260329T005646Z
LAST-MODIFIED:20260329T005959Z
UID:10058582-1899572400-1899583200@urbancasual.ca
SUMMARY:OPEN MIC / OPEN JAM AT THE SHIRE PUB
DESCRIPTION:Every Tuesday we have a Jam/Open Mic night for all . \nNo matter what instrument or type of music you play\, come on down.
URL:https://urbancasual.ca/cochrane-event/open-mic-open-jam-at-the-shire-pub/2030-03-12/
LOCATION:The Shire Pub\, 8-57 West Aarsby Road\, Cochrane\, AB
CATEGORIES:Adults Only,Entertainment & Games,Music,OPEN MIC,Pub/Bar Event,Restaurant
ATTACH;FMTTYPE=image/webp:https://urbancasual.ca/wp-content/uploads/2026/03/432615705_386171574189780_2391788280087978784_n-768x614-1.webp
END:VEVENT
BEGIN:VEVENT
DTSTART;TZID=America/Edmonton:20300314T190000
DTEND;TZID=America/Edmonton:20300314T220000
DTSTAMP:20260421T183059
CREATED:20260328T203709Z
LAST-MODIFIED:20260328T203709Z
UID:10058300-1899745200-1899756000@urbancasual.ca
SUMMARY:MUSIC BINGO
DESCRIPTION:Music bingo every 2nd-second Thursday of each month at the Shire Pub.
URL:https://urbancasual.ca/cochrane-event/music-bingo-2/2030-03-14/
LOCATION:The Shire Pub\, 8-57 West Aarsby Road\, Cochrane\, AB
CATEGORIES:Adults Only,Entertainment & Games,Music,Pub/Bar Event,Restaurant
ATTACH;FMTTYPE=image/webp:https://urbancasual.ca/wp-content/uploads/2026/03/MUSICALBINGO.webp
END:VEVENT
BEGIN:VEVENT
DTSTART;TZID=America/Edmonton:20300316T210000
DTEND;TZID=America/Edmonton:20300317T020000
DTSTAMP:20260421T183059
CREATED:20260416T172129Z
LAST-MODIFIED:20260416T172129Z
UID:10059541-1899925200-1899943200@urbancasual.ca
SUMMARY:LIVE MUSIC AT THE VENUE
DESCRIPTION:APRIL AT THE VENUE \n\n\nCochrane’s #1 Nightlife Spot\n\n\nNew vibes. Bigger nights. Non-stop entertainment.\n\n\n\n\n\n\n\n\n From country to full party mode \n\n\n EVERY SATURDAY – LIVE BANDS (9PM – 2AM)\n\n\n\nAPRIL 4 – ALLEN CHRISTIE\n(Folk Rock • Soft Pop Rock)\n\n\n\nAPRIL 11 – ROCK BOTTOM\n(70s • 80s • 90s Rock & Roll)\n\n\n\nAPRIL 18 – STATIC\n(Classic Rock Favorites)\n\n\n\nAPRIL 25 – KRANK’D\n(Classic Rock • Hard Rock • Modern Hits)\n\n\n\n Every Saturday = packed dance floor\n\n\n\n\n\n\n\n THE VENUE\n79 Railway St. E\, Cochrane
URL:https://urbancasual.ca/cochrane-event/live-music-at-the-venue-602/2030-03-16/
LOCATION:VENUE SPORTSBAR AND GRILL
CATEGORIES:Adults Only,Downtown,Entertainment & Games,Music,Pub/Bar Event,Restaurant
ATTACH;FMTTYPE=image/jpeg:https://urbancasual.ca/wp-content/uploads/2026/04/657258995_17966147115019573_2071770635758293235_n.jpg
END:VEVENT
BEGIN:VEVENT
DTSTART;TZID=America/Edmonton:20300319T190000
DTEND;TZID=America/Edmonton:20300319T220000
DTSTAMP:20260421T183059
CREATED:20260329T005646Z
LAST-MODIFIED:20260329T005959Z
UID:10058583-1900177200-1900188000@urbancasual.ca
SUMMARY:OPEN MIC / OPEN JAM AT THE SHIRE PUB
DESCRIPTION:Every Tuesday we have a Jam/Open Mic night for all . \nNo matter what instrument or type of music you play\, come on down.
URL:https://urbancasual.ca/cochrane-event/open-mic-open-jam-at-the-shire-pub/2030-03-19/
LOCATION:The Shire Pub\, 8-57 West Aarsby Road\, Cochrane\, AB
CATEGORIES:Adults Only,Entertainment & Games,Music,OPEN MIC,Pub/Bar Event,Restaurant
ATTACH;FMTTYPE=image/webp:https://urbancasual.ca/wp-content/uploads/2026/03/432615705_386171574189780_2391788280087978784_n-768x614-1.webp
END:VEVENT
BEGIN:VEVENT
DTSTART;TZID=America/Edmonton:20300323T210000
DTEND;TZID=America/Edmonton:20300324T020000
DTSTAMP:20260421T183059
CREATED:20260416T172129Z
LAST-MODIFIED:20260416T172129Z
UID:10059542-1900530000-1900548000@urbancasual.ca
SUMMARY:LIVE MUSIC AT THE VENUE
DESCRIPTION:APRIL AT THE VENUE \n\n\nCochrane’s #1 Nightlife Spot\n\n\nNew vibes. Bigger nights. Non-stop entertainment.\n\n\n\n\n\n\n\n\n From country to full party mode \n\n\n EVERY SATURDAY – LIVE BANDS (9PM – 2AM)\n\n\n\nAPRIL 4 – ALLEN CHRISTIE\n(Folk Rock • Soft Pop Rock)\n\n\n\nAPRIL 11 – ROCK BOTTOM\n(70s • 80s • 90s Rock & Roll)\n\n\n\nAPRIL 18 – STATIC\n(Classic Rock Favorites)\n\n\n\nAPRIL 25 – KRANK’D\n(Classic Rock • Hard Rock • Modern Hits)\n\n\n\n Every Saturday = packed dance floor\n\n\n\n\n\n\n\n THE VENUE\n79 Railway St. E\, Cochrane
URL:https://urbancasual.ca/cochrane-event/live-music-at-the-venue-602/2030-03-23/
LOCATION:VENUE SPORTSBAR AND GRILL
CATEGORIES:Adults Only,Downtown,Entertainment & Games,Music,Pub/Bar Event,Restaurant
ATTACH;FMTTYPE=image/jpeg:https://urbancasual.ca/wp-content/uploads/2026/04/657258995_17966147115019573_2071770635758293235_n.jpg
END:VEVENT
BEGIN:VEVENT
DTSTART;TZID=America/Edmonton:20300326T190000
DTEND;TZID=America/Edmonton:20300326T220000
DTSTAMP:20260421T183059
CREATED:20260329T005646Z
LAST-MODIFIED:20260329T005959Z
UID:10058584-1900782000-1900792800@urbancasual.ca
SUMMARY:OPEN MIC / OPEN JAM AT THE SHIRE PUB
DESCRIPTION:Every Tuesday we have a Jam/Open Mic night for all . \nNo matter what instrument or type of music you play\, come on down.
URL:https://urbancasual.ca/cochrane-event/open-mic-open-jam-at-the-shire-pub/2030-03-26/
LOCATION:The Shire Pub\, 8-57 West Aarsby Road\, Cochrane\, AB
CATEGORIES:Adults Only,Entertainment & Games,Music,OPEN MIC,Pub/Bar Event,Restaurant
ATTACH;FMTTYPE=image/webp:https://urbancasual.ca/wp-content/uploads/2026/03/432615705_386171574189780_2391788280087978784_n-768x614-1.webp
END:VEVENT
BEGIN:VEVENT
DTSTART;TZID=America/Edmonton:20300330T210000
DTEND;TZID=America/Edmonton:20300331T020000
DTSTAMP:20260421T183059
CREATED:20260416T172129Z
LAST-MODIFIED:20260416T172129Z
UID:10059543-1901134800-1901152800@urbancasual.ca
SUMMARY:LIVE MUSIC AT THE VENUE
DESCRIPTION:APRIL AT THE VENUE \n\n\nCochrane’s #1 Nightlife Spot\n\n\nNew vibes. Bigger nights. Non-stop entertainment.\n\n\n\n\n\n\n\n\n From country to full party mode \n\n\n EVERY SATURDAY – LIVE BANDS (9PM – 2AM)\n\n\n\nAPRIL 4 – ALLEN CHRISTIE\n(Folk Rock • Soft Pop Rock)\n\n\n\nAPRIL 11 – ROCK BOTTOM\n(70s • 80s • 90s Rock & Roll)\n\n\n\nAPRIL 18 – STATIC\n(Classic Rock Favorites)\n\n\n\nAPRIL 25 – KRANK’D\n(Classic Rock • Hard Rock • Modern Hits)\n\n\n\n Every Saturday = packed dance floor\n\n\n\n\n\n\n\n THE VENUE\n79 Railway St. E\, Cochrane
URL:https://urbancasual.ca/cochrane-event/live-music-at-the-venue-602/2030-03-30/
LOCATION:VENUE SPORTSBAR AND GRILL
CATEGORIES:Adults Only,Downtown,Entertainment & Games,Music,Pub/Bar Event,Restaurant
ATTACH;FMTTYPE=image/jpeg:https://urbancasual.ca/wp-content/uploads/2026/04/657258995_17966147115019573_2071770635758293235_n.jpg
END:VEVENT
BEGIN:VEVENT
DTSTART;TZID=America/Edmonton:20300402T190000
DTEND;TZID=America/Edmonton:20300402T220000
DTSTAMP:20260421T183059
CREATED:20260329T005646Z
LAST-MODIFIED:20260329T005959Z
UID:10058585-1901386800-1901397600@urbancasual.ca
SUMMARY:OPEN MIC / OPEN JAM AT THE SHIRE PUB
DESCRIPTION:Every Tuesday we have a Jam/Open Mic night for all . \nNo matter what instrument or type of music you play\, come on down.
URL:https://urbancasual.ca/cochrane-event/open-mic-open-jam-at-the-shire-pub/2030-04-02/
LOCATION:The Shire Pub\, 8-57 West Aarsby Road\, Cochrane\, AB
CATEGORIES:Adults Only,Entertainment & Games,Music,OPEN MIC,Pub/Bar Event,Restaurant
ATTACH;FMTTYPE=image/webp:https://urbancasual.ca/wp-content/uploads/2026/03/432615705_386171574189780_2391788280087978784_n-768x614-1.webp
END:VEVENT
BEGIN:VEVENT
DTSTART;TZID=America/Edmonton:20300405T190000
DTEND;TZID=America/Edmonton:20300405T220000
DTSTAMP:20260421T183059
CREATED:20260328T204426Z
LAST-MODIFIED:20260328T204426Z
UID:10058362-1901646000-1901656800@urbancasual.ca
SUMMARY:IRISH MUSIC AT THE SHIRE PUB
DESCRIPTION:The first Friday of every month \, The Shire pub welcomes the Irish club of calgary to play traditional irish music.
URL:https://urbancasual.ca/cochrane-event/irish-music-at-the-shire-pub/2030-04-05/
LOCATION:The Shire Pub\, 8-57 West Aarsby Road\, Cochrane\, AB
CATEGORIES:Adults Only,Entertainment & Games,Music,Pub/Bar Event,Restaurant
ATTACH;FMTTYPE=image/gif:https://urbancasual.ca/wp-content/uploads/2026/03/trad-irish-2.gif
END:VEVENT
BEGIN:VEVENT
DTSTART;TZID=America/Edmonton:20300406T210000
DTEND;TZID=America/Edmonton:20300407T020000
DTSTAMP:20260421T183059
CREATED:20260416T172129Z
LAST-MODIFIED:20260416T172129Z
UID:10059544-1901739600-1901757600@urbancasual.ca
SUMMARY:LIVE MUSIC AT THE VENUE
DESCRIPTION:APRIL AT THE VENUE \n\n\nCochrane’s #1 Nightlife Spot\n\n\nNew vibes. Bigger nights. Non-stop entertainment.\n\n\n\n\n\n\n\n\n From country to full party mode \n\n\n EVERY SATURDAY – LIVE BANDS (9PM – 2AM)\n\n\n\nAPRIL 4 – ALLEN CHRISTIE\n(Folk Rock • Soft Pop Rock)\n\n\n\nAPRIL 11 – ROCK BOTTOM\n(70s • 80s • 90s Rock & Roll)\n\n\n\nAPRIL 18 – STATIC\n(Classic Rock Favorites)\n\n\n\nAPRIL 25 – KRANK’D\n(Classic Rock • Hard Rock • Modern Hits)\n\n\n\n Every Saturday = packed dance floor\n\n\n\n\n\n\n\n THE VENUE\n79 Railway St. E\, Cochrane
URL:https://urbancasual.ca/cochrane-event/live-music-at-the-venue-602/2030-04-06/
LOCATION:VENUE SPORTSBAR AND GRILL
CATEGORIES:Adults Only,Downtown,Entertainment & Games,Music,Pub/Bar Event,Restaurant
ATTACH;FMTTYPE=image/jpeg:https://urbancasual.ca/wp-content/uploads/2026/04/657258995_17966147115019573_2071770635758293235_n.jpg
END:VEVENT
BEGIN:VEVENT
DTSTART;TZID=America/Edmonton:20300409T190000
DTEND;TZID=America/Edmonton:20300409T220000
DTSTAMP:20260421T183059
CREATED:20260329T005646Z
LAST-MODIFIED:20260329T005959Z
UID:10058586-1901991600-1902002400@urbancasual.ca
SUMMARY:OPEN MIC / OPEN JAM AT THE SHIRE PUB
DESCRIPTION:Every Tuesday we have a Jam/Open Mic night for all . \nNo matter what instrument or type of music you play\, come on down.
URL:https://urbancasual.ca/cochrane-event/open-mic-open-jam-at-the-shire-pub/2030-04-09/
LOCATION:The Shire Pub\, 8-57 West Aarsby Road\, Cochrane\, AB
CATEGORIES:Adults Only,Entertainment & Games,Music,OPEN MIC,Pub/Bar Event,Restaurant
ATTACH;FMTTYPE=image/webp:https://urbancasual.ca/wp-content/uploads/2026/03/432615705_386171574189780_2391788280087978784_n-768x614-1.webp
END:VEVENT
BEGIN:VEVENT
DTSTART;TZID=America/Edmonton:20300411T190000
DTEND;TZID=America/Edmonton:20300411T220000
DTSTAMP:20260421T183059
CREATED:20260328T203709Z
LAST-MODIFIED:20260328T203709Z
UID:10058301-1902164400-1902175200@urbancasual.ca
SUMMARY:MUSIC BINGO
DESCRIPTION:Music bingo every 2nd-second Thursday of each month at the Shire Pub.
URL:https://urbancasual.ca/cochrane-event/music-bingo-2/2030-04-11/
LOCATION:The Shire Pub\, 8-57 West Aarsby Road\, Cochrane\, AB
CATEGORIES:Adults Only,Entertainment & Games,Music,Pub/Bar Event,Restaurant
ATTACH;FMTTYPE=image/webp:https://urbancasual.ca/wp-content/uploads/2026/03/MUSICALBINGO.webp
END:VEVENT
BEGIN:VEVENT
DTSTART;TZID=America/Edmonton:20300413T210000
DTEND;TZID=America/Edmonton:20300414T020000
DTSTAMP:20260421T183059
CREATED:20260416T172129Z
LAST-MODIFIED:20260416T172129Z
UID:10059545-1902344400-1902362400@urbancasual.ca
SUMMARY:LIVE MUSIC AT THE VENUE
DESCRIPTION:APRIL AT THE VENUE \n\n\nCochrane’s #1 Nightlife Spot\n\n\nNew vibes. Bigger nights. Non-stop entertainment.\n\n\n\n\n\n\n\n\n From country to full party mode \n\n\n EVERY SATURDAY – LIVE BANDS (9PM – 2AM)\n\n\n\nAPRIL 4 – ALLEN CHRISTIE\n(Folk Rock • Soft Pop Rock)\n\n\n\nAPRIL 11 – ROCK BOTTOM\n(70s • 80s • 90s Rock & Roll)\n\n\n\nAPRIL 18 – STATIC\n(Classic Rock Favorites)\n\n\n\nAPRIL 25 – KRANK’D\n(Classic Rock • Hard Rock • Modern Hits)\n\n\n\n Every Saturday = packed dance floor\n\n\n\n\n\n\n\n THE VENUE\n79 Railway St. E\, Cochrane
URL:https://urbancasual.ca/cochrane-event/live-music-at-the-venue-602/2030-04-13/
LOCATION:VENUE SPORTSBAR AND GRILL
CATEGORIES:Adults Only,Downtown,Entertainment & Games,Music,Pub/Bar Event,Restaurant
ATTACH;FMTTYPE=image/jpeg:https://urbancasual.ca/wp-content/uploads/2026/04/657258995_17966147115019573_2071770635758293235_n.jpg
END:VEVENT
BEGIN:VEVENT
DTSTART;TZID=America/Edmonton:20300416T190000
DTEND;TZID=America/Edmonton:20300416T220000
DTSTAMP:20260421T183059
CREATED:20260329T005646Z
LAST-MODIFIED:20260329T005959Z
UID:10058587-1902596400-1902607200@urbancasual.ca
SUMMARY:OPEN MIC / OPEN JAM AT THE SHIRE PUB
DESCRIPTION:Every Tuesday we have a Jam/Open Mic night for all . \nNo matter what instrument or type of music you play\, come on down.
URL:https://urbancasual.ca/cochrane-event/open-mic-open-jam-at-the-shire-pub/2030-04-16/
LOCATION:The Shire Pub\, 8-57 West Aarsby Road\, Cochrane\, AB
CATEGORIES:Adults Only,Entertainment & Games,Music,OPEN MIC,Pub/Bar Event,Restaurant
ATTACH;FMTTYPE=image/webp:https://urbancasual.ca/wp-content/uploads/2026/03/432615705_386171574189780_2391788280087978784_n-768x614-1.webp
END:VEVENT
BEGIN:VEVENT
DTSTART;TZID=America/Edmonton:20300420T210000
DTEND;TZID=America/Edmonton:20300421T020000
DTSTAMP:20260421T183059
CREATED:20260416T172129Z
LAST-MODIFIED:20260416T172129Z
UID:10059546-1902949200-1902967200@urbancasual.ca
SUMMARY:LIVE MUSIC AT THE VENUE
DESCRIPTION:APRIL AT THE VENUE \n\n\nCochrane’s #1 Nightlife Spot\n\n\nNew vibes. Bigger nights. Non-stop entertainment.\n\n\n\n\n\n\n\n\n From country to full party mode \n\n\n EVERY SATURDAY – LIVE BANDS (9PM – 2AM)\n\n\n\nAPRIL 4 – ALLEN CHRISTIE\n(Folk Rock • Soft Pop Rock)\n\n\n\nAPRIL 11 – ROCK BOTTOM\n(70s • 80s • 90s Rock & Roll)\n\n\n\nAPRIL 18 – STATIC\n(Classic Rock Favorites)\n\n\n\nAPRIL 25 – KRANK’D\n(Classic Rock • Hard Rock • Modern Hits)\n\n\n\n Every Saturday = packed dance floor\n\n\n\n\n\n\n\n THE VENUE\n79 Railway St. E\, Cochrane
URL:https://urbancasual.ca/cochrane-event/live-music-at-the-venue-602/2030-04-20/
LOCATION:VENUE SPORTSBAR AND GRILL
CATEGORIES:Adults Only,Downtown,Entertainment & Games,Music,Pub/Bar Event,Restaurant
ATTACH;FMTTYPE=image/jpeg:https://urbancasual.ca/wp-content/uploads/2026/04/657258995_17966147115019573_2071770635758293235_n.jpg
END:VEVENT
BEGIN:VEVENT
DTSTART;TZID=America/Edmonton:20300423T190000
DTEND;TZID=America/Edmonton:20300423T220000
DTSTAMP:20260421T183059
CREATED:20260329T005646Z
LAST-MODIFIED:20260329T005959Z
UID:10058588-1903201200-1903212000@urbancasual.ca
SUMMARY:OPEN MIC / OPEN JAM AT THE SHIRE PUB
DESCRIPTION:Every Tuesday we have a Jam/Open Mic night for all . \nNo matter what instrument or type of music you play\, come on down.
URL:https://urbancasual.ca/cochrane-event/open-mic-open-jam-at-the-shire-pub/2030-04-23/
LOCATION:The Shire Pub\, 8-57 West Aarsby Road\, Cochrane\, AB
CATEGORIES:Adults Only,Entertainment & Games,Music,OPEN MIC,Pub/Bar Event,Restaurant
ATTACH;FMTTYPE=image/webp:https://urbancasual.ca/wp-content/uploads/2026/03/432615705_386171574189780_2391788280087978784_n-768x614-1.webp
END:VEVENT
BEGIN:VEVENT
DTSTART;TZID=America/Edmonton:20300427T210000
DTEND;TZID=America/Edmonton:20300428T020000
DTSTAMP:20260421T183059
CREATED:20260416T172129Z
LAST-MODIFIED:20260416T172129Z
UID:10059547-1903554000-1903572000@urbancasual.ca
SUMMARY:LIVE MUSIC AT THE VENUE
DESCRIPTION:APRIL AT THE VENUE \n\n\nCochrane’s #1 Nightlife Spot\n\n\nNew vibes. Bigger nights. Non-stop entertainment.\n\n\n\n\n\n\n\n\n From country to full party mode \n\n\n EVERY SATURDAY – LIVE BANDS (9PM – 2AM)\n\n\n\nAPRIL 4 – ALLEN CHRISTIE\n(Folk Rock • Soft Pop Rock)\n\n\n\nAPRIL 11 – ROCK BOTTOM\n(70s • 80s • 90s Rock & Roll)\n\n\n\nAPRIL 18 – STATIC\n(Classic Rock Favorites)\n\n\n\nAPRIL 25 – KRANK’D\n(Classic Rock • Hard Rock • Modern Hits)\n\n\n\n Every Saturday = packed dance floor\n\n\n\n\n\n\n\n THE VENUE\n79 Railway St. E\, Cochrane
URL:https://urbancasual.ca/cochrane-event/live-music-at-the-venue-602/2030-04-27/
LOCATION:VENUE SPORTSBAR AND GRILL
CATEGORIES:Adults Only,Downtown,Entertainment & Games,Music,Pub/Bar Event,Restaurant
ATTACH;FMTTYPE=image/jpeg:https://urbancasual.ca/wp-content/uploads/2026/04/657258995_17966147115019573_2071770635758293235_n.jpg
END:VEVENT
BEGIN:VEVENT
DTSTART;TZID=America/Edmonton:20300430T190000
DTEND;TZID=America/Edmonton:20300430T220000
DTSTAMP:20260421T183059
CREATED:20260329T005646Z
LAST-MODIFIED:20260329T005959Z
UID:10058589-1903806000-1903816800@urbancasual.ca
SUMMARY:OPEN MIC / OPEN JAM AT THE SHIRE PUB
DESCRIPTION:Every Tuesday we have a Jam/Open Mic night for all . \nNo matter what instrument or type of music you play\, come on down.
URL:https://urbancasual.ca/cochrane-event/open-mic-open-jam-at-the-shire-pub/2030-04-30/
LOCATION:The Shire Pub\, 8-57 West Aarsby Road\, Cochrane\, AB
CATEGORIES:Adults Only,Entertainment & Games,Music,OPEN MIC,Pub/Bar Event,Restaurant
ATTACH;FMTTYPE=image/webp:https://urbancasual.ca/wp-content/uploads/2026/03/432615705_386171574189780_2391788280087978784_n-768x614-1.webp
END:VEVENT
BEGIN:VEVENT
DTSTART;TZID=America/Edmonton:20300503T190000
DTEND;TZID=America/Edmonton:20300503T220000
DTSTAMP:20260421T183059
CREATED:20260328T204426Z
LAST-MODIFIED:20260328T204426Z
UID:10058363-1904065200-1904076000@urbancasual.ca
SUMMARY:IRISH MUSIC AT THE SHIRE PUB
DESCRIPTION:The first Friday of every month \, The Shire pub welcomes the Irish club of calgary to play traditional irish music.
URL:https://urbancasual.ca/cochrane-event/irish-music-at-the-shire-pub/2030-05-03/
LOCATION:The Shire Pub\, 8-57 West Aarsby Road\, Cochrane\, AB
CATEGORIES:Adults Only,Entertainment & Games,Music,Pub/Bar Event,Restaurant
ATTACH;FMTTYPE=image/gif:https://urbancasual.ca/wp-content/uploads/2026/03/trad-irish-2.gif
END:VEVENT
BEGIN:VEVENT
DTSTART;TZID=America/Edmonton:20300504T210000
DTEND;TZID=America/Edmonton:20300505T020000
DTSTAMP:20260421T183100
CREATED:20260416T172129Z
LAST-MODIFIED:20260416T172129Z
UID:10059548-1904158800-1904176800@urbancasual.ca
SUMMARY:LIVE MUSIC AT THE VENUE
DESCRIPTION:APRIL AT THE VENUE \n\n\nCochrane’s #1 Nightlife Spot\n\n\nNew vibes. Bigger nights. Non-stop entertainment.\n\n\n\n\n\n\n\n\n From country to full party mode \n\n\n EVERY SATURDAY – LIVE BANDS (9PM – 2AM)\n\n\n\nAPRIL 4 – ALLEN CHRISTIE\n(Folk Rock • Soft Pop Rock)\n\n\n\nAPRIL 11 – ROCK BOTTOM\n(70s • 80s • 90s Rock & Roll)\n\n\n\nAPRIL 18 – STATIC\n(Classic Rock Favorites)\n\n\n\nAPRIL 25 – KRANK’D\n(Classic Rock • Hard Rock • Modern Hits)\n\n\n\n Every Saturday = packed dance floor\n\n\n\n\n\n\n\n THE VENUE\n79 Railway St. E\, Cochrane
URL:https://urbancasual.ca/cochrane-event/live-music-at-the-venue-602/2030-05-04/
LOCATION:VENUE SPORTSBAR AND GRILL
CATEGORIES:Adults Only,Downtown,Entertainment & Games,Music,Pub/Bar Event,Restaurant
ATTACH;FMTTYPE=image/jpeg:https://urbancasual.ca/wp-content/uploads/2026/04/657258995_17966147115019573_2071770635758293235_n.jpg
END:VEVENT
BEGIN:VEVENT
DTSTART;TZID=America/Edmonton:20300507T190000
DTEND;TZID=America/Edmonton:20300507T220000
DTSTAMP:20260421T183100
CREATED:20260329T005646Z
LAST-MODIFIED:20260329T005959Z
UID:10058590-1904410800-1904421600@urbancasual.ca
SUMMARY:OPEN MIC / OPEN JAM AT THE SHIRE PUB
DESCRIPTION:Every Tuesday we have a Jam/Open Mic night for all . \nNo matter what instrument or type of music you play\, come on down.
URL:https://urbancasual.ca/cochrane-event/open-mic-open-jam-at-the-shire-pub/2030-05-07/
LOCATION:The Shire Pub\, 8-57 West Aarsby Road\, Cochrane\, AB
CATEGORIES:Adults Only,Entertainment & Games,Music,OPEN MIC,Pub/Bar Event,Restaurant
ATTACH;FMTTYPE=image/webp:https://urbancasual.ca/wp-content/uploads/2026/03/432615705_386171574189780_2391788280087978784_n-768x614-1.webp
END:VEVENT
BEGIN:VEVENT
DTSTART;TZID=America/Edmonton:20300509T190000
DTEND;TZID=America/Edmonton:20300509T220000
DTSTAMP:20260421T183100
CREATED:20260328T203709Z
LAST-MODIFIED:20260328T203709Z
UID:10058302-1904583600-1904594400@urbancasual.ca
SUMMARY:MUSIC BINGO
DESCRIPTION:Music bingo every 2nd-second Thursday of each month at the Shire Pub.
URL:https://urbancasual.ca/cochrane-event/music-bingo-2/2030-05-09/
LOCATION:The Shire Pub\, 8-57 West Aarsby Road\, Cochrane\, AB
CATEGORIES:Adults Only,Entertainment & Games,Music,Pub/Bar Event,Restaurant
ATTACH;FMTTYPE=image/webp:https://urbancasual.ca/wp-content/uploads/2026/03/MUSICALBINGO.webp
END:VEVENT
BEGIN:VEVENT
DTSTART;TZID=America/Edmonton:20300511T210000
DTEND;TZID=America/Edmonton:20300512T020000
DTSTAMP:20260421T183100
CREATED:20260416T172129Z
LAST-MODIFIED:20260416T172129Z
UID:10059549-1904763600-1904781600@urbancasual.ca
SUMMARY:LIVE MUSIC AT THE VENUE
DESCRIPTION:APRIL AT THE VENUE \n\n\nCochrane’s #1 Nightlife Spot\n\n\nNew vibes. Bigger nights. Non-stop entertainment.\n\n\n\n\n\n\n\n\n From country to full party mode \n\n\n EVERY SATURDAY – LIVE BANDS (9PM – 2AM)\n\n\n\nAPRIL 4 – ALLEN CHRISTIE\n(Folk Rock • Soft Pop Rock)\n\n\n\nAPRIL 11 – ROCK BOTTOM\n(70s • 80s • 90s Rock & Roll)\n\n\n\nAPRIL 18 – STATIC\n(Classic Rock Favorites)\n\n\n\nAPRIL 25 – KRANK’D\n(Classic Rock • Hard Rock • Modern Hits)\n\n\n\n Every Saturday = packed dance floor\n\n\n\n\n\n\n\n THE VENUE\n79 Railway St. E\, Cochrane
URL:https://urbancasual.ca/cochrane-event/live-music-at-the-venue-602/2030-05-11/
LOCATION:VENUE SPORTSBAR AND GRILL
CATEGORIES:Adults Only,Downtown,Entertainment & Games,Music,Pub/Bar Event,Restaurant
ATTACH;FMTTYPE=image/jpeg:https://urbancasual.ca/wp-content/uploads/2026/04/657258995_17966147115019573_2071770635758293235_n.jpg
END:VEVENT
BEGIN:VEVENT
DTSTART;TZID=America/Edmonton:20300514T190000
DTEND;TZID=America/Edmonton:20300514T220000
DTSTAMP:20260421T183100
CREATED:20260329T005646Z
LAST-MODIFIED:20260329T005959Z
UID:10058591-1905015600-1905026400@urbancasual.ca
SUMMARY:OPEN MIC / OPEN JAM AT THE SHIRE PUB
DESCRIPTION:Every Tuesday we have a Jam/Open Mic night for all . \nNo matter what instrument or type of music you play\, come on down.
URL:https://urbancasual.ca/cochrane-event/open-mic-open-jam-at-the-shire-pub/2030-05-14/
LOCATION:The Shire Pub\, 8-57 West Aarsby Road\, Cochrane\, AB
CATEGORIES:Adults Only,Entertainment & Games,Music,OPEN MIC,Pub/Bar Event,Restaurant
ATTACH;FMTTYPE=image/webp:https://urbancasual.ca/wp-content/uploads/2026/03/432615705_386171574189780_2391788280087978784_n-768x614-1.webp
END:VEVENT
BEGIN:VEVENT
DTSTART;TZID=America/Edmonton:20300518T210000
DTEND;TZID=America/Edmonton:20300519T020000
DTSTAMP:20260421T183100
CREATED:20260416T172129Z
LAST-MODIFIED:20260416T172129Z
UID:10059550-1905368400-1905386400@urbancasual.ca
SUMMARY:LIVE MUSIC AT THE VENUE
DESCRIPTION:APRIL AT THE VENUE \n\n\nCochrane’s #1 Nightlife Spot\n\n\nNew vibes. Bigger nights. Non-stop entertainment.\n\n\n\n\n\n\n\n\n From country to full party mode \n\n\n EVERY SATURDAY – LIVE BANDS (9PM – 2AM)\n\n\n\nAPRIL 4 – ALLEN CHRISTIE\n(Folk Rock • Soft Pop Rock)\n\n\n\nAPRIL 11 – ROCK BOTTOM\n(70s • 80s • 90s Rock & Roll)\n\n\n\nAPRIL 18 – STATIC\n(Classic Rock Favorites)\n\n\n\nAPRIL 25 – KRANK’D\n(Classic Rock • Hard Rock • Modern Hits)\n\n\n\n Every Saturday = packed dance floor\n\n\n\n\n\n\n\n THE VENUE\n79 Railway St. E\, Cochrane
URL:https://urbancasual.ca/cochrane-event/live-music-at-the-venue-602/2030-05-18/
LOCATION:VENUE SPORTSBAR AND GRILL
CATEGORIES:Adults Only,Downtown,Entertainment & Games,Music,Pub/Bar Event,Restaurant
ATTACH;FMTTYPE=image/jpeg:https://urbancasual.ca/wp-content/uploads/2026/04/657258995_17966147115019573_2071770635758293235_n.jpg
END:VEVENT
END:VCALENDAR