BEGIN:VCALENDAR
VERSION:2.0
PRODID:-//Urbancasual.ca - ECPv6.15.20//NONSGML v1.0//EN
CALSCALE:GREGORIAN
METHOD:PUBLISH
X-WR-CALNAME:Urbancasual.ca
X-ORIGINAL-URL:https://urbancasual.ca
X-WR-CALDESC:Events for Urbancasual.ca
REFRESH-INTERVAL;VALUE=DURATION:PT1H
X-Robots-Tag:noindex
X-PUBLISHED-TTL:PT1H
BEGIN:VTIMEZONE
TZID:America/Edmonton
BEGIN:DAYLIGHT
TZOFFSETFROM:-0700
TZOFFSETTO:-0600
TZNAME:MDT
DTSTART:20280312T090000
END:DAYLIGHT
BEGIN:STANDARD
TZOFFSETFROM:-0600
TZOFFSETTO:-0700
TZNAME:MST
DTSTART:20281105T080000
END:STANDARD
BEGIN:DAYLIGHT
TZOFFSETFROM:-0700
TZOFFSETTO:-0600
TZNAME:MDT
DTSTART:20290311T090000
END:DAYLIGHT
BEGIN:STANDARD
TZOFFSETFROM:-0600
TZOFFSETTO:-0700
TZNAME:MST
DTSTART:20291104T080000
END:STANDARD
BEGIN:DAYLIGHT
TZOFFSETFROM:-0700
TZOFFSETTO:-0600
TZNAME:MDT
DTSTART:20300310T090000
END:DAYLIGHT
BEGIN:STANDARD
TZOFFSETFROM:-0600
TZOFFSETTO:-0700
TZNAME:MST
DTSTART:20301103T080000
END:STANDARD
END:VTIMEZONE
BEGIN:VEVENT
DTSTART;TZID=America/Edmonton:20290731T190000
DTEND;TZID=America/Edmonton:20290731T220000
DTSTAMP:20260419T122655
CREATED:20260329T005646Z
LAST-MODIFIED:20260329T005959Z
UID:10058550-1880218800-1880229600@urbancasual.ca
SUMMARY:OPEN MIC / OPEN JAM AT THE SHIRE PUB
DESCRIPTION:Every Tuesday we have a Jam/Open Mic night for all . \nNo matter what instrument or type of music you play\, come on down.
URL:https://urbancasual.ca/cochrane-event/open-mic-open-jam-at-the-shire-pub/2029-07-31/
LOCATION:The Shire Pub\, 8-57 West Aarsby Road\, Cochrane\, AB
CATEGORIES:Adults Only,Entertainment & Games,Music,OPEN MIC,Pub/Bar Event,Restaurant
ATTACH;FMTTYPE=image/webp:https://urbancasual.ca/wp-content/uploads/2026/03/432615705_386171574189780_2391788280087978784_n-768x614-1.webp
END:VEVENT
BEGIN:VEVENT
DTSTART;TZID=America/Edmonton:20290801T180000
DTEND;TZID=America/Edmonton:20290801T210000
DTSTAMP:20260419T122655
CREATED:20241202T000531Z
LAST-MODIFIED:20241202T000605Z
UID:10037944-1880301600-1880312400@urbancasual.ca
SUMMARY:Country Music with Turner Bates at the Venue
DESCRIPTION:
URL:https://urbancasual.ca/cochrane-event/country-music-with-turner-bates-at-the-venue/2029-08-01/
LOCATION:AB
CATEGORIES:Adults Only,Business,Entertainment & Games,Food,Music,Pub/Bar Event
ATTACH;FMTTYPE=image/jpeg:https://urbancasual.ca/wp-content/uploads/2024/12/463385392_17920216139988797_9181419957565291331_n.jpg
END:VEVENT
BEGIN:VEVENT
DTSTART;TZID=America/Edmonton:20290803T190000
DTEND;TZID=America/Edmonton:20290803T220000
DTSTAMP:20260419T122655
CREATED:20260328T204426Z
LAST-MODIFIED:20260328T204426Z
UID:10058354-1880478000-1880488800@urbancasual.ca
SUMMARY:IRISH MUSIC AT THE SHIRE PUB
DESCRIPTION:The first Friday of every month \, The Shire pub welcomes the Irish club of calgary to play traditional irish music.
URL:https://urbancasual.ca/cochrane-event/irish-music-at-the-shire-pub/2029-08-03/
LOCATION:The Shire Pub\, 8-57 West Aarsby Road\, Cochrane\, AB
CATEGORIES:Adults Only,Entertainment & Games,Music,Pub/Bar Event,Restaurant
ATTACH;FMTTYPE=image/gif:https://urbancasual.ca/wp-content/uploads/2026/03/trad-irish-2.gif
END:VEVENT
BEGIN:VEVENT
DTSTART;TZID=America/Edmonton:20290804T210000
DTEND;TZID=America/Edmonton:20290805T020000
DTSTAMP:20260419T122655
CREATED:20260416T172129Z
LAST-MODIFIED:20260416T172129Z
UID:10059510-1880571600-1880589600@urbancasual.ca
SUMMARY:LIVE MUSIC AT THE VENUE
DESCRIPTION:APRIL AT THE VENUE \n\n\nCochrane’s #1 Nightlife Spot\n\n\nNew vibes. Bigger nights. Non-stop entertainment.\n\n\n\n\n\n\n\n\n From country to full party mode \n\n\n EVERY SATURDAY – LIVE BANDS (9PM – 2AM)\n\n\n\nAPRIL 4 – ALLEN CHRISTIE\n(Folk Rock • Soft Pop Rock)\n\n\n\nAPRIL 11 – ROCK BOTTOM\n(70s • 80s • 90s Rock & Roll)\n\n\n\nAPRIL 18 – STATIC\n(Classic Rock Favorites)\n\n\n\nAPRIL 25 – KRANK’D\n(Classic Rock • Hard Rock • Modern Hits)\n\n\n\n Every Saturday = packed dance floor\n\n\n\n\n\n\n\n THE VENUE\n79 Railway St. E\, Cochrane
URL:https://urbancasual.ca/cochrane-event/live-music-at-the-venue-602/2029-08-04/
LOCATION:VENUE SPORTSBAR AND GRILL
CATEGORIES:Adults Only,Downtown,Entertainment & Games,Music,Pub/Bar Event,Restaurant
ATTACH;FMTTYPE=image/jpeg:https://urbancasual.ca/wp-content/uploads/2026/04/657258995_17966147115019573_2071770635758293235_n.jpg
END:VEVENT
BEGIN:VEVENT
DTSTART;TZID=America/Edmonton:20290807T190000
DTEND;TZID=America/Edmonton:20290807T220000
DTSTAMP:20260419T122655
CREATED:20260329T005646Z
LAST-MODIFIED:20260329T005959Z
UID:10058551-1880823600-1880834400@urbancasual.ca
SUMMARY:OPEN MIC / OPEN JAM AT THE SHIRE PUB
DESCRIPTION:Every Tuesday we have a Jam/Open Mic night for all . \nNo matter what instrument or type of music you play\, come on down.
URL:https://urbancasual.ca/cochrane-event/open-mic-open-jam-at-the-shire-pub/2029-08-07/
LOCATION:The Shire Pub\, 8-57 West Aarsby Road\, Cochrane\, AB
CATEGORIES:Adults Only,Entertainment & Games,Music,OPEN MIC,Pub/Bar Event,Restaurant
ATTACH;FMTTYPE=image/webp:https://urbancasual.ca/wp-content/uploads/2026/03/432615705_386171574189780_2391788280087978784_n-768x614-1.webp
END:VEVENT
BEGIN:VEVENT
DTSTART;TZID=America/Edmonton:20290808T180000
DTEND;TZID=America/Edmonton:20290808T210000
DTSTAMP:20260419T122655
CREATED:20241202T000531Z
LAST-MODIFIED:20241202T000605Z
UID:10037945-1880906400-1880917200@urbancasual.ca
SUMMARY:Country Music with Turner Bates at the Venue
DESCRIPTION:
URL:https://urbancasual.ca/cochrane-event/country-music-with-turner-bates-at-the-venue/2029-08-08/
LOCATION:AB
CATEGORIES:Adults Only,Business,Entertainment & Games,Food,Music,Pub/Bar Event
ATTACH;FMTTYPE=image/jpeg:https://urbancasual.ca/wp-content/uploads/2024/12/463385392_17920216139988797_9181419957565291331_n.jpg
END:VEVENT
BEGIN:VEVENT
DTSTART;TZID=America/Edmonton:20290809T190000
DTEND;TZID=America/Edmonton:20290809T220000
DTSTAMP:20260419T122655
CREATED:20260328T203709Z
LAST-MODIFIED:20260328T203709Z
UID:10058293-1880996400-1881007200@urbancasual.ca
SUMMARY:MUSIC BINGO
DESCRIPTION:Music bingo every 2nd-second Thursday of each month at the Shire Pub.
URL:https://urbancasual.ca/cochrane-event/music-bingo-2/2029-08-09/
LOCATION:The Shire Pub\, 8-57 West Aarsby Road\, Cochrane\, AB
CATEGORIES:Adults Only,Entertainment & Games,Music,Pub/Bar Event,Restaurant
ATTACH;FMTTYPE=image/webp:https://urbancasual.ca/wp-content/uploads/2026/03/MUSICALBINGO.webp
END:VEVENT
BEGIN:VEVENT
DTSTART;TZID=America/Edmonton:20290811T210000
DTEND;TZID=America/Edmonton:20290812T020000
DTSTAMP:20260419T122655
CREATED:20260416T172129Z
LAST-MODIFIED:20260416T172129Z
UID:10059511-1881176400-1881194400@urbancasual.ca
SUMMARY:LIVE MUSIC AT THE VENUE
DESCRIPTION:APRIL AT THE VENUE \n\n\nCochrane’s #1 Nightlife Spot\n\n\nNew vibes. Bigger nights. Non-stop entertainment.\n\n\n\n\n\n\n\n\n From country to full party mode \n\n\n EVERY SATURDAY – LIVE BANDS (9PM – 2AM)\n\n\n\nAPRIL 4 – ALLEN CHRISTIE\n(Folk Rock • Soft Pop Rock)\n\n\n\nAPRIL 11 – ROCK BOTTOM\n(70s • 80s • 90s Rock & Roll)\n\n\n\nAPRIL 18 – STATIC\n(Classic Rock Favorites)\n\n\n\nAPRIL 25 – KRANK’D\n(Classic Rock • Hard Rock • Modern Hits)\n\n\n\n Every Saturday = packed dance floor\n\n\n\n\n\n\n\n THE VENUE\n79 Railway St. E\, Cochrane
URL:https://urbancasual.ca/cochrane-event/live-music-at-the-venue-602/2029-08-11/
LOCATION:VENUE SPORTSBAR AND GRILL
CATEGORIES:Adults Only,Downtown,Entertainment & Games,Music,Pub/Bar Event,Restaurant
ATTACH;FMTTYPE=image/jpeg:https://urbancasual.ca/wp-content/uploads/2026/04/657258995_17966147115019573_2071770635758293235_n.jpg
END:VEVENT
BEGIN:VEVENT
DTSTART;TZID=America/Edmonton:20290814T190000
DTEND;TZID=America/Edmonton:20290814T220000
DTSTAMP:20260419T122655
CREATED:20260329T005646Z
LAST-MODIFIED:20260329T005959Z
UID:10058552-1881428400-1881439200@urbancasual.ca
SUMMARY:OPEN MIC / OPEN JAM AT THE SHIRE PUB
DESCRIPTION:Every Tuesday we have a Jam/Open Mic night for all . \nNo matter what instrument or type of music you play\, come on down.
URL:https://urbancasual.ca/cochrane-event/open-mic-open-jam-at-the-shire-pub/2029-08-14/
LOCATION:The Shire Pub\, 8-57 West Aarsby Road\, Cochrane\, AB
CATEGORIES:Adults Only,Entertainment & Games,Music,OPEN MIC,Pub/Bar Event,Restaurant
ATTACH;FMTTYPE=image/webp:https://urbancasual.ca/wp-content/uploads/2026/03/432615705_386171574189780_2391788280087978784_n-768x614-1.webp
END:VEVENT
BEGIN:VEVENT
DTSTART;TZID=America/Edmonton:20290815T180000
DTEND;TZID=America/Edmonton:20290815T210000
DTSTAMP:20260419T122655
CREATED:20241202T000531Z
LAST-MODIFIED:20241202T000605Z
UID:10037946-1881511200-1881522000@urbancasual.ca
SUMMARY:Country Music with Turner Bates at the Venue
DESCRIPTION:
URL:https://urbancasual.ca/cochrane-event/country-music-with-turner-bates-at-the-venue/2029-08-15/
LOCATION:AB
CATEGORIES:Adults Only,Business,Entertainment & Games,Food,Music,Pub/Bar Event
ATTACH;FMTTYPE=image/jpeg:https://urbancasual.ca/wp-content/uploads/2024/12/463385392_17920216139988797_9181419957565291331_n.jpg
END:VEVENT
BEGIN:VEVENT
DTSTART;TZID=America/Edmonton:20290818T210000
DTEND;TZID=America/Edmonton:20290819T020000
DTSTAMP:20260419T122655
CREATED:20260416T172129Z
LAST-MODIFIED:20260416T172129Z
UID:10059512-1881781200-1881799200@urbancasual.ca
SUMMARY:LIVE MUSIC AT THE VENUE
DESCRIPTION:APRIL AT THE VENUE \n\n\nCochrane’s #1 Nightlife Spot\n\n\nNew vibes. Bigger nights. Non-stop entertainment.\n\n\n\n\n\n\n\n\n From country to full party mode \n\n\n EVERY SATURDAY – LIVE BANDS (9PM – 2AM)\n\n\n\nAPRIL 4 – ALLEN CHRISTIE\n(Folk Rock • Soft Pop Rock)\n\n\n\nAPRIL 11 – ROCK BOTTOM\n(70s • 80s • 90s Rock & Roll)\n\n\n\nAPRIL 18 – STATIC\n(Classic Rock Favorites)\n\n\n\nAPRIL 25 – KRANK’D\n(Classic Rock • Hard Rock • Modern Hits)\n\n\n\n Every Saturday = packed dance floor\n\n\n\n\n\n\n\n THE VENUE\n79 Railway St. E\, Cochrane
URL:https://urbancasual.ca/cochrane-event/live-music-at-the-venue-602/2029-08-18/
LOCATION:VENUE SPORTSBAR AND GRILL
CATEGORIES:Adults Only,Downtown,Entertainment & Games,Music,Pub/Bar Event,Restaurant
ATTACH;FMTTYPE=image/jpeg:https://urbancasual.ca/wp-content/uploads/2026/04/657258995_17966147115019573_2071770635758293235_n.jpg
END:VEVENT
BEGIN:VEVENT
DTSTART;TZID=America/Edmonton:20290821T190000
DTEND;TZID=America/Edmonton:20290821T220000
DTSTAMP:20260419T122655
CREATED:20260329T005646Z
LAST-MODIFIED:20260329T005959Z
UID:10058553-1882033200-1882044000@urbancasual.ca
SUMMARY:OPEN MIC / OPEN JAM AT THE SHIRE PUB
DESCRIPTION:Every Tuesday we have a Jam/Open Mic night for all . \nNo matter what instrument or type of music you play\, come on down.
URL:https://urbancasual.ca/cochrane-event/open-mic-open-jam-at-the-shire-pub/2029-08-21/
LOCATION:The Shire Pub\, 8-57 West Aarsby Road\, Cochrane\, AB
CATEGORIES:Adults Only,Entertainment & Games,Music,OPEN MIC,Pub/Bar Event,Restaurant
ATTACH;FMTTYPE=image/webp:https://urbancasual.ca/wp-content/uploads/2026/03/432615705_386171574189780_2391788280087978784_n-768x614-1.webp
END:VEVENT
BEGIN:VEVENT
DTSTART;TZID=America/Edmonton:20290822T180000
DTEND;TZID=America/Edmonton:20290822T210000
DTSTAMP:20260419T122655
CREATED:20241202T000531Z
LAST-MODIFIED:20241202T000605Z
UID:10037947-1882116000-1882126800@urbancasual.ca
SUMMARY:Country Music with Turner Bates at the Venue
DESCRIPTION:
URL:https://urbancasual.ca/cochrane-event/country-music-with-turner-bates-at-the-venue/2029-08-22/
LOCATION:AB
CATEGORIES:Adults Only,Business,Entertainment & Games,Food,Music,Pub/Bar Event
ATTACH;FMTTYPE=image/jpeg:https://urbancasual.ca/wp-content/uploads/2024/12/463385392_17920216139988797_9181419957565291331_n.jpg
END:VEVENT
BEGIN:VEVENT
DTSTART;TZID=America/Edmonton:20290825T210000
DTEND;TZID=America/Edmonton:20290826T020000
DTSTAMP:20260419T122655
CREATED:20260416T172129Z
LAST-MODIFIED:20260416T172129Z
UID:10059513-1882386000-1882404000@urbancasual.ca
SUMMARY:LIVE MUSIC AT THE VENUE
DESCRIPTION:APRIL AT THE VENUE \n\n\nCochrane’s #1 Nightlife Spot\n\n\nNew vibes. Bigger nights. Non-stop entertainment.\n\n\n\n\n\n\n\n\n From country to full party mode \n\n\n EVERY SATURDAY – LIVE BANDS (9PM – 2AM)\n\n\n\nAPRIL 4 – ALLEN CHRISTIE\n(Folk Rock • Soft Pop Rock)\n\n\n\nAPRIL 11 – ROCK BOTTOM\n(70s • 80s • 90s Rock & Roll)\n\n\n\nAPRIL 18 – STATIC\n(Classic Rock Favorites)\n\n\n\nAPRIL 25 – KRANK’D\n(Classic Rock • Hard Rock • Modern Hits)\n\n\n\n Every Saturday = packed dance floor\n\n\n\n\n\n\n\n THE VENUE\n79 Railway St. E\, Cochrane
URL:https://urbancasual.ca/cochrane-event/live-music-at-the-venue-602/2029-08-25/
LOCATION:VENUE SPORTSBAR AND GRILL
CATEGORIES:Adults Only,Downtown,Entertainment & Games,Music,Pub/Bar Event,Restaurant
ATTACH;FMTTYPE=image/jpeg:https://urbancasual.ca/wp-content/uploads/2026/04/657258995_17966147115019573_2071770635758293235_n.jpg
END:VEVENT
BEGIN:VEVENT
DTSTART;TZID=America/Edmonton:20290828T190000
DTEND;TZID=America/Edmonton:20290828T220000
DTSTAMP:20260419T122655
CREATED:20260329T005646Z
LAST-MODIFIED:20260329T005959Z
UID:10058554-1882638000-1882648800@urbancasual.ca
SUMMARY:OPEN MIC / OPEN JAM AT THE SHIRE PUB
DESCRIPTION:Every Tuesday we have a Jam/Open Mic night for all . \nNo matter what instrument or type of music you play\, come on down.
URL:https://urbancasual.ca/cochrane-event/open-mic-open-jam-at-the-shire-pub/2029-08-28/
LOCATION:The Shire Pub\, 8-57 West Aarsby Road\, Cochrane\, AB
CATEGORIES:Adults Only,Entertainment & Games,Music,OPEN MIC,Pub/Bar Event,Restaurant
ATTACH;FMTTYPE=image/webp:https://urbancasual.ca/wp-content/uploads/2026/03/432615705_386171574189780_2391788280087978784_n-768x614-1.webp
END:VEVENT
BEGIN:VEVENT
DTSTART;TZID=America/Edmonton:20290829T180000
DTEND;TZID=America/Edmonton:20290829T210000
DTSTAMP:20260419T122656
CREATED:20241202T000531Z
LAST-MODIFIED:20241202T000605Z
UID:10037948-1882720800-1882731600@urbancasual.ca
SUMMARY:Country Music with Turner Bates at the Venue
DESCRIPTION:
URL:https://urbancasual.ca/cochrane-event/country-music-with-turner-bates-at-the-venue/2029-08-29/
LOCATION:AB
CATEGORIES:Adults Only,Business,Entertainment & Games,Food,Music,Pub/Bar Event
ATTACH;FMTTYPE=image/jpeg:https://urbancasual.ca/wp-content/uploads/2024/12/463385392_17920216139988797_9181419957565291331_n.jpg
END:VEVENT
BEGIN:VEVENT
DTSTART;TZID=America/Edmonton:20290901T210000
DTEND;TZID=America/Edmonton:20290902T020000
DTSTAMP:20260419T122656
CREATED:20260416T172129Z
LAST-MODIFIED:20260416T172129Z
UID:10059514-1882990800-1883008800@urbancasual.ca
SUMMARY:LIVE MUSIC AT THE VENUE
DESCRIPTION:APRIL AT THE VENUE \n\n\nCochrane’s #1 Nightlife Spot\n\n\nNew vibes. Bigger nights. Non-stop entertainment.\n\n\n\n\n\n\n\n\n From country to full party mode \n\n\n EVERY SATURDAY – LIVE BANDS (9PM – 2AM)\n\n\n\nAPRIL 4 – ALLEN CHRISTIE\n(Folk Rock • Soft Pop Rock)\n\n\n\nAPRIL 11 – ROCK BOTTOM\n(70s • 80s • 90s Rock & Roll)\n\n\n\nAPRIL 18 – STATIC\n(Classic Rock Favorites)\n\n\n\nAPRIL 25 – KRANK’D\n(Classic Rock • Hard Rock • Modern Hits)\n\n\n\n Every Saturday = packed dance floor\n\n\n\n\n\n\n\n THE VENUE\n79 Railway St. E\, Cochrane
URL:https://urbancasual.ca/cochrane-event/live-music-at-the-venue-602/2029-09-01/
LOCATION:VENUE SPORTSBAR AND GRILL
CATEGORIES:Adults Only,Downtown,Entertainment & Games,Music,Pub/Bar Event,Restaurant
ATTACH;FMTTYPE=image/jpeg:https://urbancasual.ca/wp-content/uploads/2026/04/657258995_17966147115019573_2071770635758293235_n.jpg
END:VEVENT
BEGIN:VEVENT
DTSTART;TZID=America/Edmonton:20290904T190000
DTEND;TZID=America/Edmonton:20290904T220000
DTSTAMP:20260419T122656
CREATED:20260329T005646Z
LAST-MODIFIED:20260329T005959Z
UID:10058555-1883242800-1883253600@urbancasual.ca
SUMMARY:OPEN MIC / OPEN JAM AT THE SHIRE PUB
DESCRIPTION:Every Tuesday we have a Jam/Open Mic night for all . \nNo matter what instrument or type of music you play\, come on down.
URL:https://urbancasual.ca/cochrane-event/open-mic-open-jam-at-the-shire-pub/2029-09-04/
LOCATION:The Shire Pub\, 8-57 West Aarsby Road\, Cochrane\, AB
CATEGORIES:Adults Only,Entertainment & Games,Music,OPEN MIC,Pub/Bar Event,Restaurant
ATTACH;FMTTYPE=image/webp:https://urbancasual.ca/wp-content/uploads/2026/03/432615705_386171574189780_2391788280087978784_n-768x614-1.webp
END:VEVENT
BEGIN:VEVENT
DTSTART;TZID=America/Edmonton:20290905T180000
DTEND;TZID=America/Edmonton:20290905T210000
DTSTAMP:20260419T122656
CREATED:20241202T000531Z
LAST-MODIFIED:20241202T000605Z
UID:10037949-1883325600-1883336400@urbancasual.ca
SUMMARY:Country Music with Turner Bates at the Venue
DESCRIPTION:
URL:https://urbancasual.ca/cochrane-event/country-music-with-turner-bates-at-the-venue/2029-09-05/
LOCATION:AB
CATEGORIES:Adults Only,Business,Entertainment & Games,Food,Music,Pub/Bar Event
ATTACH;FMTTYPE=image/jpeg:https://urbancasual.ca/wp-content/uploads/2024/12/463385392_17920216139988797_9181419957565291331_n.jpg
END:VEVENT
BEGIN:VEVENT
DTSTART;TZID=America/Edmonton:20290907T190000
DTEND;TZID=America/Edmonton:20290907T220000
DTSTAMP:20260419T122656
CREATED:20260328T204426Z
LAST-MODIFIED:20260328T204426Z
UID:10058355-1883502000-1883512800@urbancasual.ca
SUMMARY:IRISH MUSIC AT THE SHIRE PUB
DESCRIPTION:The first Friday of every month \, The Shire pub welcomes the Irish club of calgary to play traditional irish music.
URL:https://urbancasual.ca/cochrane-event/irish-music-at-the-shire-pub/2029-09-07/
LOCATION:The Shire Pub\, 8-57 West Aarsby Road\, Cochrane\, AB
CATEGORIES:Adults Only,Entertainment & Games,Music,Pub/Bar Event,Restaurant
ATTACH;FMTTYPE=image/gif:https://urbancasual.ca/wp-content/uploads/2026/03/trad-irish-2.gif
END:VEVENT
BEGIN:VEVENT
DTSTART;TZID=America/Edmonton:20290908T210000
DTEND;TZID=America/Edmonton:20290909T020000
DTSTAMP:20260419T122656
CREATED:20260416T172129Z
LAST-MODIFIED:20260416T172129Z
UID:10059515-1883595600-1883613600@urbancasual.ca
SUMMARY:LIVE MUSIC AT THE VENUE
DESCRIPTION:APRIL AT THE VENUE \n\n\nCochrane’s #1 Nightlife Spot\n\n\nNew vibes. Bigger nights. Non-stop entertainment.\n\n\n\n\n\n\n\n\n From country to full party mode \n\n\n EVERY SATURDAY – LIVE BANDS (9PM – 2AM)\n\n\n\nAPRIL 4 – ALLEN CHRISTIE\n(Folk Rock • Soft Pop Rock)\n\n\n\nAPRIL 11 – ROCK BOTTOM\n(70s • 80s • 90s Rock & Roll)\n\n\n\nAPRIL 18 – STATIC\n(Classic Rock Favorites)\n\n\n\nAPRIL 25 – KRANK’D\n(Classic Rock • Hard Rock • Modern Hits)\n\n\n\n Every Saturday = packed dance floor\n\n\n\n\n\n\n\n THE VENUE\n79 Railway St. E\, Cochrane
URL:https://urbancasual.ca/cochrane-event/live-music-at-the-venue-602/2029-09-08/
LOCATION:VENUE SPORTSBAR AND GRILL
CATEGORIES:Adults Only,Downtown,Entertainment & Games,Music,Pub/Bar Event,Restaurant
ATTACH;FMTTYPE=image/jpeg:https://urbancasual.ca/wp-content/uploads/2026/04/657258995_17966147115019573_2071770635758293235_n.jpg
END:VEVENT
BEGIN:VEVENT
DTSTART;TZID=America/Edmonton:20290911T190000
DTEND;TZID=America/Edmonton:20290911T220000
DTSTAMP:20260419T122656
CREATED:20260329T005646Z
LAST-MODIFIED:20260329T005959Z
UID:10058556-1883847600-1883858400@urbancasual.ca
SUMMARY:OPEN MIC / OPEN JAM AT THE SHIRE PUB
DESCRIPTION:Every Tuesday we have a Jam/Open Mic night for all . \nNo matter what instrument or type of music you play\, come on down.
URL:https://urbancasual.ca/cochrane-event/open-mic-open-jam-at-the-shire-pub/2029-09-11/
LOCATION:The Shire Pub\, 8-57 West Aarsby Road\, Cochrane\, AB
CATEGORIES:Adults Only,Entertainment & Games,Music,OPEN MIC,Pub/Bar Event,Restaurant
ATTACH;FMTTYPE=image/webp:https://urbancasual.ca/wp-content/uploads/2026/03/432615705_386171574189780_2391788280087978784_n-768x614-1.webp
END:VEVENT
BEGIN:VEVENT
DTSTART;TZID=America/Edmonton:20290912T180000
DTEND;TZID=America/Edmonton:20290912T210000
DTSTAMP:20260419T122656
CREATED:20241202T000531Z
LAST-MODIFIED:20241202T000605Z
UID:10037950-1883930400-1883941200@urbancasual.ca
SUMMARY:Country Music with Turner Bates at the Venue
DESCRIPTION:
URL:https://urbancasual.ca/cochrane-event/country-music-with-turner-bates-at-the-venue/2029-09-12/
LOCATION:AB
CATEGORIES:Adults Only,Business,Entertainment & Games,Food,Music,Pub/Bar Event
ATTACH;FMTTYPE=image/jpeg:https://urbancasual.ca/wp-content/uploads/2024/12/463385392_17920216139988797_9181419957565291331_n.jpg
END:VEVENT
BEGIN:VEVENT
DTSTART;TZID=America/Edmonton:20290913T190000
DTEND;TZID=America/Edmonton:20290913T220000
DTSTAMP:20260419T122656
CREATED:20260328T203709Z
LAST-MODIFIED:20260328T203709Z
UID:10058294-1884020400-1884031200@urbancasual.ca
SUMMARY:MUSIC BINGO
DESCRIPTION:Music bingo every 2nd-second Thursday of each month at the Shire Pub.
URL:https://urbancasual.ca/cochrane-event/music-bingo-2/2029-09-13/
LOCATION:The Shire Pub\, 8-57 West Aarsby Road\, Cochrane\, AB
CATEGORIES:Adults Only,Entertainment & Games,Music,Pub/Bar Event,Restaurant
ATTACH;FMTTYPE=image/webp:https://urbancasual.ca/wp-content/uploads/2026/03/MUSICALBINGO.webp
END:VEVENT
BEGIN:VEVENT
DTSTART;TZID=America/Edmonton:20290915T210000
DTEND;TZID=America/Edmonton:20290916T020000
DTSTAMP:20260419T122656
CREATED:20260416T172129Z
LAST-MODIFIED:20260416T172129Z
UID:10059516-1884200400-1884218400@urbancasual.ca
SUMMARY:LIVE MUSIC AT THE VENUE
DESCRIPTION:APRIL AT THE VENUE \n\n\nCochrane’s #1 Nightlife Spot\n\n\nNew vibes. Bigger nights. Non-stop entertainment.\n\n\n\n\n\n\n\n\n From country to full party mode \n\n\n EVERY SATURDAY – LIVE BANDS (9PM – 2AM)\n\n\n\nAPRIL 4 – ALLEN CHRISTIE\n(Folk Rock • Soft Pop Rock)\n\n\n\nAPRIL 11 – ROCK BOTTOM\n(70s • 80s • 90s Rock & Roll)\n\n\n\nAPRIL 18 – STATIC\n(Classic Rock Favorites)\n\n\n\nAPRIL 25 – KRANK’D\n(Classic Rock • Hard Rock • Modern Hits)\n\n\n\n Every Saturday = packed dance floor\n\n\n\n\n\n\n\n THE VENUE\n79 Railway St. E\, Cochrane
URL:https://urbancasual.ca/cochrane-event/live-music-at-the-venue-602/2029-09-15/
LOCATION:VENUE SPORTSBAR AND GRILL
CATEGORIES:Adults Only,Downtown,Entertainment & Games,Music,Pub/Bar Event,Restaurant
ATTACH;FMTTYPE=image/jpeg:https://urbancasual.ca/wp-content/uploads/2026/04/657258995_17966147115019573_2071770635758293235_n.jpg
END:VEVENT
BEGIN:VEVENT
DTSTART;TZID=America/Edmonton:20290918T190000
DTEND;TZID=America/Edmonton:20290918T220000
DTSTAMP:20260419T122656
CREATED:20260329T005646Z
LAST-MODIFIED:20260329T005959Z
UID:10058557-1884452400-1884463200@urbancasual.ca
SUMMARY:OPEN MIC / OPEN JAM AT THE SHIRE PUB
DESCRIPTION:Every Tuesday we have a Jam/Open Mic night for all . \nNo matter what instrument or type of music you play\, come on down.
URL:https://urbancasual.ca/cochrane-event/open-mic-open-jam-at-the-shire-pub/2029-09-18/
LOCATION:The Shire Pub\, 8-57 West Aarsby Road\, Cochrane\, AB
CATEGORIES:Adults Only,Entertainment & Games,Music,OPEN MIC,Pub/Bar Event,Restaurant
ATTACH;FMTTYPE=image/webp:https://urbancasual.ca/wp-content/uploads/2026/03/432615705_386171574189780_2391788280087978784_n-768x614-1.webp
END:VEVENT
BEGIN:VEVENT
DTSTART;TZID=America/Edmonton:20290919T180000
DTEND;TZID=America/Edmonton:20290919T210000
DTSTAMP:20260419T122656
CREATED:20241202T000531Z
LAST-MODIFIED:20241202T000605Z
UID:10037951-1884535200-1884546000@urbancasual.ca
SUMMARY:Country Music with Turner Bates at the Venue
DESCRIPTION:
URL:https://urbancasual.ca/cochrane-event/country-music-with-turner-bates-at-the-venue/2029-09-19/
LOCATION:AB
CATEGORIES:Adults Only,Business,Entertainment & Games,Food,Music,Pub/Bar Event
ATTACH;FMTTYPE=image/jpeg:https://urbancasual.ca/wp-content/uploads/2024/12/463385392_17920216139988797_9181419957565291331_n.jpg
END:VEVENT
BEGIN:VEVENT
DTSTART;TZID=America/Edmonton:20290922T210000
DTEND;TZID=America/Edmonton:20290923T020000
DTSTAMP:20260419T122656
CREATED:20260416T172129Z
LAST-MODIFIED:20260416T172129Z
UID:10059517-1884805200-1884823200@urbancasual.ca
SUMMARY:LIVE MUSIC AT THE VENUE
DESCRIPTION:APRIL AT THE VENUE \n\n\nCochrane’s #1 Nightlife Spot\n\n\nNew vibes. Bigger nights. Non-stop entertainment.\n\n\n\n\n\n\n\n\n From country to full party mode \n\n\n EVERY SATURDAY – LIVE BANDS (9PM – 2AM)\n\n\n\nAPRIL 4 – ALLEN CHRISTIE\n(Folk Rock • Soft Pop Rock)\n\n\n\nAPRIL 11 – ROCK BOTTOM\n(70s • 80s • 90s Rock & Roll)\n\n\n\nAPRIL 18 – STATIC\n(Classic Rock Favorites)\n\n\n\nAPRIL 25 – KRANK’D\n(Classic Rock • Hard Rock • Modern Hits)\n\n\n\n Every Saturday = packed dance floor\n\n\n\n\n\n\n\n THE VENUE\n79 Railway St. E\, Cochrane
URL:https://urbancasual.ca/cochrane-event/live-music-at-the-venue-602/2029-09-22/
LOCATION:VENUE SPORTSBAR AND GRILL
CATEGORIES:Adults Only,Downtown,Entertainment & Games,Music,Pub/Bar Event,Restaurant
ATTACH;FMTTYPE=image/jpeg:https://urbancasual.ca/wp-content/uploads/2026/04/657258995_17966147115019573_2071770635758293235_n.jpg
END:VEVENT
BEGIN:VEVENT
DTSTART;TZID=America/Edmonton:20290925T190000
DTEND;TZID=America/Edmonton:20290925T220000
DTSTAMP:20260419T122656
CREATED:20260329T005646Z
LAST-MODIFIED:20260329T005959Z
UID:10058558-1885057200-1885068000@urbancasual.ca
SUMMARY:OPEN MIC / OPEN JAM AT THE SHIRE PUB
DESCRIPTION:Every Tuesday we have a Jam/Open Mic night for all . \nNo matter what instrument or type of music you play\, come on down.
URL:https://urbancasual.ca/cochrane-event/open-mic-open-jam-at-the-shire-pub/2029-09-25/
LOCATION:The Shire Pub\, 8-57 West Aarsby Road\, Cochrane\, AB
CATEGORIES:Adults Only,Entertainment & Games,Music,OPEN MIC,Pub/Bar Event,Restaurant
ATTACH;FMTTYPE=image/webp:https://urbancasual.ca/wp-content/uploads/2026/03/432615705_386171574189780_2391788280087978784_n-768x614-1.webp
END:VEVENT
BEGIN:VEVENT
DTSTART;TZID=America/Edmonton:20290926T180000
DTEND;TZID=America/Edmonton:20290926T210000
DTSTAMP:20260419T122656
CREATED:20241202T000531Z
LAST-MODIFIED:20241202T000605Z
UID:10037952-1885140000-1885150800@urbancasual.ca
SUMMARY:Country Music with Turner Bates at the Venue
DESCRIPTION:
URL:https://urbancasual.ca/cochrane-event/country-music-with-turner-bates-at-the-venue/2029-09-26/
LOCATION:AB
CATEGORIES:Adults Only,Business,Entertainment & Games,Food,Music,Pub/Bar Event
ATTACH;FMTTYPE=image/jpeg:https://urbancasual.ca/wp-content/uploads/2024/12/463385392_17920216139988797_9181419957565291331_n.jpg
END:VEVENT
END:VCALENDAR