BEGIN:VCALENDAR
VERSION:2.0
PRODID:-//Urbancasual.ca - ECPv6.15.20//NONSGML v1.0//EN
CALSCALE:GREGORIAN
METHOD:PUBLISH
X-WR-CALNAME:Urbancasual.ca
X-ORIGINAL-URL:https://urbancasual.ca
X-WR-CALDESC:Events for Urbancasual.ca
REFRESH-INTERVAL;VALUE=DURATION:PT1H
X-Robots-Tag:noindex
X-PUBLISHED-TTL:PT1H
BEGIN:VTIMEZONE
TZID:America/Edmonton
BEGIN:DAYLIGHT
TZOFFSETFROM:-0700
TZOFFSETTO:-0600
TZNAME:MDT
DTSTART:20250309T090000
END:DAYLIGHT
BEGIN:STANDARD
TZOFFSETFROM:-0600
TZOFFSETTO:-0700
TZNAME:MST
DTSTART:20251102T080000
END:STANDARD
BEGIN:DAYLIGHT
TZOFFSETFROM:-0700
TZOFFSETTO:-0600
TZNAME:MDT
DTSTART:20260308T090000
END:DAYLIGHT
BEGIN:STANDARD
TZOFFSETFROM:-0600
TZOFFSETTO:-0700
TZNAME:MST
DTSTART:20261101T080000
END:STANDARD
BEGIN:DAYLIGHT
TZOFFSETFROM:-0700
TZOFFSETTO:-0600
TZNAME:MDT
DTSTART:20270314T090000
END:DAYLIGHT
BEGIN:STANDARD
TZOFFSETFROM:-0600
TZOFFSETTO:-0700
TZNAME:MST
DTSTART:20271107T080000
END:STANDARD
END:VTIMEZONE
BEGIN:VEVENT
DTSTART;TZID=America/Edmonton:20260608T101500
DTEND;TZID=America/Edmonton:20260608T104500
DTSTAMP:20260424T113920
CREATED:20260422T224955Z
LAST-MODIFIED:20260422T224955Z
UID:10059704-1780913700-1780915500@urbancasual.ca
SUMMARY:Drop in Baby Lap Time (Parented)
DESCRIPTION:Come to the Library for bounces\, lifts\, tickles\, rhymes\, songs\, and books while you bond with your little one on a journey to early literacy! \nSuitable for newborn babies to walking babies. \n*All early literacy sessions are drop in\, to a maximum of 25 people. Program passes will be available on a first come\, first served basis.* \nApril 20 – May 25 \nThere will be no program on Monday May 18th
URL:https://urbancasual.ca/cochrane-event/drop-in-baby-lap-time-parented/2026-06-08/
LOCATION:Cochrane Public Library\, 405 Railway Street W\, Cochrane\, Alberta
CATEGORIES:Library,Parents & Caregivers
ATTACH;FMTTYPE=image/jpeg:https://urbancasual.ca/wp-content/uploads/2026/04/Baby-Lap-Time-Spring-2026.jpg
END:VEVENT
BEGIN:VEVENT
DTSTART;TZID=America/Edmonton:20260608T180000
DTEND;TZID=America/Edmonton:20260608T190000
DTSTAMP:20260424T113920
CREATED:20260413T234501Z
LAST-MODIFIED:20260413T234501Z
UID:10059307-1780941600-1780945200@urbancasual.ca
SUMMARY:Better Understand Your Digital Camera
DESCRIPTION:Do you own a digital camera? Would you like to take photos but you don’t know what buttons to press? Learn what White Balance\, ISO\, and Aperture are\, and how you can use them to produce beautiful photos.
URL:https://urbancasual.ca/cochrane-event/better-understand-your-digital-camera/2026-06-08/
LOCATION:Cochrane Public Library\, 405 Railway Street W\, Cochrane\, Alberta
CATEGORIES:Free,Learning,Library,Photography
ATTACH;FMTTYPE=image/jpeg:https://urbancasual.ca/wp-content/uploads/2026/04/Better-Understand-Your-Digital-Camera-1.jpg
END:VEVENT
BEGIN:VEVENT
DTSTART;TZID=America/Edmonton:20260608T190000
DTEND;TZID=America/Edmonton:20260608T210000
DTSTAMP:20260424T113920
CREATED:20250729T182203Z
LAST-MODIFIED:20250729T182203Z
UID:10049754-1780945200-1780952400@urbancasual.ca
SUMMARY:Cochrane Sings Practice
DESCRIPTION:Our new Season begins MONDAY SEPTEMBER 8 and if you’re thinking about what awesome amazing extracurricular activity you should join\, look no further\, ESPECIALLY if you’re a MAN!! Yes we are a MIXED adult choir and YES we have some pretty incredible MEN!! \nMondays from 7:00-9:00pm \nAt the All Saints Anglican Church at 404-4th Ave \nwww. cochranesings.com for more info!
URL:https://urbancasual.ca/cochrane-event/cochrane-sings-practice/2026-06-08/
LOCATION:All Saints Anglican Church\, 404 Fourth Ave N\, Cochrane\, Alberta
CATEGORIES:Choir,Club,Community,Entertainment & Games,Learning,Networking,Seniors
ATTACH;FMTTYPE=image/jpeg:https://urbancasual.ca/wp-content/uploads/2025/07/524116941_596548306856893_7660379351601470637_n.jpg
END:VEVENT
BEGIN:VEVENT
DTSTART;TZID=America/Edmonton:20260608T190000
DTEND;TZID=America/Edmonton:20260608T210000
DTSTAMP:20260424T113920
CREATED:20260108T211206Z
LAST-MODIFIED:20260108T211206Z
UID:10053917-1780945200-1780952400@urbancasual.ca
SUMMARY:EUCHRE NIGHT AT THE LEGION (DROP IN)
DESCRIPTION:
URL:https://urbancasual.ca/cochrane-event/euchre-night-at-the-legion-drop-in/2026-06-08/
LOCATION:The Legion\, 114 Fifth Ave\, Cochrane\, Canada
CATEGORIES:Community,Entertainment & Games,Family Friendly,Free,Legion
ATTACH;FMTTYPE=image/jpeg:https://urbancasual.ca/wp-content/uploads/2026/01/608223840_122205932546544523_506268762666482123_n.jpg
END:VEVENT
END:VCALENDAR