BEGIN:VCALENDAR
VERSION:2.0
PRODID:-//Urbancasual.ca - ECPv6.15.20//NONSGML v1.0//EN
CALSCALE:GREGORIAN
METHOD:PUBLISH
X-ORIGINAL-URL:https://urbancasual.ca
X-WR-CALDESC:Events for Urbancasual.ca
REFRESH-INTERVAL;VALUE=DURATION:PT1H
X-Robots-Tag:noindex
X-PUBLISHED-TTL:PT1H
BEGIN:VTIMEZONE
TZID:America/Edmonton
BEGIN:DAYLIGHT
TZOFFSETFROM:-0700
TZOFFSETTO:-0600
TZNAME:MDT
DTSTART:20250309T090000
END:DAYLIGHT
BEGIN:STANDARD
TZOFFSETFROM:-0600
TZOFFSETTO:-0700
TZNAME:MST
DTSTART:20251102T080000
END:STANDARD
BEGIN:DAYLIGHT
TZOFFSETFROM:-0700
TZOFFSETTO:-0600
TZNAME:MDT
DTSTART:20260308T090000
END:DAYLIGHT
BEGIN:STANDARD
TZOFFSETFROM:-0600
TZOFFSETTO:-0700
TZNAME:MST
DTSTART:20261101T080000
END:STANDARD
BEGIN:DAYLIGHT
TZOFFSETFROM:-0700
TZOFFSETTO:-0600
TZNAME:MDT
DTSTART:20270314T090000
END:DAYLIGHT
BEGIN:STANDARD
TZOFFSETFROM:-0600
TZOFFSETTO:-0700
TZNAME:MST
DTSTART:20271107T080000
END:STANDARD
END:VTIMEZONE
BEGIN:VEVENT
DTSTART;VALUE=DATE:20260119
DTEND;VALUE=DATE:20260324
DTSTAMP:20260421T145359
CREATED:20260107T181319Z
LAST-MODIFIED:20260108T182905Z
UID:10053412-1768809600-1774285200@urbancasual.ca
SUMMARY:The Mindset Lab Winter Registration
DESCRIPTION:We’re thrilled to announce a brand-new program at BGC Cochrane & Area: The Mindset Lab! \nWhat is it?\nThe Mindset Lab is a 9-week brain fitness program where kids ages 5-17 earn Mental Mastery Belts by building the executive function skills they need for school\, friendships\, and life. \nHow does it work?\nThrough high-energy games\, movement challenges\, and teamwork missions\, kids progress from White Belt to Black Belt\, not by age\, but by mastering real skills like emotional regulation\, task initiation\, planning\, and goal-directed persistence. \nWhy parents and kids love it:\n• No worksheets or sitting still\n• Play-based learning that kids actually enjoy\n• Neurodivergent-friendly environment\n• Skills that reduce daily battles and build independence \nProgram Details:\n• Start Date: Week of January 19\, 2026 – various dates & time slots available\n• Ages: 5-17 (three age-based pathways)\n• Pricing: $200 (1 day/week) or $350 (2 days/week)\n• Registration Opens: January 5\, 2026 \nSpaces are limited! Contact us to learn more or register! https://www.villageofplay.com/general-8
URL:https://urbancasual.ca/cochrane-event/the-mindset-lab-winter-registration/2026-01-19/
LOCATION:BGC Cochrane & Area\, 5th Avenue\, Cochrane\, Alberta
CATEGORIES:Adults Only,Learning,Run/Walk,Youth
ATTACH;FMTTYPE=image/jpeg:https://urbancasual.ca/wp-content/uploads/2026/01/1.jpg
ORGANIZER;CN="Village of Play":MAILTO:hello@villageofplay.com
END:VEVENT
BEGIN:VEVENT
DTSTART;VALUE=DATE:20260201
DTEND;VALUE=DATE:20260302
DTSTAMP:20260421T145359
CREATED:20260130T005251Z
LAST-MODIFIED:20260130T005251Z
UID:10054224-1769914800-1772333999@urbancasual.ca
SUMMARY:The Great Hot Chocolate Path 2026
DESCRIPTION:Winter in Cochrane & Area is something to savour. \nThis February\, sip your way through The Great Hot Chocolate Path\, a self-guided winter experience featuring handcrafted hot chocolates\, welcoming local cafés\, and cozy stops across Cochrane & Area. \nFrom small-town streets to nearby foothills communities\, the Path invites you to slow down\, explore at your own pace\, and enjoy winter the way it’s meant to be experienced. Warm\, unhurried\, and full of local flavour. \n☕ The Great Hot Chocolate Path\n📍 Cochrane & Area\, Alberta\n📅 February 1–28\, 2026 \nAlong the way\, select locations will feature donation tap machines in support of Helping Hands Society Cochrane \nPlan your visit and explore winter in Cochrane & Area.\n👉 https://cochranetourism.ca/the-great-hot-chocolate-path/ \n  \nREAD OUR FEATURE: THE GREAT HOT CHOCOLATE PATH 2026
URL:https://urbancasual.ca/cochrane-event/the-great-hot-chocolate-path-2026/
CATEGORIES:Business,Community,The Great Hot Chocolate Path,Tourism
ATTACH;FMTTYPE=image/jpeg:https://urbancasual.ca/wp-content/uploads/2026/01/HOT-PATH.jpg
END:VEVENT
BEGIN:VEVENT
DTSTART;VALUE=DATE:20260207
DTEND;VALUE=DATE:20260209
DTSTAMP:20260421T145359
CREATED:20260122T011508Z
LAST-MODIFIED:20260122T011522Z
UID:10054170-1770433200-1770519599@urbancasual.ca
SUMMARY:COCHRANE HORSE SHOW
DESCRIPTION:Register now for the Cochrane Horse Show\, February 7th!Schooling Rounds on Friday the 6th at 3pm.6 Divisions and up to 29 Classes!More details and registration link below:https://www.cochraneagsociety.com/schooling-shows.html
URL:https://urbancasual.ca/cochrane-event/cochrane-horse-show-2026/
LOCATION:Cochrane AG Society Grounds
CATEGORIES:Animals,Entertainment & Games,Family Friendly,Horse Show
ATTACH;FMTTYPE=image/jpeg:https://urbancasual.ca/wp-content/uploads/2026/01/inbound926054532354622439.jpg
END:VEVENT
BEGIN:VEVENT
DTSTART;TZID=America/Edmonton:20260207T060000
DTEND;TZID=America/Edmonton:20260207T180000
DTSTAMP:20260421T145359
CREATED:20260202T195010Z
LAST-MODIFIED:20260202T195010Z
UID:10054501-1770444000-1770487200@urbancasual.ca
SUMMARY:Comet Winter Swim Meet
DESCRIPTION:🏊‍️COMETS SWIM MEET! \n\nWe are excited to be hosting the Comets upcoming meet on February 6 & 7. Please note that during meet times\, the leisure pool\, waterslides\, and lap pool will be dedicated to this event. Our hot tub and therapy remain accessible.\n\n\n\nMeet times are as follows:\nFebruary 6 | 2:00 pm – 7:00 pm\nFebruary 7 | 6:00 am – 6:00 pm
URL:https://urbancasual.ca/cochrane-event/comet-winter-swim-meet/2026-02-07/
LOCATION:Spray Lake Sawmill Family Sports Centre\, 800 Griffin Road\, Cochrane\, AB
CATEGORIES:Club,Fitness,Health & Wellness,Spray Lakes Sawmill Rec Centre,swimming
ATTACH;FMTTYPE=image/jpeg:https://urbancasual.ca/wp-content/uploads/2026/02/Screenshot_20260202_093330_Instagram.jpg
END:VEVENT
BEGIN:VEVENT
DTSTART;TZID=America/Edmonton:20260207T080000
DTEND;TZID=America/Edmonton:20260207T230000
DTSTAMP:20260421T145359
CREATED:20260201T174609Z
LAST-MODIFIED:20260201T174609Z
UID:10054409-1770451200-1770505200@urbancasual.ca
SUMMARY:KIMMETT CUP 2026
DESCRIPTION:This year donations will be split among the Lindsay Leigh Kimmett Flow Through Fund\, Helping Hands\, Helping Families Handle Cancer\, and The Alberta Children’s Hospital Foundation. \nThe Kimmett Cup is a 3-on-3 pond hockey tournament in Cochrane\, Alberta that takes place the second weekend in February every year. Games are played outdoors at Mitford Pond and indoors at Spray Lake Sawmills Family Sports Centre. Games consist of two 15 minutes halves with a 5 minute intermission. Each team must consist of 6-10 players with a minimum of 2-3 female players per team (depending on the size of the team). There are three divisions – competitive\, recreational\, and fun. \nThe weekend includes games on Friday evening and Saturday throughout the day\, followed by a banquet including a live auction. A silent auction is set up throughout the day at the Spray Lake Sawmills Recreation Centre as well as at the banquet.  Registration opens in October and is open to around 50 teams. \nVISIT: KIMMETTCUP.COM \nREGISTER A TEAM OR GET YOUR TICKETS FOR THE WRAP UP PARTY! \n 
URL:https://urbancasual.ca/cochrane-event/kimmett-cup-2026/2026-02-07/
CATEGORIES:Community,Entertainment & Games,Family Friendly,Fundraiser,HOCKEY,LIONS EVENTS CENTRE,Mitford Park,Parents & Caregivers,Spray Lakes Sawmill Rec Centre
ATTACH;FMTTYPE=image/jpeg:https://urbancasual.ca/wp-content/uploads/2026/02/327431417_3377987565851552_8596410480743145913_n.jpg
END:VEVENT
BEGIN:VEVENT
DTSTART;TZID=America/Edmonton:20260207T100000
DTEND;TZID=America/Edmonton:20260207T150000
DTSTAMP:20260421T145359
CREATED:20260122T014246Z
LAST-MODIFIED:20260122T014246Z
UID:10054053-1770458400-1770476400@urbancasual.ca
SUMMARY:Your Annual Artist Journey with Jo-Anne Oucharek!
DESCRIPTION:Your Annual Artist Journey: Reflect\, Reimagine\, and Renew Your Path! \nDue to demand\, Jo-Anne Oucharek is back for another full-day workshop designed to invite artists to pause\, reflect\, and chart their path forward in a way that feels inspiring and creative! \nTogether\, we will walk through the stages of an annual journey:\nCelebrating Achievements – Honouring milestones and successes from the past year.\nRecognizing Challenges – Gently exploring obstacles and lessons learned along the way.\nImagining What’s Next – Identifying a meaningful path that aligns with your creative vision and growth. \nUsing guided exercises\, group discussion\, and a supportive template\, participants will shape a personal roadmap for the year ahead. By the end of the day\, each artist will leave with a clear\, motivating direction—grounded in self-reflection and designed to support both artistic practice and creative opportunities. \nThis workshop offers artists a chance to step back from the day-to-day\, reconnect with their purpose\, and move into the new year with clarity and confidence. \nWhen: February 7\, 2025 | 10:00 am – 3:00 pm\, with an hour lunch break at 12:00 pm \nWhere: Route 22 Artist Collective Gallery\, Cochrane AB \nCost:\nRoute 22 Members: $65 + GST | Fees\nNon-Members: $100 + GST | Fees \nFor more information and to register:\n– Screenshot this post and scan the QR code to get registered now!\n– OR\, visit our website @ route22gallery.com under events for more information!
URL:https://urbancasual.ca/cochrane-event/your-annual-artist-journey-with-jo-anne-oucharek/
LOCATION:Route 22 Artist Collective Gallery\, 208 1st Street W.\, Cochrane\, Alberta\, Canada
CATEGORIES:Art,Workshop
ATTACH;FMTTYPE=image/jpeg:https://urbancasual.ca/wp-content/uploads/2026/01/FEB-7-Jo-Anne-Workshop-Poster.jpg
ORGANIZER;CN="Route 22 Artist Collective Gallery":MAILTO:INFO@ROUTE22GALLERY.COM
END:VEVENT
BEGIN:VEVENT
DTSTART;TZID=America/Edmonton:20260207T110000
DTEND;TZID=America/Edmonton:20260207T120000
DTSTAMP:20260421T145359
CREATED:20240121T193907Z
LAST-MODIFIED:20240619T195906Z
UID:10022671-1770462000-1770465600@urbancasual.ca
SUMMARY:Let's Go Lego at the Cochrane Public Library
DESCRIPTION:Join us for our all-ages Let’s Go Lego drop-in\, where you can learn while having fun! We have lots of Lego Education and Steam sets and will be spending hands-on time letting our imaginations go wild! \nWe play on Saturdays between 11:00am and 12:00pm. \n\n 
URL:https://urbancasual.ca/cochrane-event/lets-go-lego-at-the-cochrane-public-library/2026-02-07/
LOCATION:Cochrane Public Library\, 405 Railway Street W\, Cochrane\, Alberta
CATEGORIES:Community,Downtown,Entertainment & Games,Family Friendly,Free,Library,Parents & Caregivers
ATTACH;FMTTYPE=image/jpeg:https://urbancasual.ca/wp-content/uploads/2024/01/Let-s-Go-LEGO.jpg
END:VEVENT
BEGIN:VEVENT
DTSTART;TZID=America/Edmonton:20260207T130000
DTEND;TZID=America/Edmonton:20260207T170000
DTSTAMP:20260421T145359
CREATED:20250123T184432Z
LAST-MODIFIED:20250123T184432Z
UID:10044218-1770469200-1770483600@urbancasual.ca
SUMMARY:Saturday Meat Draws at the Legion
DESCRIPTION:Come out and try your luck at winning one or more of our 16 weekly food and/or gift card prizes \nCheck out our website for other events: www.cochranelegion.ca\nFollow us on Facebook: Cochrane Legion\, Men of Vision\, Branch 15
URL:https://urbancasual.ca/cochrane-event/saturday-meat-draws-at-the-legion/2026-02-07/
LOCATION:Cochrane Legion\, 114 5th Ave\, Cochrane\, Alberta\, T4C 1A5\, Canada
CATEGORIES:Community,Dance
ATTACH;FMTTYPE=image/jpeg:https://urbancasual.ca/wp-content/uploads/2025/01/53.jpg
END:VEVENT
BEGIN:VEVENT
DTSTART;TZID=America/Edmonton:20260207T140000
DTEND;TZID=America/Edmonton:20260207T160000
DTSTAMP:20260421T145359
CREATED:20260108T210716Z
LAST-MODIFIED:20260108T210716Z
UID:10053848-1770472800-1770480000@urbancasual.ca
SUMMARY:Drop In Shuffleboard at The Legion (Saturdays)
DESCRIPTION:
URL:https://urbancasual.ca/cochrane-event/drop-in-shuffleboard-at-the-legion-saturdays/2026-02-07/
LOCATION:The Legion\, 114 Fifth Ave\, Cochrane\, Canada
CATEGORIES:Community,Entertainment & Games,Family Friendly,Free,Legion
ATTACH;FMTTYPE=image/webp:https://urbancasual.ca/wp-content/uploads/2026/01/shuffleport.webp
END:VEVENT
BEGIN:VEVENT
DTSTART;TZID=America/Edmonton:20260207T180000
DTEND;TZID=America/Edmonton:20260207T210000
DTSTAMP:20260421T145359
CREATED:20241219T180111Z
LAST-MODIFIED:20260312T155218Z
UID:10032369-1770487200-1770498000@urbancasual.ca
SUMMARY:LIVE music Saturdays at Rocky View Brewing
DESCRIPTION:  \n  \n  \nLive music Saturdays in the taproom starting at 6pm. \n  \n  \n  \n  \n  \n  \n 
URL:https://urbancasual.ca/cochrane-event/live-music-saturdays-at-rocky-view-brewing-9-15-2-2/2026-02-07/
LOCATION:Rocky View Taproom\, 420 1st Street\, Cochrane\, AB
CATEGORIES:Business,Downtown,Entertainment & Games,Music,Pub/Bar Event,Restaurant
ATTACH;FMTTYPE=image/jpeg:https://urbancasual.ca/wp-content/uploads/2024/07/241712073_342240897364337_6168788210147837504_n-3.jpg
END:VEVENT
BEGIN:VEVENT
DTSTART;TZID=America/Edmonton:20260207T180000
DTEND;TZID=America/Edmonton:20260207T230000
DTSTAMP:20260421T145359
CREATED:20260115T164317Z
LAST-MODIFIED:20260115T164335Z
UID:10054007-1770487200-1770505200@urbancasual.ca
SUMMARY:2026 KIMMETT CUP BANQUET
DESCRIPTION:Join us as we host the Kimmett Cup Banquet\n\nJoin us as we honor the memory of Lindsay Kimmett by enjoying fun\, friends and face-offs in support of the Lindsay Leigh Kimmett Memorial Foundation. \nTICKET INFORMATION TO COME! \n  \nBanquet Date: February 7\, 2026
URL:https://urbancasual.ca/cochrane-event/2026-kimmett-cup-banquet/
LOCATION:The Lions Event Centre\, 109 5th Avenue\, Cochrane\, Alberta\, Canada
CATEGORIES:advocacy,Community,Fundraiser,HOCKEY
ATTACH;FMTTYPE=image/jpeg:https://urbancasual.ca/wp-content/uploads/2026/01/kimmetcup.jpg
END:VEVENT
BEGIN:VEVENT
DTSTART;TZID=America/Edmonton:20260207T183000
DTEND;TZID=America/Edmonton:20260207T200000
DTSTAMP:20260421T145359
CREATED:20260120T173728Z
LAST-MODIFIED:20260120T173728Z
UID:10054072-1770489000-1770494400@urbancasual.ca
SUMMARY:Adult (18+) Co-ed Dodgeball
DESCRIPTION:Adult (18+) co-ed dodgeball is looking for new players! Register for a night and give it a try. We play casual\, for fun\, and beginners are welcome. \nWe play Saturday nights out of the SLS Centre from 6:30-8:00pm. \nSign up using this SLS link: \nhttps://anc.ca.apm.activecommunities.com/slsc/daycare/program/63?onlineSiteId=0&from_original_cui=true&online=true
URL:https://urbancasual.ca/cochrane-event/adult-18-co-ed-dodgeball/2026-02-07/
LOCATION:Spray Lake Sawmill Family Sports Centre\, 800 Griffin Road\, Cochrane\, AB
CATEGORIES:Adults Only,Community,Entertainment & Games,Sports,Spray Lakes Sawmill Rec Centre
ATTACH;FMTTYPE=image/png:https://urbancasual.ca/wp-content/uploads/2026/01/DodgeBall-Logo-1-scaled.png
END:VEVENT
BEGIN:VEVENT
DTSTART;TZID=America/Edmonton:20260207T190000
DTEND;TZID=America/Edmonton:20260207T210000
DTSTAMP:20260421T145359
CREATED:20251015T213400Z
LAST-MODIFIED:20251015T213400Z
UID:10050634-1770490800-1770498000@urbancasual.ca
SUMMARY:Alchemy Singing Bowls SoundBath at the White Owl Dome
DESCRIPTION:Join Jenna Dillon of Golden Harmonics every Saturday night (7:00pm) in a beautiful Geodesic Dome just 15 mins west of Cochrane. \nEnjoy scenic views of the Wild Cat hills and emerge yourself in the soothing tones of the crystal bowls. Let the sound reset your nervous system and bring your body back into harmony.
URL:https://urbancasual.ca/cochrane-event/alchemy-singing-bowls-soundbath-at-the-white-owl-dome/2026-02-07/
LOCATION:272240 Grand Valley Rd\, Cochrane\, Alberta\, Canada
CATEGORIES:Entertainment & Games,Health & Wellness
ATTACH;FMTTYPE=image/jpeg:https://urbancasual.ca/wp-content/uploads/2025/10/IMG_6949.jpeg
ORGANIZER;CN="Golden Harmonics":MAILTO:goldenharmonicssound@gmail.com
END:VEVENT
BEGIN:VEVENT
DTSTART;TZID=America/Edmonton:20260207T210000
DTEND;TZID=America/Edmonton:20260208T010000
DTSTAMP:20260421T145359
CREATED:20260202T193911Z
LAST-MODIFIED:20260202T193911Z
UID:10054495-1770498000-1770512400@urbancasual.ca
SUMMARY:LIVE MUSIC AT THE VENUE SATURDAYS
DESCRIPTION:
URL:https://urbancasual.ca/cochrane-event/live-music-at-the-venue-saturdays/2026-02-07/
LOCATION:VENUE SPORTSBAR AND GRILL
CATEGORIES:Business,Entertainment & Games,Free,Music,Pub/Bar Event,Restaurant
ATTACH;FMTTYPE=image/jpeg:https://urbancasual.ca/wp-content/uploads/2026/02/IMG_20260202_110028_040.jpg
END:VEVENT
BEGIN:VEVENT
DTSTART;TZID=America/Edmonton:20260207T220000
DTEND;TZID=America/Edmonton:20260207T233000
DTSTAMP:20260421T145359
CREATED:20240917T161425Z
LAST-MODIFIED:20240917T161426Z
UID:10030973-1770501600-1770507000@urbancasual.ca
SUMMARY:The Rockyview Hotel - All Request DJ
DESCRIPTION:THE ROCKYVIEW HOTEL | EST’D IN 1904 – Celebrating 120 years in Historic Downtown. \n+ Dance the night away at the @texasgate.cochrane ! \n+ Tuesdays – learn to line dance\, 7pm\n+ Thursdays – karaoke\, 8pm\n+ Fridays / Saturdays – all request DJ\, 10pm +\n+ Sundays – All day free pool! \nTo book your stay & for more info: rockyviewhotel.ca \n  \n  \n  \n\n\n  \n\n\n\n\n\n\n\n\n\n\nView this post on Instagram\n\n\n\n\n\n\n\n\n\n\n\n\n\n\n\n\n\n\n\n\n\n\n  \nA post shared by Urban Casual Cochrane (@urbancasual.ca)
URL:https://urbancasual.ca/cochrane-event/the-rockyview-hotel-all-request-dj-2/2026-02-07/
LOCATION:Rockyview Hotel
CATEGORIES:Business,Downtown,Entertainment & Games,Pub/Bar Event,Restaurant
ATTACH;FMTTYPE=image/jpeg:https://urbancasual.ca/wp-content/uploads/2024/06/305308494_488593543275767_6866078460144404837_n.jpg
END:VEVENT
END:VCALENDAR