BEGIN:VCALENDAR
VERSION:2.0
PRODID:-//Urbancasual.ca - ECPv6.15.20//NONSGML v1.0//EN
CALSCALE:GREGORIAN
METHOD:PUBLISH
X-WR-CALNAME:Urbancasual.ca
X-ORIGINAL-URL:https://urbancasual.ca
X-WR-CALDESC:Events for Urbancasual.ca
REFRESH-INTERVAL;VALUE=DURATION:PT1H
X-Robots-Tag:noindex
X-PUBLISHED-TTL:PT1H
BEGIN:VTIMEZONE
TZID:America/Edmonton
BEGIN:DAYLIGHT
TZOFFSETFROM:-0700
TZOFFSETTO:-0600
TZNAME:MDT
DTSTART:20240310T090000
END:DAYLIGHT
BEGIN:STANDARD
TZOFFSETFROM:-0600
TZOFFSETTO:-0700
TZNAME:MST
DTSTART:20241103T080000
END:STANDARD
BEGIN:DAYLIGHT
TZOFFSETFROM:-0700
TZOFFSETTO:-0600
TZNAME:MDT
DTSTART:20250309T090000
END:DAYLIGHT
BEGIN:STANDARD
TZOFFSETFROM:-0600
TZOFFSETTO:-0700
TZNAME:MST
DTSTART:20251102T080000
END:STANDARD
BEGIN:DAYLIGHT
TZOFFSETFROM:-0700
TZOFFSETTO:-0600
TZNAME:MDT
DTSTART:20260308T090000
END:DAYLIGHT
BEGIN:STANDARD
TZOFFSETFROM:-0600
TZOFFSETTO:-0700
TZNAME:MST
DTSTART:20261101T080000
END:STANDARD
END:VTIMEZONE
BEGIN:VEVENT
DTSTART;TZID=America/Edmonton:20250708T070000
DTEND;TZID=America/Edmonton:20250708T100000
DTSTAMP:20260419T092750
CREATED:20250630T235528Z
LAST-MODIFIED:20250707T205513Z
UID:10049589-1751958000-1751968800@urbancasual.ca
SUMMARY:Stampede Pancake Breakfast at Northstar Ford Cochrane
DESCRIPTION:Free Stampede pancake breakfast at Northstar Ford here in Cochrane\, In partnership with Cochrane Lions Club. \nJuly 8th 2025 \n7am – 10am.
URL:https://urbancasual.ca/cochrane-event/stampede-pancake-breakfast-at-northstar-ford-cochrane/
LOCATION:Northstar Ford Cochrane\, 9 River Heights Dr\, Cochrane\, Alberta\, T4C 0N8\, Canada
CATEGORIES:Business,Community,Food,Free,STAMPEDE 2025
ATTACH;FMTTYPE=image/jpeg:https://urbancasual.ca/wp-content/uploads/2025/07/inbound235558481684657965-1.jpg
END:VEVENT
BEGIN:VEVENT
DTSTART;TZID=America/Edmonton:20250708T090000
DTEND;TZID=America/Edmonton:20250708T110000
DTSTAMP:20260419T092750
CREATED:20250622T181900Z
LAST-MODIFIED:20250622T181900Z
UID:10049557-1751965200-1751972400@urbancasual.ca
SUMMARY:Fireside Family Health Stampede Breakfast
DESCRIPTION:Fireside Family Health’s Patient Appreciation Event will be held at our clinic on July 8\, 2025\, from 9 to 11 a.m. \nCome on down and enjoy free wellness demonstrations\, food\, face painting\, and more!
URL:https://urbancasual.ca/cochrane-event/fireside-family-health-stampede-breakfast/
LOCATION:AB
CATEGORIES:Business,Community,Food,Free,STAMPEDE 2025
ATTACH;FMTTYPE=image/jpeg:https://urbancasual.ca/wp-content/uploads/2025/06/inbound1570795055964953434.jpg
END:VEVENT
BEGIN:VEVENT
DTSTART;TZID=America/Edmonton:20250708T130000
DTEND;TZID=America/Edmonton:20250708T160000
DTSTAMP:20260419T092750
CREATED:20250626T143908Z
LAST-MODIFIED:20250626T143908Z
UID:10049570-1751979600-1751990400@urbancasual.ca
SUMMARY:Myth Busting: Indigenous Stereotypes in Canada
DESCRIPTION:Discuss how to dismantle the harmful stereotypes that surround Indigenous peoples in Canada through this workshop with dr. linda manyguns. This session will dive into the complex worldviews of Indigenous peoples\, the historical contexts that led to the rise of negative and inaccurate labels\, and how to foster reconciliation in our communities. \nThis program is part of the “Unpacking the Past\, Understanding the Present” series by dr. linda manyguns and is made possible by an ethnocultural grant provided by the Government of Alberta. This series will take place on the eighth of each month from June to October. \nYou can register for this session and find more information on upcoming sessions by visiting cochranepubliclibrary.ca/Events/Myth-Busting-Indigenous-Stereotypes-in-Canada!
URL:https://urbancasual.ca/cochrane-event/myth-busting-indigenous-stereotypes-in-canada/
LOCATION:Cochrane Public Library\, 405 Railway Street W\, Cochrane\, Alberta
CATEGORIES:Community,Culture,Free,Indigenous,Learning,Library
ATTACH;FMTTYPE=image/jpeg:https://urbancasual.ca/wp-content/uploads/2025/06/July-8th.jpg
END:VEVENT
BEGIN:VEVENT
DTSTART;TZID=America/Edmonton:20250708T160000
DTEND;TZID=America/Edmonton:20250708T180000
DTSTAMP:20260419T092750
CREATED:20250116T213557Z
LAST-MODIFIED:20250116T214050Z
UID:10043338-1751990400-1751997600@urbancasual.ca
SUMMARY:LEGION: SHUFFLE BOARD
DESCRIPTION:DROP IN TUESDAYS AND THURSDAYS AT 4PM \nDROP IN SATURDAYS AT 2PM \n  \n 
URL:https://urbancasual.ca/cochrane-event/legion-shuffle-board/2025-07-08/
LOCATION:The Legion\, 114 Fifth Ave\, Cochrane\, Canada
CATEGORIES:Adults Only,Community,Entertainment & Games,Networking,Parents & Caregivers,Seniors
ATTACH;FMTTYPE=image/jpeg:https://urbancasual.ca/wp-content/uploads/2025/01/Shuffleboard.jpg
END:VEVENT
BEGIN:VEVENT
DTSTART;TZID=America/Edmonton:20250708T160000
DTEND;TZID=America/Edmonton:20250708T180000
DTSTAMP:20260419T092750
CREATED:20250116T215252Z
LAST-MODIFIED:20250116T215252Z
UID:10043769-1751990400-1751997600@urbancasual.ca
SUMMARY:LEGION: CRIB
DESCRIPTION:DROP IN WEDNESDAYS AT 6PM \n  \n 
URL:https://urbancasual.ca/cochrane-event/legion-crib/2025-07-08/
LOCATION:The Legion\, 114 Fifth Ave\, Cochrane\, Canada
CATEGORIES:Adults Only,Community,Entertainment & Games,Networking,Parents & Caregivers,Seniors
ATTACH;FMTTYPE=image/jpeg:https://urbancasual.ca/wp-content/uploads/2025/01/Crib-1.jpg
END:VEVENT
BEGIN:VEVENT
DTSTART;TZID=America/Edmonton:20250708T173000
DTEND;TZID=America/Edmonton:20250708T190000
DTSTAMP:20260419T092750
CREATED:20250609T205235Z
LAST-MODIFIED:20250609T210204Z
UID:10049362-1751995800-1752001200@urbancasual.ca
SUMMARY:Sounds of Summer
DESCRIPTION:From July 8th to August 12th\, join the Cochrane Public Library on Tuesday evenings at the Cochrane Crossing Civic Plaza for a series of outdoor concerts featuring local musicians! \nPack a dinner for you and your loved ones and relax on the lawn as you take in the Sounds of Summer. From bagpipes to classical clarinet\, opera\, and more\, there’s something for everyone at this new series — and you may just discover your new favourite artist! You’ll have the opportunity to learn about local musicians\, their creative process\, and the significance of their music\, all from the comfort of your picnic blankets. \nPlease note that in the case of poor weather\, Sounds of Summer will be moved indoors to the Rotary Lounge at the Cochrane Public Library!
URL:https://urbancasual.ca/cochrane-event/sounds-of-summer/2025-07-08/
LOCATION:The Station\, 360 Railway St W\, Cochrane\, AB\, Canada
CATEGORIES:Choir,Concert,Culture,Downtown,Free,Library,Music,Parks
ATTACH;FMTTYPE=image/jpeg:https://urbancasual.ca/wp-content/uploads/2025/06/Sounds-of-Summer.jpg
END:VEVENT
BEGIN:VEVENT
DTSTART;TZID=America/Edmonton:20250708T190000
DTEND;TZID=America/Edmonton:20250708T210000
DTSTAMP:20260419T092750
CREATED:20240618T152427Z
LAST-MODIFIED:20240619T174110Z
UID:10028771-1752001200-1752008400@urbancasual.ca
SUMMARY:Rockyview Hotel - Learn to line dance
DESCRIPTION:THE ROCKYVIEW HOTEL | EST’D IN 1904 – Celebrating 120 years in Historic Downtown. \n+ Dance the night away at the @texasgate.cochrane ! \n+ Tuesdays – learn to line dance\, 7pm\n+ Thursdays – karaoke\, 8pm\n+ Fridays / Saturdays – all request DJ\, 10pm\n+ Sundays – All day free pool! \nTo book your stay & for more info: rockyviewhotel.ca \n  \n\n\n  \n\n\n\n\n\n\n\n\n\n\nView this post on Instagram\n\n\n\n\n\n\n\n\n\n\n\n\n\n\n\n\n\n\n\n\n\n\n  \nA post shared by Urban Casual Cochrane (@urbancasual.ca)
URL:https://urbancasual.ca/cochrane-event/rockyview-hotel-learn-to-line-dance/2025-07-08/
LOCATION:Rockyview Hotel
CATEGORIES:Business,Downtown,Hotel,Pub/Bar Event,Restaurant
ATTACH;FMTTYPE=image/jpeg:https://urbancasual.ca/wp-content/uploads/2024/06/305308494_488593543275767_6866078460144404837_n.jpg
END:VEVENT
END:VCALENDAR