BEGIN:VCALENDAR
VERSION:2.0
PRODID:-//Urbancasual.ca - ECPv6.15.20//NONSGML v1.0//EN
CALSCALE:GREGORIAN
METHOD:PUBLISH
X-WR-CALNAME:Urbancasual.ca
X-ORIGINAL-URL:https://urbancasual.ca
X-WR-CALDESC:Events for Urbancasual.ca
REFRESH-INTERVAL;VALUE=DURATION:PT1H
X-Robots-Tag:noindex
X-PUBLISHED-TTL:PT1H
BEGIN:VTIMEZONE
TZID:America/Edmonton
BEGIN:DAYLIGHT
TZOFFSETFROM:-0700
TZOFFSETTO:-0600
TZNAME:MDT
DTSTART:20240310T090000
END:DAYLIGHT
BEGIN:STANDARD
TZOFFSETFROM:-0600
TZOFFSETTO:-0700
TZNAME:MST
DTSTART:20241103T080000
END:STANDARD
BEGIN:DAYLIGHT
TZOFFSETFROM:-0700
TZOFFSETTO:-0600
TZNAME:MDT
DTSTART:20250309T090000
END:DAYLIGHT
BEGIN:STANDARD
TZOFFSETFROM:-0600
TZOFFSETTO:-0700
TZNAME:MST
DTSTART:20251102T080000
END:STANDARD
BEGIN:DAYLIGHT
TZOFFSETFROM:-0700
TZOFFSETTO:-0600
TZNAME:MDT
DTSTART:20260308T090000
END:DAYLIGHT
BEGIN:STANDARD
TZOFFSETFROM:-0600
TZOFFSETTO:-0700
TZNAME:MST
DTSTART:20261101T080000
END:STANDARD
END:VTIMEZONE
BEGIN:VEVENT
DTSTART;VALUE=DATE:20250608
DTEND;VALUE=DATE:20250610
DTSTAMP:20260420T100924
CREATED:20250526T194120Z
LAST-MODIFIED:20250526T194120Z
UID:10048234-1749351600-1749437999@urbancasual.ca
SUMMARY:June at Seniors on the Bow
DESCRIPTION:Here is the June Newsletter to let everyone know about all the fun things that we have going on in the month.\n\n\n\nWe kick it off with Seniors’ Week right at the start and keep the good times rolling with a trip to Rosebud Theatre and our Neighbourhood BBQ.\n\n\nPLUS more in our Facebook post.
URL:https://urbancasual.ca/cochrane-event/june-at-seniors-on-the-bow/2025-06-08/
LOCATION:Seniors on the Bow\, 800 Griffin Road E.\, Cochrane\, AB\, Canada
CATEGORIES:Community,Entertainment & Games,Health & Wellness,Learning,Seniors,seniors week,Spray Lakes Sawmill Rec Centre
ATTACH;FMTTYPE=image/jpeg:https://urbancasual.ca/wp-content/uploads/2025/06/499803360_1016326537352093_5538705231186731507_n-e1748193320906.jpg
END:VEVENT
BEGIN:VEVENT
DTSTART;TZID=America/Edmonton:20250608T100000
DTEND;TZID=America/Edmonton:20250608T140000
DTSTAMP:20260420T100924
CREATED:20250531T154403Z
LAST-MODIFIED:20250531T154403Z
UID:10048497-1749376800-1749391200@urbancasual.ca
SUMMARY:Bearspaw Lions Farmers Market
DESCRIPTION:Our Sunday Farmers Market opens again on June 1\, 2025! 10AM TO 2PM \n\nAll market communications must be emailed to: farmersmarket@bearspawlions.com \n\n\nWe look forward to your continued support of our vendors and the Lions Club charities. There are over 110 vendors in the market and we look forward to seeing our returning vendors and welcoming new faces to the mix! \nNew for 2025!!\nLow fee ATM onsite with all fees supporting the Lions Club and our charity activities \nFree Souvenir Shopping bags available while supplies last! \nBearspaw Lions Farmers Market Shopping Bags can be obtained by just asking any Lions Member. \nThe bag celebrates 30 years of our Sunday Farmers Market plus promotes membership in the Bearspaw Lions Club and rentals of our Hall. Please take home this souvenir of our community  featuring local artist’s donated artwork and local businesses which have sponsored the cost to make these reusable tote bags. \n\nWHERE: 25240 NAGWAY ROAD NW\, CALGARY
URL:https://urbancasual.ca/cochrane-event/bearspaw-lions-farmers-market/2025-06-08/
LOCATION:Bearspaw Lions Club\, 25240 Nagway Road NW\, Calgary\, Alberta
CATEGORIES:Bearspaw,Community,Farmers Market,Market
ATTACH;FMTTYPE=image/jpeg:https://urbancasual.ca/wp-content/uploads/2025/05/487467087_1108768801261854_2946370913390748257_n.jpg
END:VEVENT
BEGIN:VEVENT
DTSTART;TZID=America/Edmonton:20250608T110000
DTEND;TZID=America/Edmonton:20250608T160000
DTSTAMP:20260420T100924
CREATED:20250515T200444Z
LAST-MODIFIED:20250515T200444Z
UID:10048125-1749380400-1749398400@urbancasual.ca
SUMMARY:Cremona Farmers Market
DESCRIPTION:Bring the whole family out and join us for the Season Opener THIS SUNDAY MAY 18th from 11-4. Lions Club ParkLocated on the south side of the main road through Cremona\, just east of the Cremona Hotel.
URL:https://urbancasual.ca/cochrane-event/cremona-farmers-market/2025-06-08/
LOCATION:AB
CATEGORIES:Cremona,Farmers Market,Market
ATTACH;FMTTYPE=image/jpeg:https://urbancasual.ca/wp-content/uploads/2025/05/497723772_1128738745937641_4413470624197130103_n.jpg
END:VEVENT
BEGIN:VEVENT
DTSTART;TZID=America/Edmonton:20250608T120000
DTEND;TZID=America/Edmonton:20250608T160000
DTSTAMP:20260420T100924
CREATED:20250529T163927Z
LAST-MODIFIED:20250529T163927Z
UID:10048406-1749384000-1749398400@urbancasual.ca
SUMMARY:Cochrane Historical Museum
DESCRIPTION:Visit the Cochrane Historical Museum Wednesday through Sunday (plus stat Mondays) until September 1st\, 12pm to 4pm. \nLearn more: https://urbancasual.ca/history-live-here-cochrane-historical-museum-opens-at-the-ranche-may-17th/
URL:https://urbancasual.ca/cochrane-event/cochrane-historical-museum/2025-06-08/
LOCATION:Cochrane Ranche\, Hwy 1A\, Cochrane\, Alberta
CATEGORIES:Community,Culture,Entertainment & Games,Family Friendly,Free,Learning,Newcomers,Parents & Caregivers
ATTACH;FMTTYPE=image/jpeg:https://urbancasual.ca/wp-content/uploads/2025/05/497640714_10162442038179061_4194824443753130805_n-e1747167844472.jpg
END:VEVENT
BEGIN:VEVENT
DTSTART;TZID=America/Edmonton:20250608T133000
DTEND;TZID=America/Edmonton:20250608T163000
DTSTAMP:20260420T100924
CREATED:20250524T155959Z
LAST-MODIFIED:20250524T155959Z
UID:10048167-1749389400-1749400200@urbancasual.ca
SUMMARY:Pre-Contact Cochrane: Indigenous Summer Life
DESCRIPTION:Delve into the history of Indigenous peoples in the Cochrane area with dr. linda manyguns. This session focuses on their cyclical movements during the summer months\, their territories\, and insights into their pre-contact way of life. \nThis program is part of the Unpacking the Past\, Understanding the Present Series by dr. linda manyguns. This series will take place on the eighth of each month from June to October. You can register for this session and find more information on upcoming sessions by visiting cochranepubliclibrary.ca/Events/Pre-Contact-Cochrane-Indigenous-Summer-Life!
URL:https://urbancasual.ca/cochrane-event/pre-contact-cochrane-indigenous-summer-life/
LOCATION:Cochrane Public Library\, 405 Railway Street W\, Cochrane\, Alberta
CATEGORIES:Adults Only,advocacy,Culture,Free,Indigenous,Learning,Library
ATTACH;FMTTYPE=image/jpeg:https://urbancasual.ca/wp-content/uploads/2025/05/June-8th-1.jpg
END:VEVENT
BEGIN:VEVENT
DTSTART;TZID=America/Edmonton:20250608T160000
DTEND;TZID=America/Edmonton:20250608T200000
DTSTAMP:20260420T100924
CREATED:20240911T005142Z
LAST-MODIFIED:20240911T005142Z
UID:10035733-1749398400-1749412800@urbancasual.ca
SUMMARY:SUNDAY JAM AT THE VENUE
DESCRIPTION:The Sunday Jam is back at the Venue starting October 6th! \nFeaturing Allen Christie. \nWINGS $10 OFF \nHAPPY HOUR 2PM TO 8PM \n  \n 
URL:https://urbancasual.ca/cochrane-event/sunday-jam-at-the-venue/2025-06-08/
LOCATION:VENUE SPORTSBAR AND GRILL
CATEGORIES:Entertainment & Games,Music
ATTACH;FMTTYPE=image/jpeg:https://urbancasual.ca/wp-content/uploads/2024/09/inbound1307443098528191419.jpg
END:VEVENT
BEGIN:VEVENT
DTSTART;TZID=America/Edmonton:20250608T180000
DTEND;TZID=America/Edmonton:20250608T200000
DTSTAMP:20260420T100924
CREATED:20250512T230610Z
LAST-MODIFIED:20250512T230610Z
UID:10048078-1749405600-1749412800@urbancasual.ca
SUMMARY:The Third Waltz: The Long Road Ahead Concert
DESCRIPTION:The Third Waltz is trio of singers/musicians that came together in 2023 to share a collective passion for music. \nThey cover a variety of music styles\, writing their own arrangements of folk\, pop\, indie\, alternative\, and original songs. \nWaltz has performed at venues around Calgary for festivals and showcases\, and debuted in Found on March 23\, 2024 as an opener for The Yearbook Committee in Patchwork. \nThey’re excited to share their final performance with you. \nDoors open 5:30\, Music Starts at 6:00! 
URL:https://urbancasual.ca/cochrane-event/the-third-waltz-the-long-road-ahead-concert/
LOCATION:Found Book Shop\, 206 1st Street W\, Cochrane\, AB
CATEGORIES:Art,Concert,Music,Pub/Bar Event
ATTACH;FMTTYPE=image/jpeg:https://urbancasual.ca/wp-content/uploads/2025/05/497585656_1260924759368342_3891719468452356813_n-1.jpg
END:VEVENT
END:VCALENDAR