BEGIN:VCALENDAR
VERSION:2.0
PRODID:-//Urbancasual.ca - ECPv6.15.20//NONSGML v1.0//EN
CALSCALE:GREGORIAN
METHOD:PUBLISH
X-WR-CALNAME:Urbancasual.ca
X-ORIGINAL-URL:https://urbancasual.ca
X-WR-CALDESC:Events for Urbancasual.ca
REFRESH-INTERVAL;VALUE=DURATION:PT1H
X-Robots-Tag:noindex
X-PUBLISHED-TTL:PT1H
BEGIN:VTIMEZONE
TZID:America/Edmonton
BEGIN:DAYLIGHT
TZOFFSETFROM:-0700
TZOFFSETTO:-0600
TZNAME:MDT
DTSTART:20240310T090000
END:DAYLIGHT
BEGIN:STANDARD
TZOFFSETFROM:-0600
TZOFFSETTO:-0700
TZNAME:MST
DTSTART:20241103T080000
END:STANDARD
BEGIN:DAYLIGHT
TZOFFSETFROM:-0700
TZOFFSETTO:-0600
TZNAME:MDT
DTSTART:20250309T090000
END:DAYLIGHT
BEGIN:STANDARD
TZOFFSETFROM:-0600
TZOFFSETTO:-0700
TZNAME:MST
DTSTART:20251102T080000
END:STANDARD
BEGIN:DAYLIGHT
TZOFFSETFROM:-0700
TZOFFSETTO:-0600
TZNAME:MDT
DTSTART:20260308T090000
END:DAYLIGHT
BEGIN:STANDARD
TZOFFSETFROM:-0600
TZOFFSETTO:-0700
TZNAME:MST
DTSTART:20261101T080000
END:STANDARD
END:VTIMEZONE
BEGIN:VEVENT
DTSTART;VALUE=DATE:20250606
DTEND;VALUE=DATE:20250608
DTSTAMP:20260420T100928
CREATED:20250526T194120Z
LAST-MODIFIED:20250526T194120Z
UID:10048232-1749178800-1749265199@urbancasual.ca
SUMMARY:June at Seniors on the Bow
DESCRIPTION:Here is the June Newsletter to let everyone know about all the fun things that we have going on in the month.\n\n\n\nWe kick it off with Seniors’ Week right at the start and keep the good times rolling with a trip to Rosebud Theatre and our Neighbourhood BBQ.\n\n\nPLUS more in our Facebook post.
URL:https://urbancasual.ca/cochrane-event/june-at-seniors-on-the-bow/2025-06-06/
LOCATION:Seniors on the Bow\, 800 Griffin Road E.\, Cochrane\, AB\, Canada
CATEGORIES:Community,Entertainment & Games,Health & Wellness,Learning,Seniors,seniors week,Spray Lakes Sawmill Rec Centre
ATTACH;FMTTYPE=image/jpeg:https://urbancasual.ca/wp-content/uploads/2025/06/499803360_1016326537352093_5538705231186731507_n-e1748193320906.jpg
END:VEVENT
BEGIN:VEVENT
DTSTART;TZID=America/Edmonton:20250606T090000
DTEND;TZID=America/Edmonton:20250606T170000
DTSTAMP:20260420T100928
CREATED:20230405T002431Z
LAST-MODIFIED:20230405T003023Z
UID:10009444-1749200400-1749229200@urbancasual.ca
SUMMARY:Open Corner at the Corner Coworking
DESCRIPTION:It’s Open Corner down at The Corner Coworking where you can drop in for FREE. \nHave a client meeting? Need a whiteboard to brainstorm great ideas? Video conference? We’ve got you covered. \nJust show up\, grab a desk and we’ll do the rest!
URL:https://urbancasual.ca/cochrane-event/open-corner-at-the-corner-coworking-2/2025-06-06/
LOCATION:The Corner Coworking\, 225 Railway Street E\, Cochrane
CATEGORIES:Business
ATTACH;FMTTYPE=image/jpeg:https://urbancasual.ca/wp-content/uploads/2022/12/scaled_768-1.jpg
END:VEVENT
BEGIN:VEVENT
DTSTART;TZID=America/Edmonton:20250606T100000
DTEND;TZID=America/Edmonton:20250606T110000
DTSTAMP:20260420T100928
CREATED:20250109T175736Z
LAST-MODIFIED:20250226T200327Z
UID:10045258-1749204000-1749207600@urbancasual.ca
SUMMARY:Parent & Tot Sing-Alongs
DESCRIPTION:Welcome to Cochrane’s Parent & Tot Sing-Along Sessions! \nJoin us for a fun and interactive music experience with your little ones. Sing along to popular children’s songs and nursery rhymes in a welcoming and inclusive environment. \nSTARTING DATE Friday January 3\, 2025 \nTime: Doors at 10:00 AM music starts at 10:15am \nLocation: Frank Wills Community Hall \nCoffee\, tea and cookies provided. \nBring your singing voices and get ready to bond with your child through music. No experience necessary\, just come ready to have a great time! \nFloor seating so bring a blanket\, yoga mat or cushion if you’d like. \n*Price is for parent & tot with no more than 2 parents per caregiver. $7/each drop-in or $20 for 4 consecutive drop ins (billed once at the beginning of the month)
URL:https://urbancasual.ca/cochrane-event/parent-tot-sing-alongs/2025-06-06/
LOCATION:Frank Wills Memorial Hall\, 405 1st Street E\, Cochrane\, Alberta
CATEGORIES:Community,Entertainment & Games,Learning,Music,Parents & Caregivers
ATTACH;FMTTYPE=image/jpeg:https://urbancasual.ca/wp-content/uploads/2025/01/472320182_8970766342958715_3666774441074322581_n.jpg
END:VEVENT
BEGIN:VEVENT
DTSTART;TZID=America/Edmonton:20250606T103000
DTEND;TZID=America/Edmonton:20250606T120000
DTSTAMP:20260420T100928
CREATED:20240325T011124Z
LAST-MODIFIED:20240619T170316Z
UID:10025442-1749205800-1749211200@urbancasual.ca
SUMMARY:Little Sprouts at Growing Roots
DESCRIPTION:Get outside with your 18–36 month olds in this parented outdoor program at the Cochrane Ranch. This Forest School program provides a fantastic opportunity for kids to explore\, play outside with other kids and make new friends. It’s for kids who are ready to dip their toes into the larger world but are not ready to be on their own just yet. Let’s help our littles embrace their curiosity and take on the world with confidence! \nWhen: Friday mornings\, 10:30-12\nWhere: Historic Cochrane Ranche\nWho: 18-36 months olds and their families – siblings welcome!\nCost: First class free! Then $15/class. Register for only the class(es) you wish to attend \nMore details at GrowingRootsKids.ca
URL:https://urbancasual.ca/cochrane-event/little-sprouts-at-growing-roots/2025-06-06/
LOCATION:AB
CATEGORIES:Family Friendly,Parents & Caregivers
ATTACH;FMTTYPE=image/jpeg:https://urbancasual.ca/wp-content/uploads/2024/03/IMG_5731-scaled.jpg
ORGANIZER;CN="Growing Roots Forest Play":MAILTO:info@growingrootskids.ca
END:VEVENT
BEGIN:VEVENT
DTSTART;TZID=America/Edmonton:20250606T120000
DTEND;TZID=America/Edmonton:20250606T160000
DTSTAMP:20260420T100928
CREATED:20250529T163927Z
LAST-MODIFIED:20250529T163927Z
UID:10048404-1749211200-1749225600@urbancasual.ca
SUMMARY:Cochrane Historical Museum
DESCRIPTION:Visit the Cochrane Historical Museum Wednesday through Sunday (plus stat Mondays) until September 1st\, 12pm to 4pm. \nLearn more: https://urbancasual.ca/history-live-here-cochrane-historical-museum-opens-at-the-ranche-may-17th/
URL:https://urbancasual.ca/cochrane-event/cochrane-historical-museum/2025-06-06/
LOCATION:Cochrane Ranche\, Hwy 1A\, Cochrane\, Alberta
CATEGORIES:Community,Culture,Entertainment & Games,Family Friendly,Free,Learning,Newcomers,Parents & Caregivers
ATTACH;FMTTYPE=image/jpeg:https://urbancasual.ca/wp-content/uploads/2025/05/497640714_10162442038179061_4194824443753130805_n-e1747167844472.jpg
END:VEVENT
BEGIN:VEVENT
DTSTART;TZID=America/Edmonton:20250606T123000
DTEND;TZID=America/Edmonton:20250606T140000
DTSTAMP:20260420T100928
CREATED:20250529T174609Z
LAST-MODIFIED:20250529T174609Z
UID:10048478-1749213000-1749218400@urbancasual.ca
SUMMARY:Seniors Week: Spaghetti Lunch
DESCRIPTION:Spaghetti Lunch – $3 (SOTB)\nDoors open at 12 p.m. To register call 403-932-6002 or visit Seniors on the Bow
URL:https://urbancasual.ca/cochrane-event/seniors-week-spaghetti-lunch/
LOCATION:Seniors on the Bow\, 800 Griffin Road E.\, Cochrane\, AB\, Canada
CATEGORIES:Community,Food,Seniors,seniors week,Town of Cochrane
ATTACH;FMTTYPE=image/png:https://urbancasual.ca/wp-content/uploads/2025/05/seniors-3.png
END:VEVENT
BEGIN:VEVENT
DTSTART;TZID=America/Edmonton:20250606T140000
DTEND;TZID=America/Edmonton:20250606T153000
DTSTAMP:20260420T100928
CREATED:20250529T174720Z
LAST-MODIFIED:20250529T174720Z
UID:10048479-1749218400-1749223800@urbancasual.ca
SUMMARY:Seniors Week: Good Vibes Memory Choir "Try a Rehearsal"
DESCRIPTION:Good Vibes Memory Choir “Try-a-Rehearsal” (SOTB)\nExperience firsthand how music can lift your spirits\, strengthen your memory and build community.\nWhether you’re living with memory loss\, supporting a loved one\, a senior looking to stay sharp or simply\nlove to sing\, this event is for you! No previous experience is required. Refreshments to follow.\nFor more information contact goodvibesmemorychoir@gmail.com.
URL:https://urbancasual.ca/cochrane-event/seniors-week-good-vibes-memory-choir-try-a-rehearsal/
LOCATION:Seniors on the Bow\, 800 Griffin Road E.\, Cochrane\, AB\, Canada
CATEGORIES:Choir,Community,Entertainment & Games,Seniors,seniors week,Town of Cochrane
ATTACH;FMTTYPE=image/png:https://urbancasual.ca/wp-content/uploads/2025/05/seniors-3.png
END:VEVENT
BEGIN:VEVENT
DTSTART;TZID=America/Edmonton:20250606T140000
DTEND;TZID=America/Edmonton:20250606T170000
DTSTAMP:20260420T100928
CREATED:20250529T174846Z
LAST-MODIFIED:20250529T174846Z
UID:10048480-1749218400-1749229200@urbancasual.ca
SUMMARY:Seniors Week: Advanced Care Planning & the Green Sleeve
DESCRIPTION:Advanced Care Planning and the Green Sleeve (Cochrane Public Library)\nThe Green Sleeve can ensure healthcare wishes are clearly communicated and respected. Understand\nhow to facilitate these crucial conversations and plan for the future with confidence. To register call\n403-932-4353 or visit www.cochranepubliclibrary.ca/events.
URL:https://urbancasual.ca/cochrane-event/seniors-week-advanced-care-planning-the-green-sleeve/
LOCATION:Cochrane Public Library\, 405 Railway Street W\, Cochrane\, Alberta
CATEGORIES:Community,Learning,Library,Seniors,seniors week,Town of Cochrane
ATTACH;FMTTYPE=image/png:https://urbancasual.ca/wp-content/uploads/2025/05/seniors-3.png
END:VEVENT
BEGIN:VEVENT
DTSTART;TZID=America/Edmonton:20250606T163000
DTEND;TZID=America/Edmonton:20250606T190000
DTSTAMP:20260420T100928
CREATED:20250331T223345Z
LAST-MODIFIED:20250331T223345Z
UID:10046116-1749227400-1749236400@urbancasual.ca
SUMMARY:Friday Night BBQ (Family Friendly) at the Legion
DESCRIPTION:Steak\, burger and hot dogs are on the menu Friday nights. All items come with potato\, salad\, beans and garlic toast. \nCheck our Facebook page for updates.\nFamily Friendly\nNo membership required\nWe hope you can join us
URL:https://urbancasual.ca/cochrane-event/friday-night-bbq-family-friendly-at-the-legion/2025-06-06/
LOCATION:Cochrane Legion\, 114 5th Ave\, Cochrane\, Alberta\, T4C 1A5\, Canada
CATEGORIES:Community,Food,Legion
ATTACH;FMTTYPE=image/png:https://urbancasual.ca/wp-content/uploads/2025/03/Legion-Posters-20250-6.png
ORGANIZER;CN="Cochrane Legion":MAILTO:cochranelegion15mov@gmail.com
END:VEVENT
BEGIN:VEVENT
DTSTART;TZID=America/Edmonton:20250606T180000
DTEND;TZID=America/Edmonton:20250606T200000
DTSTAMP:20260420T100928
CREATED:20250408T004611Z
LAST-MODIFIED:20250408T004611Z
UID:10046196-1749232800-1749240000@urbancasual.ca
SUMMARY:Teen Night Takeover
DESCRIPTION:Calling Grades 9 – 12 teens! Looking for a fun way to kick back and hang out? Join us for Teen Night Takeover! Bring your friends\, meet new ones\, and enjoy games and snacks! Whether you love gaming or just chilling with good company\, we’ve got something for everyone. \nDon’t miss out—see you there! \nPizza made possible by the generosity of Panago.
URL:https://urbancasual.ca/cochrane-event/teen-night-takeover-3/2025-06-06/
LOCATION:Cochrane Public Library\, 405 Railway Street W\, Cochrane\, Alberta
CATEGORIES:Community,Library,Parents & Caregivers,Youth
ATTACH;FMTTYPE=image/jpeg:https://urbancasual.ca/wp-content/uploads/2025/04/Teen-Night-Takeover-Spring-2025-11-x-8.5-in.jpg
END:VEVENT
BEGIN:VEVENT
DTSTART;TZID=America/Edmonton:20250606T200000
DTEND;TZID=America/Edmonton:20250606T230000
DTSTAMP:20260420T100928
CREATED:20250526T194557Z
LAST-MODIFIED:20250526T194557Z
UID:10048257-1749240000-1749250800@urbancasual.ca
SUMMARY:Movie Premiere - An Impossible Endeavour
DESCRIPTION:Tickets are $10 at the door – registration requested. Learn more HERE \nDrinks\, interviews\, movies\, and Q&As. Tickets will be $10 at the door. The dress code is formal.\nThe doors at open at 8pm\, showing at 9pm. \nRegister  HERE
URL:https://urbancasual.ca/cochrane-event/movie-premiere-an-impossible-endeavour/
LOCATION:Found Book Shop\, 206 1st Street W\, Cochrane\, AB
CATEGORIES:Business,Community,Downtown,Entertainment & Games,Movie,Premiere,Pub/Bar Event
ATTACH;FMTTYPE=image/png:https://urbancasual.ca/wp-content/uploads/2025/05/An_Impossible_Endeavor_Movie_Premiere.png
END:VEVENT
BEGIN:VEVENT
DTSTART;TZID=America/Edmonton:20250606T220000
DTEND;TZID=America/Edmonton:20250606T233000
DTSTAMP:20260420T100928
CREATED:20240917T161425Z
LAST-MODIFIED:20240917T161426Z
UID:10030902-1749247200-1749252600@urbancasual.ca
SUMMARY:The Rockyview Hotel - All Request DJ
DESCRIPTION:THE ROCKYVIEW HOTEL | EST’D IN 1904 – Celebrating 120 years in Historic Downtown. \n+ Dance the night away at the @texasgate.cochrane ! \n+ Tuesdays – learn to line dance\, 7pm\n+ Thursdays – karaoke\, 8pm\n+ Fridays / Saturdays – all request DJ\, 10pm +\n+ Sundays – All day free pool! \nTo book your stay & for more info: rockyviewhotel.ca \n  \n  \n  \n\n\n  \n\n\n\n\n\n\n\n\n\n\nView this post on Instagram\n\n\n\n\n\n\n\n\n\n\n\n\n\n\n\n\n\n\n\n\n\n\n  \nA post shared by Urban Casual Cochrane (@urbancasual.ca)
URL:https://urbancasual.ca/cochrane-event/the-rockyview-hotel-all-request-dj-2/2025-06-06/
LOCATION:Rockyview Hotel
CATEGORIES:Business,Downtown,Entertainment & Games,Pub/Bar Event,Restaurant
ATTACH;FMTTYPE=image/jpeg:https://urbancasual.ca/wp-content/uploads/2024/06/305308494_488593543275767_6866078460144404837_n.jpg
END:VEVENT
END:VCALENDAR