BEGIN:VCALENDAR
VERSION:2.0
PRODID:-//Urbancasual.ca - ECPv6.15.20//NONSGML v1.0//EN
CALSCALE:GREGORIAN
METHOD:PUBLISH
X-ORIGINAL-URL:https://urbancasual.ca
X-WR-CALDESC:Events for Urbancasual.ca
REFRESH-INTERVAL;VALUE=DURATION:PT1H
X-Robots-Tag:noindex
X-PUBLISHED-TTL:PT1H
BEGIN:VTIMEZONE
TZID:America/Edmonton
BEGIN:DAYLIGHT
TZOFFSETFROM:-0700
TZOFFSETTO:-0600
TZNAME:MDT
DTSTART:20240310T090000
END:DAYLIGHT
BEGIN:STANDARD
TZOFFSETFROM:-0600
TZOFFSETTO:-0700
TZNAME:MST
DTSTART:20241103T080000
END:STANDARD
BEGIN:DAYLIGHT
TZOFFSETFROM:-0700
TZOFFSETTO:-0600
TZNAME:MDT
DTSTART:20250309T090000
END:DAYLIGHT
BEGIN:STANDARD
TZOFFSETFROM:-0600
TZOFFSETTO:-0700
TZNAME:MST
DTSTART:20251102T080000
END:STANDARD
BEGIN:DAYLIGHT
TZOFFSETFROM:-0700
TZOFFSETTO:-0600
TZNAME:MDT
DTSTART:20260308T090000
END:DAYLIGHT
BEGIN:STANDARD
TZOFFSETFROM:-0600
TZOFFSETTO:-0700
TZNAME:MST
DTSTART:20261101T080000
END:STANDARD
END:VTIMEZONE
BEGIN:VEVENT
DTSTART;VALUE=DATE:20250530
DTEND;VALUE=DATE:20250601
DTSTAMP:20260424T051433
CREATED:20250426T151954Z
LAST-MODIFIED:20250527T001813Z
UID:10047425-1748574000-1748660399@urbancasual.ca
SUMMARY:Seniors on the Bow - May
DESCRIPTION:THINGS TO NOTE: \n  \nMAY 5 – HEALING ART WITH RITA \nMAY 9 – AHPCA SESSION \nMAY 9 – GAME NIGHT: WHIST \nMAY 10 – SPRING FASHION SHOW \nMAY 13 – COFFEE WITH THE MAYOR \nMAY 16 – HOT LUNCH \nMAY 19 – CLOSED FOR VICTORIA DAY \nMAY 23 – GAME NIGHT: CANASTA \nMAY 31 – SENIOR RESOURCE FAIR
URL:https://urbancasual.ca/cochrane-event/seniors-on-the-bow-may/2025-05-30/
LOCATION:Seniors on the Bow\, 800 Griffin Road E.\, Cochrane\, AB\, Canada
CATEGORIES:Club,Community,Entertainment & Games,Seniors
ATTACH;FMTTYPE=image/jpeg:https://urbancasual.ca/wp-content/uploads/2025/04/491960388_996650949319652_8371075063134911070_n-e1745680671577.jpg
END:VEVENT
BEGIN:VEVENT
DTSTART;VALUE=DATE:20250530
DTEND;VALUE=DATE:20250601
DTSTAMP:20260424T051433
CREATED:20250507T163707Z
LAST-MODIFIED:20250507T163707Z
UID:10047996-1748574000-1748660399@urbancasual.ca
SUMMARY:Village of Play May Schedule
DESCRIPTION:Discover May’s vibrant lineup at Village of Play! From Brain Builders for kids (ages 6-11) to movement & mindfulness classes for teens\, adults\, parents\, babies\, and kids\, we’ve got something for everyone. Join us for play\, growth\, and connection—your family’s go-to spot for fun and enrichment in Cochrane!”
URL:https://urbancasual.ca/cochrane-event/village-of-play-may-schedule/2025-05-30/
LOCATION:AB
CATEGORIES:Community,Family Friendly,Health & Wellness,Homeschool,Parents & Caregivers,School,Town of Cochrane,Yoga,Youth
ATTACH;FMTTYPE=image/png:https://urbancasual.ca/wp-content/uploads/2025/05/Monthly-Calendar-2.png
ORGANIZER;CN="Village of Play":MAILTO:hello@villageofplay.com
END:VEVENT
BEGIN:VEVENT
DTSTART;TZID=America/Edmonton:20250530T100000
DTEND;TZID=America/Edmonton:20250530T110000
DTSTAMP:20260424T051433
CREATED:20250109T175736Z
LAST-MODIFIED:20250226T200327Z
UID:10045257-1748599200-1748602800@urbancasual.ca
SUMMARY:Parent & Tot Sing-Alongs
DESCRIPTION:Welcome to Cochrane’s Parent & Tot Sing-Along Sessions! \nJoin us for a fun and interactive music experience with your little ones. Sing along to popular children’s songs and nursery rhymes in a welcoming and inclusive environment. \nSTARTING DATE Friday January 3\, 2025 \nTime: Doors at 10:00 AM music starts at 10:15am \nLocation: Frank Wills Community Hall \nCoffee\, tea and cookies provided. \nBring your singing voices and get ready to bond with your child through music. No experience necessary\, just come ready to have a great time! \nFloor seating so bring a blanket\, yoga mat or cushion if you’d like. \n*Price is for parent & tot with no more than 2 parents per caregiver. $7/each drop-in or $20 for 4 consecutive drop ins (billed once at the beginning of the month)
URL:https://urbancasual.ca/cochrane-event/parent-tot-sing-alongs/2025-05-30/
LOCATION:Frank Wills Memorial Hall\, 405 1st Street E\, Cochrane\, Alberta
CATEGORIES:Community,Entertainment & Games,Learning,Music,Parents & Caregivers
ATTACH;FMTTYPE=image/jpeg:https://urbancasual.ca/wp-content/uploads/2025/01/472320182_8970766342958715_3666774441074322581_n.jpg
END:VEVENT
BEGIN:VEVENT
DTSTART;TZID=America/Edmonton:20250530T103000
DTEND;TZID=America/Edmonton:20250530T120000
DTSTAMP:20260424T051433
CREATED:20240325T011124Z
LAST-MODIFIED:20240619T170316Z
UID:10025441-1748601000-1748606400@urbancasual.ca
SUMMARY:Little Sprouts at Growing Roots
DESCRIPTION:Get outside with your 18–36 month olds in this parented outdoor program at the Cochrane Ranch. This Forest School program provides a fantastic opportunity for kids to explore\, play outside with other kids and make new friends. It’s for kids who are ready to dip their toes into the larger world but are not ready to be on their own just yet. Let’s help our littles embrace their curiosity and take on the world with confidence! \nWhen: Friday mornings\, 10:30-12\nWhere: Historic Cochrane Ranche\nWho: 18-36 months olds and their families – siblings welcome!\nCost: First class free! Then $15/class. Register for only the class(es) you wish to attend \nMore details at GrowingRootsKids.ca
URL:https://urbancasual.ca/cochrane-event/little-sprouts-at-growing-roots/2025-05-30/
LOCATION:AB
CATEGORIES:Family Friendly,Parents & Caregivers
ATTACH;FMTTYPE=image/jpeg:https://urbancasual.ca/wp-content/uploads/2024/03/IMG_5731-scaled.jpg
ORGANIZER;CN="Growing Roots Forest Play":MAILTO:info@growingrootskids.ca
END:VEVENT
BEGIN:VEVENT
DTSTART;TZID=America/Edmonton:20250530T120000
DTEND;TZID=America/Edmonton:20250530T160000
DTSTAMP:20260424T051433
CREATED:20250529T163927Z
LAST-MODIFIED:20250529T163927Z
UID:10048399-1748606400-1748620800@urbancasual.ca
SUMMARY:Cochrane Historical Museum
DESCRIPTION:Visit the Cochrane Historical Museum Wednesday through Sunday (plus stat Mondays) until September 1st\, 12pm to 4pm. \nLearn more: https://urbancasual.ca/history-live-here-cochrane-historical-museum-opens-at-the-ranche-may-17th/
URL:https://urbancasual.ca/cochrane-event/cochrane-historical-museum/2025-05-30/
LOCATION:Cochrane Ranche\, Hwy 1A\, Cochrane\, Alberta
CATEGORIES:Community,Culture,Entertainment & Games,Family Friendly,Free,Learning,Newcomers,Parents & Caregivers
ATTACH;FMTTYPE=image/jpeg:https://urbancasual.ca/wp-content/uploads/2025/05/497640714_10162442038179061_4194824443753130805_n-e1747167844472.jpg
END:VEVENT
BEGIN:VEVENT
DTSTART;TZID=America/Edmonton:20250530T163000
DTEND;TZID=America/Edmonton:20250530T190000
DTSTAMP:20260424T051433
CREATED:20250331T223345Z
LAST-MODIFIED:20250331T223345Z
UID:10046115-1748622600-1748631600@urbancasual.ca
SUMMARY:Friday Night BBQ (Family Friendly) at the Legion
DESCRIPTION:Steak\, burger and hot dogs are on the menu Friday nights. All items come with potato\, salad\, beans and garlic toast. \nCheck our Facebook page for updates.\nFamily Friendly\nNo membership required\nWe hope you can join us
URL:https://urbancasual.ca/cochrane-event/friday-night-bbq-family-friendly-at-the-legion/2025-05-30/
LOCATION:Cochrane Legion\, 114 5th Ave\, Cochrane\, Alberta\, T4C 1A5\, Canada
CATEGORIES:Community,Food,Legion
ATTACH;FMTTYPE=image/png:https://urbancasual.ca/wp-content/uploads/2025/03/Legion-Posters-20250-6.png
ORGANIZER;CN="Cochrane Legion":MAILTO:cochranelegion15mov@gmail.com
END:VEVENT
BEGIN:VEVENT
DTSTART;TZID=America/Edmonton:20250530T183000
DTEND;TZID=America/Edmonton:20250530T200000
DTSTAMP:20260424T051433
CREATED:20250327T165907Z
LAST-MODIFIED:20250327T191608Z
UID:10045454-1748629800-1748635200@urbancasual.ca
SUMMARY:Friday Night Trivia (Family Friendly)
DESCRIPTION:Join us Friday night for our weekly BBQ and stay for Trivia \nEveryone welcome\nNo membership required
URL:https://urbancasual.ca/cochrane-event/friday-night-trivia-family-friendly/2025-05-30/
LOCATION:Cochrane Legion\, 114 5th Ave\, Cochrane\, Alberta\, T4C 1A5\, Canada
CATEGORIES:Community,Entertainment & Games,Family Friendly,Legion,Music
ATTACH;FMTTYPE=image/png:https://urbancasual.ca/wp-content/uploads/2025/03/trivia-land.png
ORGANIZER;CN="Cochrane Legion":MAILTO:cochranelegion15mov@gmail.com
END:VEVENT
BEGIN:VEVENT
DTSTART;TZID=America/Edmonton:20250530T193000
DTEND;TZID=America/Edmonton:20250530T213000
DTSTAMP:20260424T051433
CREATED:20250331T174640Z
LAST-MODIFIED:20250331T174640Z
UID:10046106-1748633400-1748640600@urbancasual.ca
SUMMARY:Covenhoven AT FOUND
DESCRIPTION:Join us for an intimate evening of music with Covenhoven\n� Friday\, May 30th | � 7:30 PM (Doors 7 PM) � Found Books & Shop Join us for an intimate evening with Covenhoven\, the acclaimed indie artist known for his rich harmonies\, reedy baritone\, and layered acoustic sound. With four albums and collaborations with artists like Gregory Alan Isakov and Sean Carey (Bon Iver)\, his music blends folk and chamber pop with orchestral peaks. His latest album\, *The Color of the Dark* (out April 11)\, features collaborations with top producers and musicians. Regularly touring the U.S.\, Covenhoven has shared the stage with Jose Gonzalez\, John Paul White (Civil Wars)\, Lord Huron\, and more. His music has been streamed over 7 million times and featured on shows like 13 Reasons Why\, Nashville\, and Teen Wolf. � **Tickets:** Adult $25 | Student $15 (+ taxes/fees) �**Bonus:** Show your ticket at Fence & Post for 10% off on show night! (reservations recommended!) �� Sip\, browse\, and enjoy an unforgettable night of music at Found Books & Shop!
URL:https://urbancasual.ca/cochrane-event/covenhoven-at-found/
LOCATION:Found Book Shop\, 206 1st Street W\, Cochrane\, AB
CATEGORIES:Concert,Music
ATTACH;FMTTYPE=image/jpeg:https://urbancasual.ca/wp-content/uploads/2025/03/481235273_1197543292373156_6946418266810378034_n.jpg
END:VEVENT
BEGIN:VEVENT
DTSTART;TZID=America/Edmonton:20250530T210000
DTEND;TZID=America/Edmonton:20250530T233000
DTSTAMP:20260424T051433
CREATED:20250531T155528Z
LAST-MODIFIED:20250531T155528Z
UID:10048514-1748638800-1748647800@urbancasual.ca
SUMMARY:Live Music At The Venue
DESCRIPTION:9pm til late!
URL:https://urbancasual.ca/cochrane-event/live-music-at-the-venue-14/2025-05-30/
LOCATION:AB
CATEGORIES:Downtown,Entertainment & Games,Music,Pub/Bar Event,Restaurant
ATTACH;FMTTYPE=image/jpeg:https://urbancasual.ca/wp-content/uploads/2025/05/inbound4769918282484060686.jpg
END:VEVENT
BEGIN:VEVENT
DTSTART;TZID=America/Edmonton:20250530T220000
DTEND;TZID=America/Edmonton:20250530T233000
DTSTAMP:20260424T051433
CREATED:20240917T161425Z
LAST-MODIFIED:20240917T161426Z
UID:10030900-1748642400-1748647800@urbancasual.ca
SUMMARY:The Rockyview Hotel - All Request DJ
DESCRIPTION:THE ROCKYVIEW HOTEL | EST’D IN 1904 – Celebrating 120 years in Historic Downtown. \n+ Dance the night away at the @texasgate.cochrane ! \n+ Tuesdays – learn to line dance\, 7pm\n+ Thursdays – karaoke\, 8pm\n+ Fridays / Saturdays – all request DJ\, 10pm +\n+ Sundays – All day free pool! \nTo book your stay & for more info: rockyviewhotel.ca \n  \n  \n  \n\n\n  \n\n\n\n\n\n\n\n\n\n\nView this post on Instagram\n\n\n\n\n\n\n\n\n\n\n\n\n\n\n\n\n\n\n\n\n\n\n  \nA post shared by Urban Casual Cochrane (@urbancasual.ca)
URL:https://urbancasual.ca/cochrane-event/the-rockyview-hotel-all-request-dj-2/2025-05-30/
LOCATION:Rockyview Hotel
CATEGORIES:Business,Downtown,Entertainment & Games,Pub/Bar Event,Restaurant
ATTACH;FMTTYPE=image/jpeg:https://urbancasual.ca/wp-content/uploads/2024/06/305308494_488593543275767_6866078460144404837_n.jpg
END:VEVENT
END:VCALENDAR