BEGIN:VCALENDAR
VERSION:2.0
PRODID:-//Urbancasual.ca - ECPv6.15.20//NONSGML v1.0//EN
CALSCALE:GREGORIAN
METHOD:PUBLISH
X-ORIGINAL-URL:https://urbancasual.ca
X-WR-CALDESC:Events for Urbancasual.ca
REFRESH-INTERVAL;VALUE=DURATION:PT1H
X-Robots-Tag:noindex
X-PUBLISHED-TTL:PT1H
BEGIN:VTIMEZONE
TZID:America/Edmonton
BEGIN:DAYLIGHT
TZOFFSETFROM:-0700
TZOFFSETTO:-0600
TZNAME:MDT
DTSTART:20240310T090000
END:DAYLIGHT
BEGIN:STANDARD
TZOFFSETFROM:-0600
TZOFFSETTO:-0700
TZNAME:MST
DTSTART:20241103T080000
END:STANDARD
BEGIN:DAYLIGHT
TZOFFSETFROM:-0700
TZOFFSETTO:-0600
TZNAME:MDT
DTSTART:20250309T090000
END:DAYLIGHT
BEGIN:STANDARD
TZOFFSETFROM:-0600
TZOFFSETTO:-0700
TZNAME:MST
DTSTART:20251102T080000
END:STANDARD
BEGIN:DAYLIGHT
TZOFFSETFROM:-0700
TZOFFSETTO:-0600
TZNAME:MDT
DTSTART:20260308T090000
END:DAYLIGHT
BEGIN:STANDARD
TZOFFSETFROM:-0600
TZOFFSETTO:-0700
TZNAME:MST
DTSTART:20261101T080000
END:STANDARD
END:VTIMEZONE
BEGIN:VEVENT
DTSTART;VALUE=DATE:20250520
DTEND;VALUE=DATE:20250526
DTSTAMP:20260424T161235
CREATED:20250512T224030Z
LAST-MODIFIED:20250512T224030Z
UID:10048069-1747710000-1748141999@urbancasual.ca
SUMMARY:Art in the Park: May 20 to 24\, 2025 *Artist Info*
DESCRIPTION:Dates: \n\nMay 20th – 24th\, 2025\n\n  \nArtist Registration \nTime: \n\nPlein Air Paint-Out: May 20th-24th @ Glenbow Ranch Provincial Park from sunrise to sunset!\nWet Paint Sale & Soirée: Saturday May 24th\, 4-8pm\, @ Route 22 Gallery in Downtown Cochrane\n\nLocation: \n\nRoute 22 Gallery for artist sign-in and support stamping during gallery hours (May 20th-24th)\nContinental breakfast for registered artists at Route 22 Gallery: Saturday May 24th\, 8am-10am!\nGlenbow Ranch Provincial Park for plein air painting: From sunrise to sunset!\n\nCost: \n\nRoute 22 Members – $30 (plus GST)\nNon-Members – $40 (plus GST)\n\nFull and Affiliate Artist Members of Route 22 Artist Collective will receive a 25% discount promo code for Art in the Park in their email. If you have not received your discount promo code\, please email events@route22gallery.com. \nWhat to Expect: \nArtists will have an exciting opportunity to participate in the Come Paint Alberta Plein Air Circuit by registering for this fun\, five-day event organized by the Route 22 Artist Collective! \nFor this upcoming Art in the Park\, we are opening up the week leading up to Saturday May 24th to allow plein air artists more time to paint during the opening hours of the Glenbow Ranch Provincial Park. This will help accommodate busy artists and/or unpredictable weather. Artist will be required to have their canvas supports stamped with the official CPA stamp at the Route 22 Gallery during gallery hours before heading out to plein air paint. \nArtists will receive their swag bag and can enjoy a continental breakfast on the morning of Saturday May 24th at Route 22 Gallery! Artists will then head to the historic Glenbow Ranch Park Foundation (GRPF) to set up for some inspiring plein air painting. GRPF golf carts will be assisting with shuttling artists and their materials around the park. **Artists must register for a time slot online to use the golf cart service; a golf cart sign-up link will be shared with registered artists. ** \nThe GRPF tourist center will be open\, but it is advisable to bring a packed lunch and water bottles as there are no other food services on site. \nParking at Glenbow Ranch Park is limited\, so carpooling with a fellow artist from the Route 22 Gallery parking lot is also highly recommended! \nRegistration for this event includes: \n\nComplimentary tote bag from one of our sponsors\, Cochrane Tourism\n\n\nComplimentary Continental Breakfast on May 24th\, Saturday morning @ Route 22 Gallery (8-10am)\n\n\nEligibility to submit completed plein air artwork to the Wet Paint Sale. Plein air artwork must be finished and ready to hang to be put on display for sale in the Route 22 Gallery from Tuesday\, May 20th\, through to Saturday\, May 24th for our Wet Paint Sale & Soirée event on Saturday\, May 24th (4-8pm) at the Route 22 Gallery\, located in downtown Cochrane!\n\n**Artist will set the price of the completed plein air art piece. Artist commission is 60% on all wet paint art sales\, and remaining proceeds will go towards supporting programs at Route 22 Gallery and Glenbow Ranch Provincial Park ** \n  \n 
URL:https://urbancasual.ca/cochrane-event/art-in-the-park-may-20-to-24-2025-artist-info/
LOCATION:Route 22 Artist Collective Gallery\, 208 1st Street W.\, Cochrane\, Alberta\, Canada
CATEGORIES:Art,Learning,Networking,Parks
ATTACH;FMTTYPE=image/jpeg:https://urbancasual.ca/wp-content/uploads/2025/05/Screenshot_20250507_213826_Instagram-1.jpg
END:VEVENT
BEGIN:VEVENT
DTSTART;VALUE=DATE:20250523
DTEND;VALUE=DATE:20250525
DTSTAMP:20260424T161235
CREATED:20250426T151954Z
LAST-MODIFIED:20250527T001813Z
UID:10047418-1747969200-1748055599@urbancasual.ca
SUMMARY:Seniors on the Bow - May
DESCRIPTION:THINGS TO NOTE: \n  \nMAY 5 – HEALING ART WITH RITA \nMAY 9 – AHPCA SESSION \nMAY 9 – GAME NIGHT: WHIST \nMAY 10 – SPRING FASHION SHOW \nMAY 13 – COFFEE WITH THE MAYOR \nMAY 16 – HOT LUNCH \nMAY 19 – CLOSED FOR VICTORIA DAY \nMAY 23 – GAME NIGHT: CANASTA \nMAY 31 – SENIOR RESOURCE FAIR
URL:https://urbancasual.ca/cochrane-event/seniors-on-the-bow-may/2025-05-23/
LOCATION:Seniors on the Bow\, 800 Griffin Road E.\, Cochrane\, AB\, Canada
CATEGORIES:Club,Community,Entertainment & Games,Seniors
ATTACH;FMTTYPE=image/jpeg:https://urbancasual.ca/wp-content/uploads/2025/04/491960388_996650949319652_8371075063134911070_n-e1745680671577.jpg
END:VEVENT
BEGIN:VEVENT
DTSTART;VALUE=DATE:20250523
DTEND;VALUE=DATE:20250525
DTSTAMP:20260424T161235
CREATED:20250507T163707Z
LAST-MODIFIED:20250507T163707Z
UID:10047989-1747969200-1748055599@urbancasual.ca
SUMMARY:Village of Play May Schedule
DESCRIPTION:Discover May’s vibrant lineup at Village of Play! From Brain Builders for kids (ages 6-11) to movement & mindfulness classes for teens\, adults\, parents\, babies\, and kids\, we’ve got something for everyone. Join us for play\, growth\, and connection—your family’s go-to spot for fun and enrichment in Cochrane!”
URL:https://urbancasual.ca/cochrane-event/village-of-play-may-schedule/2025-05-23/
LOCATION:AB
CATEGORIES:Community,Family Friendly,Health & Wellness,Homeschool,Parents & Caregivers,School,Town of Cochrane,Yoga,Youth
ATTACH;FMTTYPE=image/png:https://urbancasual.ca/wp-content/uploads/2025/05/Monthly-Calendar-2.png
ORGANIZER;CN="Village of Play":MAILTO:hello@villageofplay.com
END:VEVENT
BEGIN:VEVENT
DTSTART;TZID=America/Edmonton:20250523T100000
DTEND;TZID=America/Edmonton:20250523T110000
DTSTAMP:20260424T161235
CREATED:20250109T175736Z
LAST-MODIFIED:20250226T200327Z
UID:10045256-1747994400-1747998000@urbancasual.ca
SUMMARY:Parent & Tot Sing-Alongs
DESCRIPTION:Welcome to Cochrane’s Parent & Tot Sing-Along Sessions! \nJoin us for a fun and interactive music experience with your little ones. Sing along to popular children’s songs and nursery rhymes in a welcoming and inclusive environment. \nSTARTING DATE Friday January 3\, 2025 \nTime: Doors at 10:00 AM music starts at 10:15am \nLocation: Frank Wills Community Hall \nCoffee\, tea and cookies provided. \nBring your singing voices and get ready to bond with your child through music. No experience necessary\, just come ready to have a great time! \nFloor seating so bring a blanket\, yoga mat or cushion if you’d like. \n*Price is for parent & tot with no more than 2 parents per caregiver. $7/each drop-in or $20 for 4 consecutive drop ins (billed once at the beginning of the month)
URL:https://urbancasual.ca/cochrane-event/parent-tot-sing-alongs/2025-05-23/
LOCATION:Frank Wills Memorial Hall\, 405 1st Street E\, Cochrane\, Alberta
CATEGORIES:Community,Entertainment & Games,Learning,Music,Parents & Caregivers
ATTACH;FMTTYPE=image/jpeg:https://urbancasual.ca/wp-content/uploads/2025/01/472320182_8970766342958715_3666774441074322581_n.jpg
END:VEVENT
BEGIN:VEVENT
DTSTART;TZID=America/Edmonton:20250523T100000
DTEND;TZID=America/Edmonton:20250523T120000
DTSTAMP:20260424T161235
CREATED:20250512T224320Z
LAST-MODIFIED:20250512T224320Z
UID:10048070-1747994400-1748001600@urbancasual.ca
SUMMARY:Plein Air Oil Painting Demo with Marike MacDonald
DESCRIPTION:What IS Plein Air Painting? \nEn plein air is a French expression meaning “in the open air”\, and refers to the act of painting outdoors with the artist’s subject in full view. Plein air artists capture the spirit and essence of a landscape or subject by incorporating natural light\, color and movement into their works. \nDate: May 23rd\, 2025 \nLocation: Glenbow Ranch Provincial Park | Participants should meet at the parking lot at the main gate. \nTime: 10:00 AM – 12:00 PM \nCost: FREE DEMO \nAudience: Ages 15+ \nAttire: Dress for being outside. \nNOTE: This workshop is subject to inclement weather. \nCOURSE DESCRIPTION \nMarike will work up a painting from start to finish (hopefully) using oil paint from the scene in front of her while explaining her process and answering questions. \nABOUT THE ARTIST \nborn and raised in South Western Ontario. Her early years involved the discovery of meadows\, woodlands\, farm and animal life. She showed an early propensity for drawing and longed to paint. Family resources would not allow it. After graduating from high school\, she enrolled in a Fine Arts Program at Humber College where she discovered Canadian art and the Group of Seven in addition to receiving instruction in life drawing\, painting (finally!)\, sculpture\, and printmaking. Since art school\, her artist training has been augmented by courses by various art professionals. \nMarike seeks to create works of art to share and stimulate others to an awareness of the preciousness and beauty within our world. Underscoring this yearning is her faith in God and the knowledge that whatever she creates is but the dimmest reflection of the natural world. \nFor thirty years\, Marike resided in Muskoka and was particularly inspired by the beauty of the lakes and forests of central and northern Ontario; the very landscape that had inspired the Group of Seven and countless other artists. Currently\, living in south western Alberta\, her current inspirations are the big sky and the grandness of the nearby mountains. She loves painting en plein air. She creates out of her home studio in Cochrane and she paints using oils or acrylic paints. Her work was been featured in the July 2019 issue of the Muskoka Life magazine\, and in the October 2020 issue of Arabella. Marike is represented by the Eclipse Gallery in Huntsville\, Ontario and in the Route 22 Collective Gallery in Cochrane\, Alberta.
URL:https://urbancasual.ca/cochrane-event/plein-air-oil-painting-demo-with-marike-macdonald/
LOCATION:Glenbow Ranch Provincial Park
CATEGORIES:Art,Crafts,Learning,Parks,Workshop
ATTACH;FMTTYPE=image/avif:https://urbancasual.ca/wp-content/uploads/2025/05/https___cdn.evbuc_.com_images_1027388643_2708530037861_1_original.avif
END:VEVENT
BEGIN:VEVENT
DTSTART;TZID=America/Edmonton:20250523T103000
DTEND;TZID=America/Edmonton:20250523T120000
DTSTAMP:20260424T161235
CREATED:20240325T011124Z
LAST-MODIFIED:20240619T170316Z
UID:10025440-1747996200-1748001600@urbancasual.ca
SUMMARY:Little Sprouts at Growing Roots
DESCRIPTION:Get outside with your 18–36 month olds in this parented outdoor program at the Cochrane Ranch. This Forest School program provides a fantastic opportunity for kids to explore\, play outside with other kids and make new friends. It’s for kids who are ready to dip their toes into the larger world but are not ready to be on their own just yet. Let’s help our littles embrace their curiosity and take on the world with confidence! \nWhen: Friday mornings\, 10:30-12\nWhere: Historic Cochrane Ranche\nWho: 18-36 months olds and their families – siblings welcome!\nCost: First class free! Then $15/class. Register for only the class(es) you wish to attend \nMore details at GrowingRootsKids.ca
URL:https://urbancasual.ca/cochrane-event/little-sprouts-at-growing-roots/2025-05-23/
LOCATION:AB
CATEGORIES:Family Friendly,Parents & Caregivers
ATTACH;FMTTYPE=image/jpeg:https://urbancasual.ca/wp-content/uploads/2024/03/IMG_5731-scaled.jpg
ORGANIZER;CN="Growing Roots Forest Play":MAILTO:info@growingrootskids.ca
END:VEVENT
BEGIN:VEVENT
DTSTART;TZID=America/Edmonton:20250523T120000
DTEND;TZID=America/Edmonton:20250523T160000
DTSTAMP:20260424T161236
CREATED:20250529T163927Z
LAST-MODIFIED:20250529T163927Z
UID:10048394-1748001600-1748016000@urbancasual.ca
SUMMARY:Cochrane Historical Museum
DESCRIPTION:Visit the Cochrane Historical Museum Wednesday through Sunday (plus stat Mondays) until September 1st\, 12pm to 4pm. \nLearn more: https://urbancasual.ca/history-live-here-cochrane-historical-museum-opens-at-the-ranche-may-17th/
URL:https://urbancasual.ca/cochrane-event/cochrane-historical-museum/2025-05-23/
LOCATION:Cochrane Ranche\, Hwy 1A\, Cochrane\, Alberta
CATEGORIES:Community,Culture,Entertainment & Games,Family Friendly,Free,Learning,Newcomers,Parents & Caregivers
ATTACH;FMTTYPE=image/jpeg:https://urbancasual.ca/wp-content/uploads/2025/05/497640714_10162442038179061_4194824443753130805_n-e1747167844472.jpg
END:VEVENT
BEGIN:VEVENT
DTSTART;TZID=America/Edmonton:20250523T130000
DTEND;TZID=America/Edmonton:20250523T150000
DTSTAMP:20260424T161236
CREATED:20250512T224457Z
LAST-MODIFIED:20250512T224457Z
UID:10048071-1748005200-1748012400@urbancasual.ca
SUMMARY:Liquitex Demonstration with Artist A.S. Helwig
DESCRIPTION:Join Liquitex Artist Alice Helwig as she demonstrates how to use Liquitex Heavy Body and Liquitex Mediums to paint Plein Air.
URL:https://urbancasual.ca/cochrane-event/liquitex-demonstration-with-artist-a-s-helwig/
LOCATION:Route 22 Artist Collective Gallery\, 208 1st Street W.\, Cochrane\, Alberta\, Canada
CATEGORIES:Art,Community,Crafts,Free,Learning
ATTACH;FMTTYPE=image/jpeg:https://urbancasual.ca/wp-content/uploads/2025/05/Screenshot_20250507_213923_Instagram-1.jpg
END:VEVENT
BEGIN:VEVENT
DTSTART;TZID=America/Edmonton:20250523T133000
DTEND;TZID=America/Edmonton:20250523T153000
DTSTAMP:20260424T161236
CREATED:20250512T224816Z
LAST-MODIFIED:20250512T224816Z
UID:10048072-1748007000-1748014200@urbancasual.ca
SUMMARY:Plein Air Oil Painting Demo with Marike MacDonald
DESCRIPTION:What IS Plein Air Painting? \nEn plein air is a French expression meaning “in the open air”\, and refers to the act of painting outdoors with the artist’s subject in full view. Plein air artists capture the spirit and essence of a landscape or subject by incorporating natural light\, color and movement into their works. \nDate: May 23rd\, 2025 \nLocation: Glenbow Ranch Provincial Park | Participants should meet at the parking lot at the main gate. \nTime: 1:30PM TO 3:30PM – MEET AT 1:15PM \nCost: $25 \nAudience: Ages 15+ \nAttire: Dress for being outside. \nNOTE: This workshop is subject to inclement weather. \nCOURSE DESCRIPTION \nMarike will work up a painting from start to finish (hopefully) using oil paint from the scene in front of her while explaining her process and answering questions. \nABOUT THE ARTIST \nborn and raised in South Western Ontario. Her early years involved the discovery of meadows\, woodlands\, farm and animal life. She showed an early propensity for drawing and longed to paint. Family resources would not allow it. After graduating from high school\, she enrolled in a Fine Arts Program at Humber College where she discovered Canadian art and the Group of Seven in addition to receiving instruction in life drawing\, painting (finally!)\, sculpture\, and printmaking. Since art school\, her artist training has been augmented by courses by various art professionals. \nMarike seeks to create works of art to share and stimulate others to an awareness of the preciousness and beauty within our world. Underscoring this yearning is her faith in God and the knowledge that whatever she creates is but the dimmest reflection of the natural world. \nFor thirty years\, Marike resided in Muskoka and was particularly inspired by the beauty of the lakes and forests of central and northern Ontario; the very landscape that had inspired the Group of Seven and countless other artists. Currently\, living in south western Alberta\, her current inspirations are the big sky and the grandness of the nearby mountains. She loves painting en plein air. She creates out of her home studio in Cochrane and she paints using oils or acrylic paints. Her work was been featured in the July 2019 issue of the Muskoka Life magazine\, and in the October 2020 issue of Arabella. Marike is represented by the Eclipse Gallery in Huntsville\, Ontario and in the Route 22 Collective Gallery in Cochrane\, Alberta.
URL:https://urbancasual.ca/cochrane-event/plein-air-oil-painting-demo-with-marike-macdonald-may-23-2025-pm/
LOCATION:Glenbow Ranch Provincial Park
CATEGORIES:Art,Crafts,Learning,Parks,Workshop
ATTACH;FMTTYPE=image/avif:https://urbancasual.ca/wp-content/uploads/2025/05/https___cdn.evbuc_.com_images_1027402043_2708530037861_1_original.avif
END:VEVENT
BEGIN:VEVENT
DTSTART;TZID=America/Edmonton:20250523T163000
DTEND;TZID=America/Edmonton:20250523T190000
DTSTAMP:20260424T161236
CREATED:20250331T223345Z
LAST-MODIFIED:20250331T223345Z
UID:10046114-1748017800-1748026800@urbancasual.ca
SUMMARY:Friday Night BBQ (Family Friendly) at the Legion
DESCRIPTION:Steak\, burger and hot dogs are on the menu Friday nights. All items come with potato\, salad\, beans and garlic toast. \nCheck our Facebook page for updates.\nFamily Friendly\nNo membership required\nWe hope you can join us
URL:https://urbancasual.ca/cochrane-event/friday-night-bbq-family-friendly-at-the-legion/2025-05-23/
LOCATION:Cochrane Legion\, 114 5th Ave\, Cochrane\, Alberta\, T4C 1A5\, Canada
CATEGORIES:Community,Food,Legion
ATTACH;FMTTYPE=image/png:https://urbancasual.ca/wp-content/uploads/2025/03/Legion-Posters-20250-6.png
ORGANIZER;CN="Cochrane Legion":MAILTO:cochranelegion15mov@gmail.com
END:VEVENT
BEGIN:VEVENT
DTSTART;TZID=America/Edmonton:20250523T180000
DTEND;TZID=America/Edmonton:20250523T200000
DTSTAMP:20260424T161236
CREATED:20250408T004611Z
LAST-MODIFIED:20250408T004611Z
UID:10046195-1748023200-1748030400@urbancasual.ca
SUMMARY:Teen Night Takeover
DESCRIPTION:Calling Grades 9 – 12 teens! Looking for a fun way to kick back and hang out? Join us for Teen Night Takeover! Bring your friends\, meet new ones\, and enjoy games and snacks! Whether you love gaming or just chilling with good company\, we’ve got something for everyone. \nDon’t miss out—see you there! \nPizza made possible by the generosity of Panago.
URL:https://urbancasual.ca/cochrane-event/teen-night-takeover-3/2025-05-23/
LOCATION:Cochrane Public Library\, 405 Railway Street W\, Cochrane\, Alberta
CATEGORIES:Community,Library,Parents & Caregivers,Youth
ATTACH;FMTTYPE=image/jpeg:https://urbancasual.ca/wp-content/uploads/2025/04/Teen-Night-Takeover-Spring-2025-11-x-8.5-in.jpg
END:VEVENT
BEGIN:VEVENT
DTSTART;TZID=America/Edmonton:20250523T220000
DTEND;TZID=America/Edmonton:20250523T233000
DTSTAMP:20260424T161236
CREATED:20240917T161425Z
LAST-MODIFIED:20240917T161426Z
UID:10030898-1748037600-1748043000@urbancasual.ca
SUMMARY:The Rockyview Hotel - All Request DJ
DESCRIPTION:THE ROCKYVIEW HOTEL | EST’D IN 1904 – Celebrating 120 years in Historic Downtown. \n+ Dance the night away at the @texasgate.cochrane ! \n+ Tuesdays – learn to line dance\, 7pm\n+ Thursdays – karaoke\, 8pm\n+ Fridays / Saturdays – all request DJ\, 10pm +\n+ Sundays – All day free pool! \nTo book your stay & for more info: rockyviewhotel.ca \n  \n  \n  \n\n\n  \n\n\n\n\n\n\n\n\n\n\nView this post on Instagram\n\n\n\n\n\n\n\n\n\n\n\n\n\n\n\n\n\n\n\n\n\n\n  \nA post shared by Urban Casual Cochrane (@urbancasual.ca)
URL:https://urbancasual.ca/cochrane-event/the-rockyview-hotel-all-request-dj-2/2025-05-23/
LOCATION:Rockyview Hotel
CATEGORIES:Business,Downtown,Entertainment & Games,Pub/Bar Event,Restaurant
ATTACH;FMTTYPE=image/jpeg:https://urbancasual.ca/wp-content/uploads/2024/06/305308494_488593543275767_6866078460144404837_n.jpg
END:VEVENT
END:VCALENDAR