BEGIN:VCALENDAR
VERSION:2.0
PRODID:-//Urbancasual.ca - ECPv6.15.20//NONSGML v1.0//EN
CALSCALE:GREGORIAN
METHOD:PUBLISH
X-ORIGINAL-URL:https://urbancasual.ca
X-WR-CALDESC:Events for Urbancasual.ca
REFRESH-INTERVAL;VALUE=DURATION:PT1H
X-Robots-Tag:noindex
X-PUBLISHED-TTL:PT1H
BEGIN:VTIMEZONE
TZID:America/Edmonton
BEGIN:DAYLIGHT
TZOFFSETFROM:-0700
TZOFFSETTO:-0600
TZNAME:MDT
DTSTART:20240310T090000
END:DAYLIGHT
BEGIN:STANDARD
TZOFFSETFROM:-0600
TZOFFSETTO:-0700
TZNAME:MST
DTSTART:20241103T080000
END:STANDARD
BEGIN:DAYLIGHT
TZOFFSETFROM:-0700
TZOFFSETTO:-0600
TZNAME:MDT
DTSTART:20250309T090000
END:DAYLIGHT
BEGIN:STANDARD
TZOFFSETFROM:-0600
TZOFFSETTO:-0700
TZNAME:MST
DTSTART:20251102T080000
END:STANDARD
BEGIN:DAYLIGHT
TZOFFSETFROM:-0700
TZOFFSETTO:-0600
TZNAME:MDT
DTSTART:20260308T090000
END:DAYLIGHT
BEGIN:STANDARD
TZOFFSETFROM:-0600
TZOFFSETTO:-0700
TZNAME:MST
DTSTART:20261101T080000
END:STANDARD
END:VTIMEZONE
BEGIN:VEVENT
DTSTART;VALUE=DATE:20250401
DTEND;VALUE=DATE:20250501
DTSTAMP:20260421T193415
CREATED:20250327T171148Z
LAST-MODIFIED:20250424T160802Z
UID:10045458-1743494400-1746028800@urbancasual.ca
SUMMARY:Seniors on the Bow - April Calendar
DESCRIPTION:Here is the Calendar of Events for Seniors on the Bow for April 2025. \nWe have our AGM happening on Tuesday April 8th\, Game Nights happening on April 11th and 25th\, and our always popular Hot Lunch on Friday\, April 25th. \nDrop on by to find out everything that SOTB has to offer.
URL:https://urbancasual.ca/cochrane-event/seniors-on-the-bow-april-calendar/2025-04-01/
LOCATION:Seniors on the Bow\, 800 Griffin Road E.\, Cochrane\, AB\, Canada
CATEGORIES:Entertainment & Games,Fashion Show,Seniors
ATTACH;FMTTYPE=image/jpeg:https://urbancasual.ca/wp-content/uploads/2025/03/April-2025-Google-Docs_1.jpg
ORGANIZER;CN="Seniors on the Bow":MAILTO:sotbcentre@gmail.com
END:VEVENT
BEGIN:VEVENT
DTSTART;VALUE=DATE:20250408
DTEND;VALUE=DATE:20250410
DTSTAMP:20260421T193415
CREATED:20250329T190908Z
LAST-MODIFIED:20250423T182718Z
UID:10045643-1744081200-1744167599@urbancasual.ca
SUMMARY:Village of Play April Calendar Classes & Events
DESCRIPTION:🌷🧠 April Adventures Await at Village of Play! 🧠🌷\nWeekdays this April are packed with purpose\, play\, and just the right amount of calm. Join us for a vibrant lineup designed for growing minds and bodies: \n👶 Parent & Tot Play Hour Every Monday & Wednesday at 10am: Build bonds\, meet new friends and spark joy through an open play hour!\n🧘‍♀️ Pause\, Parent\, Breathe Yoga Class Wednesdays at 7:30pm: End your busy work and parenting day with movement\, mindfulness\, and me-time\n🧘‍♂️ Strong Minds\, Calm Hearts Yoga Class For Kids Wednesdays at 4:45pm: Kids learn to regulate their emotions\, stretch\, breathe\, and boost focus through fun poses\n🎲 Brain Builder Classes For Kids Ages 6-8 and 9-11 Years Old: Where Executive Functioning Skills come to life and practiced through games\, teamwork\, and creativity! \n🌞 PLUS – Spring Break Day Camp is now open for registration!\nFour full days of active\, playful learning for curious kids ages 6–11 April 22-25\, 2025. Spots are limited — grab yours early! \n✨ Play with purpose. Connect with community. Grow through fun. ✨
URL:https://urbancasual.ca/cochrane-event/village-of-play-april-calendar-classes-events/2025-04-08/
LOCATION:128 1st street\, 128 1st. Street East\, Cochrane\, Alberta\, T4C 1X6\, Canada
CATEGORIES:Community,Day Camp,Entertainment & Games,Family Friendly,Fitness,Health & Wellness,Homeschool,Learning,Mental Health Week,School,Summer Camp,Town of Cochrane,Yoga,Youth
ATTACH;FMTTYPE=image/png:https://urbancasual.ca/wp-content/uploads/2025/03/Monthly-Calendar.png
ORGANIZER;CN="Village of Play":MAILTO:hello@villageofplay.com
END:VEVENT
BEGIN:VEVENT
DTSTART;TZID=America/Edmonton:20250408T120000
DTEND;TZID=America/Edmonton:20250408T130000
DTSTAMP:20260421T193415
CREATED:20240912T164420Z
LAST-MODIFIED:20240912T164420Z
UID:10036053-1744113600-1744117200@urbancasual.ca
SUMMARY:St. Andrew's Community Lunch
DESCRIPTION:Our free Community Lunch resumes next week: 12-1pm\, every Tuesday\, starting Sept 17th!Come join us for freshly-homemade soup\, a bun\, and good conversation\, here at St. Andrew’s United Church. 
URL:https://urbancasual.ca/cochrane-event/st-andrews-community-lunch/2025-04-08/
LOCATION:St. Andrew’s United Church\, 128 1st Street E\, Cochrane\, AB
CATEGORIES:Church Events,Community,Family Friendly,Food,Free,Parents & Caregivers,Seniors
ATTACH;FMTTYPE=image/jpeg:https://urbancasual.ca/wp-content/uploads/2024/09/459033461_519244324034266_4506866919483480440_n.jpg
END:VEVENT
BEGIN:VEVENT
DTSTART;TZID=America/Edmonton:20250408T160000
DTEND;TZID=America/Edmonton:20250408T180000
DTSTAMP:20260421T193415
CREATED:20250116T213557Z
LAST-MODIFIED:20250116T214050Z
UID:10043312-1744128000-1744135200@urbancasual.ca
SUMMARY:LEGION: SHUFFLE BOARD
DESCRIPTION:DROP IN TUESDAYS AND THURSDAYS AT 4PM \nDROP IN SATURDAYS AT 2PM \n  \n 
URL:https://urbancasual.ca/cochrane-event/legion-shuffle-board/2025-04-08/
LOCATION:The Legion\, 114 Fifth Ave\, Cochrane\, Canada
CATEGORIES:Adults Only,Community,Entertainment & Games,Networking,Parents & Caregivers,Seniors
ATTACH;FMTTYPE=image/jpeg:https://urbancasual.ca/wp-content/uploads/2025/01/Shuffleboard.jpg
END:VEVENT
BEGIN:VEVENT
DTSTART;TZID=America/Edmonton:20250408T160000
DTEND;TZID=America/Edmonton:20250408T180000
DTSTAMP:20260421T193415
CREATED:20250116T215252Z
LAST-MODIFIED:20250116T215252Z
UID:10043756-1744128000-1744135200@urbancasual.ca
SUMMARY:LEGION: CRIB
DESCRIPTION:DROP IN WEDNESDAYS AT 6PM \n  \n 
URL:https://urbancasual.ca/cochrane-event/legion-crib/2025-04-08/
LOCATION:The Legion\, 114 Fifth Ave\, Cochrane\, Canada
CATEGORIES:Adults Only,Community,Entertainment & Games,Networking,Parents & Caregivers,Seniors
ATTACH;FMTTYPE=image/jpeg:https://urbancasual.ca/wp-content/uploads/2025/01/Crib-1.jpg
END:VEVENT
BEGIN:VEVENT
DTSTART;TZID=America/Edmonton:20250408T190000
DTEND;TZID=America/Edmonton:20250408T210000
DTSTAMP:20260421T193415
CREATED:20240618T152427Z
LAST-MODIFIED:20240619T174110Z
UID:10028758-1744138800-1744146000@urbancasual.ca
SUMMARY:Rockyview Hotel - Learn to line dance
DESCRIPTION:THE ROCKYVIEW HOTEL | EST’D IN 1904 – Celebrating 120 years in Historic Downtown. \n+ Dance the night away at the @texasgate.cochrane ! \n+ Tuesdays – learn to line dance\, 7pm\n+ Thursdays – karaoke\, 8pm\n+ Fridays / Saturdays – all request DJ\, 10pm\n+ Sundays – All day free pool! \nTo book your stay & for more info: rockyviewhotel.ca \n  \n\n\n  \n\n\n\n\n\n\n\n\n\n\nView this post on Instagram\n\n\n\n\n\n\n\n\n\n\n\n\n\n\n\n\n\n\n\n\n\n\n  \nA post shared by Urban Casual Cochrane (@urbancasual.ca)
URL:https://urbancasual.ca/cochrane-event/rockyview-hotel-learn-to-line-dance/2025-04-08/
LOCATION:Rockyview Hotel
CATEGORIES:Business,Downtown,Hotel,Pub/Bar Event,Restaurant
ATTACH;FMTTYPE=image/jpeg:https://urbancasual.ca/wp-content/uploads/2024/06/305308494_488593543275767_6866078460144404837_n.jpg
END:VEVENT
BEGIN:VEVENT
DTSTART;TZID=America/Edmonton:20250408T190000
DTEND;TZID=America/Edmonton:20250408T210000
DTSTAMP:20260421T193415
CREATED:20250205T165014Z
LAST-MODIFIED:20250205T165014Z
UID:10044636-1744138800-1744146000@urbancasual.ca
SUMMARY:Jilly's Smutty Corner Book Club
DESCRIPTION:Jilly’s Smutty Corner Book Club\n\n\n\nTue Feb 11th\, 2025 to Tue Jun 10th\, 2025\n\n\n\n7:00 PM\n\n\n–\n\n\n9:00 PM\n\n\n\n\n\n\n\n\n\n\n\nThe Smutty Romantasy Book Club! Welcome to the Jilly’s Smutty Corner Book Club\, where passion meets magic and every book is filled with steamy romance and thrilling adventures. Dive into enchanting worlds where love knows no bounds and fantasies come alive. Our club is a haven for those who crave spellbinding stories of forbidden love\, powerful sorcery\, and heart-pounding desire. Whether you’re a seasoned romantasy reader or just dipping your toes into the genre\, our community is here to share\, discuss\, and celebrate the hottest and most tantalizing reads. Join us for monthly book picks\, lively discussions\, and more. Get ready to embark on a journey where every book is a gateway to an unforgettable\, smutty escape! No purchase necessary\, although buying the book from us is appreciated 😉
URL:https://urbancasual.ca/cochrane-event/jillys-smutty-corner-book-club/2025-04-08/
LOCATION:Found Book Shop\, 206 1st Street W\, Cochrane\, AB
CATEGORIES:Book Club,Community,Free,Learning,Networking,Pub/Bar Event
ATTACH;FMTTYPE=image/png:https://urbancasual.ca/wp-content/uploads/2025/02/Jillys_Smutty_Corner.png
END:VEVENT
END:VCALENDAR