BEGIN:VCALENDAR
VERSION:2.0
PRODID:-//Urbancasual.ca - ECPv6.15.20//NONSGML v1.0//EN
CALSCALE:GREGORIAN
METHOD:PUBLISH
X-ORIGINAL-URL:https://urbancasual.ca
X-WR-CALDESC:Events for Urbancasual.ca
REFRESH-INTERVAL;VALUE=DURATION:PT1H
X-Robots-Tag:noindex
X-PUBLISHED-TTL:PT1H
BEGIN:VTIMEZONE
TZID:America/Edmonton
BEGIN:DAYLIGHT
TZOFFSETFROM:-0700
TZOFFSETTO:-0600
TZNAME:MDT
DTSTART:20240310T090000
END:DAYLIGHT
BEGIN:STANDARD
TZOFFSETFROM:-0600
TZOFFSETTO:-0700
TZNAME:MST
DTSTART:20241103T080000
END:STANDARD
BEGIN:DAYLIGHT
TZOFFSETFROM:-0700
TZOFFSETTO:-0600
TZNAME:MDT
DTSTART:20250309T090000
END:DAYLIGHT
BEGIN:STANDARD
TZOFFSETFROM:-0600
TZOFFSETTO:-0700
TZNAME:MST
DTSTART:20251102T080000
END:STANDARD
BEGIN:DAYLIGHT
TZOFFSETFROM:-0700
TZOFFSETTO:-0600
TZNAME:MDT
DTSTART:20260308T090000
END:DAYLIGHT
BEGIN:STANDARD
TZOFFSETFROM:-0600
TZOFFSETTO:-0700
TZNAME:MST
DTSTART:20261101T080000
END:STANDARD
END:VTIMEZONE
BEGIN:VEVENT
DTSTART;VALUE=DATE:20250301
DTEND;VALUE=DATE:20250402
DTSTAMP:20260424T054727
CREATED:20250308T235953Z
LAST-MODIFIED:20250308T235953Z
UID:10045336-1740798000-1743476399@urbancasual.ca
SUMMARY:What's Happening At Village of Play In March!
DESCRIPTION:New and exciting community events\, classes\, camps and activities happening this month at Village of Play!
URL:https://urbancasual.ca/cochrane-event/whats-happening-at-village-of-play-in-march/
LOCATION:128 1st street\, 128 1st. Street East\, Cochrane\, Alberta\, T4C 1X6\, Canada
CATEGORIES:Art,Community,Family Friendly,Learning,Parents & Caregivers,Youth
ATTACH;FMTTYPE=image/png:https://urbancasual.ca/wp-content/uploads/2025/03/Sage-Minimal-Mood-Board-Collage-Instagram-Post.png
ORGANIZER;CN="Village of Play":MAILTO:hello@villageofplay.com
END:VEVENT
BEGIN:VEVENT
DTSTART;VALUE=DATE:20250321
DTEND;VALUE=DATE:20250323
DTSTAMP:20260424T054727
CREATED:20250212T184750Z
LAST-MODIFIED:20250225T020113Z
UID:10044783-1742526000-1742612399@urbancasual.ca
SUMMARY:2025 Cochrane Indigenous Art & Culture Week
DESCRIPTION:2025 Cochrane Indigenous Art & Culture Week! \nWe are back and growing! \nVendors\, artisans and performers please connect with us if you are interested in participating! \nSponsorship Opportunities available now! \nView the package at: \nIndigenous Arts & Culture Week
URL:https://urbancasual.ca/cochrane-event/2025-cochrane-indigenous-art-culture-week/2025-03-21/
LOCATION:AB
CATEGORIES:Art,COCHRANE INDIGENOUS ART & CULTURE WEEK,Community,Culture,Entertainment & Games,History,Indigenous,Learning,Parents & Caregivers
ATTACH;FMTTYPE=image/jpeg:https://urbancasual.ca/wp-content/uploads/2025/02/inbound1904514685044282441.jpg
END:VEVENT
BEGIN:VEVENT
DTSTART;VALUE=DATE:20250321
DTEND;VALUE=DATE:20250323
DTSTAMP:20260424T054728
CREATED:20250224T205544Z
LAST-MODIFIED:20250329T191049Z
UID:10045685-1742526000-1742612399@urbancasual.ca
SUMMARY:Seniors on the Bow March
DESCRIPTION:
URL:https://urbancasual.ca/cochrane-event/seniors-on-the-bow-march/2025-03-21/
LOCATION:AB
CATEGORIES:Club,Community,Seniors
ATTACH;FMTTYPE=image/jpeg:https://urbancasual.ca/wp-content/uploads/2025/02/481098108_950863983898349_3640995007852868021_n-e1740430492427.jpg
END:VEVENT
BEGIN:VEVENT
DTSTART;TZID=America/Edmonton:20250321T100000
DTEND;TZID=America/Edmonton:20250321T110000
DTSTAMP:20260424T054728
CREATED:20250109T175736Z
LAST-MODIFIED:20250226T200327Z
UID:10045247-1742551200-1742554800@urbancasual.ca
SUMMARY:Parent & Tot Sing-Alongs
DESCRIPTION:Welcome to Cochrane’s Parent & Tot Sing-Along Sessions! \nJoin us for a fun and interactive music experience with your little ones. Sing along to popular children’s songs and nursery rhymes in a welcoming and inclusive environment. \nSTARTING DATE Friday January 3\, 2025 \nTime: Doors at 10:00 AM music starts at 10:15am \nLocation: Frank Wills Community Hall \nCoffee\, tea and cookies provided. \nBring your singing voices and get ready to bond with your child through music. No experience necessary\, just come ready to have a great time! \nFloor seating so bring a blanket\, yoga mat or cushion if you’d like. \n*Price is for parent & tot with no more than 2 parents per caregiver. $7/each drop-in or $20 for 4 consecutive drop ins (billed once at the beginning of the month)
URL:https://urbancasual.ca/cochrane-event/parent-tot-sing-alongs/2025-03-21/
LOCATION:Frank Wills Memorial Hall\, 405 1st Street E\, Cochrane\, Alberta
CATEGORIES:Community,Entertainment & Games,Learning,Music,Parents & Caregivers
ATTACH;FMTTYPE=image/jpeg:https://urbancasual.ca/wp-content/uploads/2025/01/472320182_8970766342958715_3666774441074322581_n.jpg
END:VEVENT
BEGIN:VEVENT
DTSTART;TZID=America/Edmonton:20250321T103000
DTEND;TZID=America/Edmonton:20250321T120000
DTSTAMP:20260424T054728
CREATED:20240325T011124Z
LAST-MODIFIED:20240619T170316Z
UID:10025431-1742553000-1742558400@urbancasual.ca
SUMMARY:Little Sprouts at Growing Roots
DESCRIPTION:Get outside with your 18–36 month olds in this parented outdoor program at the Cochrane Ranch. This Forest School program provides a fantastic opportunity for kids to explore\, play outside with other kids and make new friends. It’s for kids who are ready to dip their toes into the larger world but are not ready to be on their own just yet. Let’s help our littles embrace their curiosity and take on the world with confidence! \nWhen: Friday mornings\, 10:30-12\nWhere: Historic Cochrane Ranche\nWho: 18-36 months olds and their families – siblings welcome!\nCost: First class free! Then $15/class. Register for only the class(es) you wish to attend \nMore details at GrowingRootsKids.ca
URL:https://urbancasual.ca/cochrane-event/little-sprouts-at-growing-roots/2025-03-21/
LOCATION:AB
CATEGORIES:Family Friendly,Parents & Caregivers
ATTACH;FMTTYPE=image/jpeg:https://urbancasual.ca/wp-content/uploads/2024/03/IMG_5731-scaled.jpg
ORGANIZER;CN="Growing Roots Forest Play":MAILTO:info@growingrootskids.ca
END:VEVENT
BEGIN:VEVENT
DTSTART;TZID=America/Edmonton:20250321T170000
DTEND;TZID=America/Edmonton:20250321T190000
DTSTAMP:20260424T054728
CREATED:20250313T074054Z
LAST-MODIFIED:20250313T074054Z
UID:10045367-1742576400-1742583600@urbancasual.ca
SUMMARY:Wine Making 101 with Vinter's Cellar at The Legion (and BBQ)
DESCRIPTION:Join us at our Friday night BBQ along with Vinter’s Celler to answer all your questions about wine making.
URL:https://urbancasual.ca/cochrane-event/wine-making-101-with-vinters-cellar-at-the-legion-and-bbq/
LOCATION:Cochrane Legion\, 114 5th Ave\, Cochrane\, Alberta\, T4C 1A5\, Canada
CATEGORIES:Community
ATTACH;FMTTYPE=image/jpeg:https://urbancasual.ca/wp-content/uploads/2025/03/Legion-Posters-2025-6.jpg
ORGANIZER;CN="Cochrane Legion":MAILTO:cochranelegion15mov@gmail.com
END:VEVENT
BEGIN:VEVENT
DTSTART;TZID=America/Edmonton:20250321T173000
DTEND;TZID=America/Edmonton:20250321T190000
DTSTAMP:20260424T054728
CREATED:20221217T022124Z
LAST-MODIFIED:20250116T220005Z
UID:10001333-1742578200-1742583600@urbancasual.ca
SUMMARY:Legion DINNERS + KARAOKE
DESCRIPTION:Every Friday night from 5:30pm to 7pm – hit up the Legion for a pint and some  dinner! \nVarious weekly options available. \n+ Karaoke with DJ Marky Mark \n  \nTo reserve a table for groups of 8 or more\, please call: 403 932 2011
URL:https://urbancasual.ca/cochrane-event/legion-bbq/2025-03-21/
LOCATION:The Legion\, 114 Fifth Ave\, Cochrane\, Canada
CATEGORIES:Community,Food
ATTACH;FMTTYPE=image/jpeg:https://urbancasual.ca/wp-content/uploads/2022/12/461036069_10160502868711848_7959954002188333440_n.jpg
END:VEVENT
BEGIN:VEVENT
DTSTART;TZID=America/Edmonton:20250321T180000
DTEND;TZID=America/Edmonton:20250321T220000
DTSTAMP:20260424T054728
CREATED:20250225T012606Z
LAST-MODIFIED:20250225T012606Z
UID:10044976-1742580000-1742594400@urbancasual.ca
SUMMARY:INDIGENOUS FASHION SHOW & PERFORMANCES
DESCRIPTION:  \nGarheme heduwa Art & Culture Week All My Relations Indigenous Fashion Show\nJoin us for Cochrane’s 1st Indigenous fashion show! Focused on celebrating and connecting to the diverse Indigenous talent and artistry!
URL:https://urbancasual.ca/cochrane-event/indigenous-fashion-show-performances/
LOCATION:The Lions Event Centre\, 109 5th Avenue\, Cochrane\, Alberta\, Canada
CATEGORIES:COCHRANE INDIGENOUS ART & CULTURE WEEK,Fashion Show,Indigenous
ATTACH;FMTTYPE=image/png:https://urbancasual.ca/wp-content/uploads/2025/02/FASHION-SHOW.png
END:VEVENT
BEGIN:VEVENT
DTSTART;TZID=America/Edmonton:20250321T180000
DTEND;TZID=America/Edmonton:20250321T230000
DTSTAMP:20260424T054728
CREATED:20250205T163016Z
LAST-MODIFIED:20250205T163016Z
UID:10044616-1742580000-1742598000@urbancasual.ca
SUMMARY:Best Damn Country Bar Tour at the Texas Gate
DESCRIPTION:Hey Cochrane AB! The Best Damn Country Bar Tour is rolling into town and stopping at @texasgate.cochrane ! \nCheck out the Texas Gate for tickets! 🎟️ \n#thebestdamnbartour #texasgate #cochrane #albertacountry #country #livecountrymusic #countrymusic
URL:https://urbancasual.ca/cochrane-event/best-damn-country-bar-tour-at-the-texas-gate/
LOCATION:The Texas Gate\, 304 1st Street\, Cochrane\, Alberta\, Canada
CATEGORIES:Adults Only,Business,Concert,Date Night,Downtown,Entertainment & Games,Music,Pub/Bar Event
ATTACH;FMTTYPE=image/jpeg:https://urbancasual.ca/wp-content/uploads/2025/02/Screenshot_20250203_175900_Instagram.jpg
END:VEVENT
BEGIN:VEVENT
DTSTART;TZID=America/Edmonton:20250321T220000
DTEND;TZID=America/Edmonton:20250321T233000
DTSTAMP:20260424T054728
CREATED:20240917T161425Z
LAST-MODIFIED:20240917T161426Z
UID:10030880-1742594400-1742599800@urbancasual.ca
SUMMARY:The Rockyview Hotel - All Request DJ
DESCRIPTION:THE ROCKYVIEW HOTEL | EST’D IN 1904 – Celebrating 120 years in Historic Downtown. \n+ Dance the night away at the @texasgate.cochrane ! \n+ Tuesdays – learn to line dance\, 7pm\n+ Thursdays – karaoke\, 8pm\n+ Fridays / Saturdays – all request DJ\, 10pm +\n+ Sundays – All day free pool! \nTo book your stay & for more info: rockyviewhotel.ca \n  \n  \n  \n\n\n  \n\n\n\n\n\n\n\n\n\n\nView this post on Instagram\n\n\n\n\n\n\n\n\n\n\n\n\n\n\n\n\n\n\n\n\n\n\n  \nA post shared by Urban Casual Cochrane (@urbancasual.ca)
URL:https://urbancasual.ca/cochrane-event/the-rockyview-hotel-all-request-dj-2/2025-03-21/
LOCATION:Rockyview Hotel
CATEGORIES:Business,Downtown,Entertainment & Games,Pub/Bar Event,Restaurant
ATTACH;FMTTYPE=image/jpeg:https://urbancasual.ca/wp-content/uploads/2024/06/305308494_488593543275767_6866078460144404837_n.jpg
END:VEVENT
END:VCALENDAR