BEGIN:VCALENDAR
VERSION:2.0
PRODID:-//Urbancasual.ca - ECPv6.15.20//NONSGML v1.0//EN
CALSCALE:GREGORIAN
METHOD:PUBLISH
X-WR-CALNAME:Urbancasual.ca
X-ORIGINAL-URL:https://urbancasual.ca
X-WR-CALDESC:Events for Urbancasual.ca
REFRESH-INTERVAL;VALUE=DURATION:PT1H
X-Robots-Tag:noindex
X-PUBLISHED-TTL:PT1H
BEGIN:VTIMEZONE
TZID:America/Edmonton
BEGIN:DAYLIGHT
TZOFFSETFROM:-0700
TZOFFSETTO:-0600
TZNAME:MDT
DTSTART:20240310T090000
END:DAYLIGHT
BEGIN:STANDARD
TZOFFSETFROM:-0600
TZOFFSETTO:-0700
TZNAME:MST
DTSTART:20241103T080000
END:STANDARD
BEGIN:DAYLIGHT
TZOFFSETFROM:-0700
TZOFFSETTO:-0600
TZNAME:MDT
DTSTART:20250309T090000
END:DAYLIGHT
BEGIN:STANDARD
TZOFFSETFROM:-0600
TZOFFSETTO:-0700
TZNAME:MST
DTSTART:20251102T080000
END:STANDARD
BEGIN:DAYLIGHT
TZOFFSETFROM:-0700
TZOFFSETTO:-0600
TZNAME:MDT
DTSTART:20260308T090000
END:DAYLIGHT
BEGIN:STANDARD
TZOFFSETFROM:-0600
TZOFFSETTO:-0700
TZNAME:MST
DTSTART:20261101T080000
END:STANDARD
END:VTIMEZONE
BEGIN:VEVENT
DTSTART;VALUE=DATE:20250301
DTEND;VALUE=DATE:20250402
DTSTAMP:20260420T180243
CREATED:20250308T235953Z
LAST-MODIFIED:20250308T235953Z
UID:10045336-1740798000-1743476399@urbancasual.ca
SUMMARY:What's Happening At Village of Play In March!
DESCRIPTION:New and exciting community events\, classes\, camps and activities happening this month at Village of Play!
URL:https://urbancasual.ca/cochrane-event/whats-happening-at-village-of-play-in-march/
LOCATION:128 1st street\, 128 1st. Street East\, Cochrane\, Alberta\, T4C 1X6\, Canada
CATEGORIES:Art,Community,Family Friendly,Learning,Parents & Caregivers,Youth
ATTACH;FMTTYPE=image/png:https://urbancasual.ca/wp-content/uploads/2025/03/Sage-Minimal-Mood-Board-Collage-Instagram-Post.png
ORGANIZER;CN="Village of Play":MAILTO:hello@villageofplay.com
END:VEVENT
BEGIN:VEVENT
DTSTART;VALUE=DATE:20250315
DTEND;VALUE=DATE:20250319
DTSTAMP:20260420T180243
CREATED:20250224T200208Z
LAST-MODIFIED:20250224T200208Z
UID:10044872-1742007600-1742266799@urbancasual.ca
SUMMARY:Patty's Weekend at Half Hitch Brewing
DESCRIPTION:SAVE THE DATE Cochrane! \nWe’re your designated spot this St. Paddy’s weekend from March 15th to March 17th – we’ll have live music\, an Irish-themed feature menu\, and of course\, our beloved Shamrock Beer!
URL:https://urbancasual.ca/cochrane-event/pattys-weekend-at-half-hitch-brewing/
LOCATION:Half Hitch Brewery
CATEGORIES:Business,Entertainment & Games,Family Friendly,Food,Music,Pub/Bar Event,Restaurant,St. Patrick's Day 2025
ATTACH;FMTTYPE=image/jpeg:https://urbancasual.ca/wp-content/uploads/2025/02/inbound5936949295354590238.jpg
END:VEVENT
BEGIN:VEVENT
DTSTART;VALUE=DATE:20250315
DTEND;VALUE=DATE:20250319
DTSTAMP:20260420T180243
CREATED:20250310T064355Z
LAST-MODIFIED:20250310T064355Z
UID:10045365-1742007600-1742266799@urbancasual.ca
SUMMARY:Rocky View Brewing Taproom St. Patrick's Day
DESCRIPTION:
URL:https://urbancasual.ca/cochrane-event/rocky-view-brewing-taproom-st-patricks-day/
LOCATION:Rocky View Taproom\, 420 1st Street\, Cochrane\, AB
CATEGORIES:Pub/Bar Event,St. Patrick's Day 2025
ATTACH;FMTTYPE=image/jpeg:https://urbancasual.ca/wp-content/uploads/2025/03/480648726_18390453889104462_1027850111523471023_n.jpg
END:VEVENT
BEGIN:VEVENT
DTSTART;VALUE=DATE:20250316
DTEND;VALUE=DATE:20250318
DTSTAMP:20260420T180243
CREATED:20250212T184750Z
LAST-MODIFIED:20250225T020113Z
UID:10044778-1742094000-1742180399@urbancasual.ca
SUMMARY:2025 Cochrane Indigenous Art & Culture Week
DESCRIPTION:2025 Cochrane Indigenous Art & Culture Week! \nWe are back and growing! \nVendors\, artisans and performers please connect with us if you are interested in participating! \nSponsorship Opportunities available now! \nView the package at: \nIndigenous Arts & Culture Week
URL:https://urbancasual.ca/cochrane-event/2025-cochrane-indigenous-art-culture-week/2025-03-16/
LOCATION:Alberta
CATEGORIES:Art,COCHRANE INDIGENOUS ART & CULTURE WEEK,Community,Culture,Entertainment & Games,History,Indigenous,Learning,Parents & Caregivers
ATTACH;FMTTYPE=image/jpeg:https://urbancasual.ca/wp-content/uploads/2025/02/inbound1904514685044282441.jpg
END:VEVENT
BEGIN:VEVENT
DTSTART;VALUE=DATE:20250316
DTEND;VALUE=DATE:20250318
DTSTAMP:20260420T180243
CREATED:20250224T205544Z
LAST-MODIFIED:20250329T191049Z
UID:10045680-1742094000-1742180399@urbancasual.ca
SUMMARY:Seniors on the Bow March
DESCRIPTION:
URL:https://urbancasual.ca/cochrane-event/seniors-on-the-bow-march/2025-03-16/
LOCATION:Alberta
CATEGORIES:Club,Community,Seniors
ATTACH;FMTTYPE=image/jpeg:https://urbancasual.ca/wp-content/uploads/2025/02/481098108_950863983898349_3640995007852868021_n-e1740430492427.jpg
END:VEVENT
BEGIN:VEVENT
DTSTART;VALUE=DATE:20250316
DTEND;VALUE=DATE:20250318
DTSTAMP:20260420T180243
CREATED:20250225T013710Z
LAST-MODIFIED:20250225T020214Z
UID:10044980-1742094000-1742180399@urbancasual.ca
SUMMARY:MiniHrpa Pop Up Culture Event TBD!
DESCRIPTION:MiniHrpa Pop Up Culture Event\nTBD!
URL:https://urbancasual.ca/cochrane-event/minihrpa-pop-up-culture-event-tbd/
LOCATION:Cochrane Public Library\, 405 Railway Street W\, Cochrane\, Alberta
CATEGORIES:COCHRANE INDIGENOUS ART & CULTURE WEEK,Indigenous
ATTACH;FMTTYPE=image/png:https://urbancasual.ca/wp-content/uploads/2025/02/mar-15-to-23-ind.png
END:VEVENT
BEGIN:VEVENT
DTSTART;TZID=America/Edmonton:20250316T070000
DTEND;TZID=America/Edmonton:20250316T120000
DTSTAMP:20260420T180243
CREATED:20250121T190210Z
LAST-MODIFIED:20250121T190233Z
UID:10044127-1742108400-1742126400@urbancasual.ca
SUMMARY:Wild Rose Women's Spring Indoor Triathlon
DESCRIPTION:A Triathlon For All Abilities! \n(ages 10+) \nDivided into heats\, you will have 10 minutes to swim as many laps as you can (any stroke) in the pool\, 20 minutes to bike on a stationary bike with a coach leading you through a course\, and then 15 minutes to walk or run as many laps as you can on the track.  Register in the heat you want so you can participate with friends. For ALL LEVELS! From your first triathlon to the experienced triathlete. \n\n\nWhat you get at the Wild Rose Women’s Indoor Triathlon Experience: \n\n\n\na professionally managed event by RnR Premier Events \n\n\na supportive environment focused on success for all athletes from beginner to advanced   \n\n\na personalized race bib  \n\n\na commemorative finisher’s bracelet \n\n\npost-race massage \n\n\npost-race smoothie from Jugo Juice \n\n\n\n\nRegistration:Register by December 31st\, 2024 = $65Register between January 1st\, 2025 – January 31st\, 2025 = $70Register between February 1st\, 2025  – February 28th\, 2025 = $80Register after February 29th\, 2025 = $90
URL:https://urbancasual.ca/cochrane-event/wild-rose-womens-spring-indoor-triathlon-march-16-2025/
LOCATION:Spray Lake Sawmill Family Sports Centre\, 800 Griffin Road\, Cochrane\, AB
CATEGORIES:Business,Community,Fitness,Race,Run/Walk,Triathlon
ATTACH;FMTTYPE=image/png:https://urbancasual.ca/wp-content/uploads/2025/01/Wild-Rose-Indoor-Triathlon-5.png
END:VEVENT
BEGIN:VEVENT
DTSTART;TZID=America/Edmonton:20250316T100000
DTEND;TZID=America/Edmonton:20250316T150000
DTSTAMP:20260420T180243
CREATED:20250304T002947Z
LAST-MODIFIED:20250304T002947Z
UID:10045312-1742119200-1742137200@urbancasual.ca
SUMMARY:Babysitting Course
DESCRIPTION:The Canadian Red Cross Babysitting course offers basic first aid and caregiving skills for youth 11-15 years old. Participants learn how to provide care to children in a variety of age groups\, and how to prevent and respond to emergencies. The course also offers youth the skills to promote themselves as babysitters to prospective families. \nBabysitting promises to deepen and enhance the responsibility that older youth feel when caring for younger children. This updated curriculum\, complete with new science\, also provides improved learning when it comes to giving the appropriate care in the event of an emergency. This course has a strong emphasis on First Aid skills.
URL:https://urbancasual.ca/cochrane-event/babysitting-course-3/2025-03-16/
LOCATION:Cochrane Emergency Training Services\, 218 Fifth Ave\, Cochrane\, Alberta
CATEGORIES:Learning,Parents & Caregivers,Youth
ATTACH;FMTTYPE=image/jpeg:https://urbancasual.ca/wp-content/uploads/2025/03/Babysitting-Course-1.jpg
END:VEVENT
BEGIN:VEVENT
DTSTART;TZID=America/Edmonton:20250316T130000
DTEND;TZID=America/Edmonton:20250316T150000
DTSTAMP:20260420T180243
CREATED:20250308T041501Z
LAST-MODIFIED:20250308T041501Z
UID:10045342-1742130000-1742137200@urbancasual.ca
SUMMARY:Forever Treasure Island
DESCRIPTION:Jen Hawkins can’t believe her luck when she stumbles upon an old treasure-map. And yes\, X does indeed mark the spot! So\, just days later\, under the wing of Doctor Livesey and Captain Smollett\, she boards the Hispaniola and is soon riding the waves towards Skeleton Island. But so is Long John Silver and his parrot Cap’n Flint\, not to mention the motliest collection of ‘sailors’ she’s ever set eyes on. Will her quest end happily\, or will she be swimming with the fishes? \nWith ten fantastic new songs and a dramatic but comical script\, ‘Forever Treasure Island’ brings the classic novel leaping into the 21st Century. \n  \nFRIDAY\, MARCH 14 – 6PM – SOLD OUT \nSATURDAY\, MARCH 15 – 1PM \nSATURDAY\, MARCH 15 – 6PM \nSUNDAY\, MARCH 16 – 1PM – SOLD OUT
URL:https://urbancasual.ca/cochrane-event/forever-treasure-island/2025-03-16/
LOCATION:Alberta
CATEGORIES:Art,Community,Entertainment & Games,Family Friendly,Parents & Caregivers,Theatre
ATTACH;FMTTYPE=image/jpeg:https://urbancasual.ca/wp-content/uploads/2025/03/482214647_1078461154088553_650837930362475963_n.jpg
END:VEVENT
BEGIN:VEVENT
DTSTART;TZID=America/Edmonton:20250316T140000
DTEND;TZID=America/Edmonton:20250316T170000
DTSTAMP:20260420T180243
CREATED:20250302T212022Z
LAST-MODIFIED:20250302T212117Z
UID:10045308-1742133600-1742144400@urbancasual.ca
SUMMARY:Puzzle Race
DESCRIPTION:Join us for our Monthly Puzzle Race\nSpots are limited\, reserve a table for your team (up to 6 players) \nDoors open at 2:00\, Race starts at 2:30\nFood and beverages available (no outside food) \nEveryone welcome\nFamily Friendly\n$20/team \nPool and shuffleboard for the non-puzzle racers\nNo membership required
URL:https://urbancasual.ca/cochrane-event/puzzle-race-legion-march-16-2025/
LOCATION:Cochrane Legion\, 114 5th Ave\, Cochrane\, Alberta\, T4C 1A5\, Canada
CATEGORIES:Community,Entertainment & Games,Family Friendly,Free,Parents & Caregivers,Pub/Bar Event,Seniors
ATTACH;FMTTYPE=image/jpeg:https://urbancasual.ca/wp-content/uploads/2025/03/Legion-Posters-2025-4.jpg
ORGANIZER;CN="Cochrane Legion":MAILTO:cochranelegion15mov@gmail.com
END:VEVENT
BEGIN:VEVENT
DTSTART;TZID=America/Edmonton:20250316T160000
DTEND;TZID=America/Edmonton:20250316T180000
DTSTAMP:20260420T180243
CREATED:20250310T063523Z
LAST-MODIFIED:20250310T063523Z
UID:10045364-1742140800-1742148000@urbancasual.ca
SUMMARY:Saint Patrick’s Day celebrations at The Shire pub
DESCRIPTION:Come celebrate paddys day at the shire pub\, Cochrane on Sunday March 16th @4pm. \nThe Drowsy Maggie’s\, Irish trio will be back singing your favourite Irish songs and playing Irish traditional jigs and reels. So be sure to bring your dancing shoes!
URL:https://urbancasual.ca/cochrane-event/saint-patricks-day-celebrations-at-the-shire-pub/
LOCATION:The Shire Pub\, 8-57 West Aarsby Road\, Cochrane\, AB
CATEGORIES:Music,St. Patrick's Day 2025
ATTACH;FMTTYPE=image/jpeg:https://urbancasual.ca/wp-content/uploads/2025/03/IMG_0949.jpeg
END:VEVENT
BEGIN:VEVENT
DTSTART;TZID=America/Edmonton:20250316T160000
DTEND;TZID=America/Edmonton:20250316T200000
DTSTAMP:20260420T180243
CREATED:20240911T005142Z
LAST-MODIFIED:20240911T005142Z
UID:10035721-1742140800-1742155200@urbancasual.ca
SUMMARY:SUNDAY JAM AT THE VENUE
DESCRIPTION:The Sunday Jam is back at the Venue starting October 6th! \nFeaturing Allen Christie. \nWINGS $10 OFF \nHAPPY HOUR 2PM TO 8PM \n  \n 
URL:https://urbancasual.ca/cochrane-event/sunday-jam-at-the-venue/2025-03-16/
LOCATION:VENUE SPORTSBAR AND GRILL
CATEGORIES:Entertainment & Games,Music
ATTACH;FMTTYPE=image/jpeg:https://urbancasual.ca/wp-content/uploads/2024/09/inbound1307443098528191419.jpg
END:VEVENT
BEGIN:VEVENT
DTSTART;TZID=America/Edmonton:20250316T183000
DTEND;TZID=America/Edmonton:20250316T213000
DTSTAMP:20260420T180243
CREATED:20250225T013334Z
LAST-MODIFIED:20250225T013334Z
UID:10044979-1742149800-1742160600@urbancasual.ca
SUMMARY:THE STORIES WE HAVE EARNED: THE STONEY NAKODA FILM PROJECT
DESCRIPTION:The Stories We Have Earned –\nThe Stoney Nakoda Film Project\nInter pipeline Sponsored Movie \n6:30pm Doors Open & Opening Comments\n7pm Showing \nCochrane Movie House \n\nTickets on sale:\n$10 – https://www.eventbrite.com/e/movie-screening-the-stories-we-have-earned-the-stoney-nakoda-film-project-tickets-1257679385899?utm-campaign=social&utm-content=attendeeshare&utm-medium=discovery&utm-term=listing&utm-source=cp&aff=ebdsshcopyurl\n(all proceeds donated back to project/Elders) \n\nMembers of Stoney Nakoda Free! – https://www.eventbrite.ca/e/movie-screening-the-stories-we-have-earned-the-stoney-nakoda-film-project-tickets-1257679385899?discount=NakodaMembers2025
URL:https://urbancasual.ca/cochrane-event/the-stories-we-have-earned-the-stoney-nakoda-film-project/
LOCATION:Cochrane Movie House
CATEGORIES:COCHRANE INDIGENOUS ART & CULTURE WEEK,Community,Entertainment & Games,Indigenous,Movie
ATTACH;FMTTYPE=image/png:https://urbancasual.ca/wp-content/uploads/2025/02/mar-15-to-23-ind.png
END:VEVENT
END:VCALENDAR