BEGIN:VCALENDAR
VERSION:2.0
PRODID:-//Urbancasual.ca - ECPv6.15.20//NONSGML v1.0//EN
CALSCALE:GREGORIAN
METHOD:PUBLISH
X-ORIGINAL-URL:https://urbancasual.ca
X-WR-CALDESC:Events for Urbancasual.ca
REFRESH-INTERVAL;VALUE=DURATION:PT1H
X-Robots-Tag:noindex
X-PUBLISHED-TTL:PT1H
BEGIN:VTIMEZONE
TZID:America/Edmonton
BEGIN:DAYLIGHT
TZOFFSETFROM:-0700
TZOFFSETTO:-0600
TZNAME:MDT
DTSTART:20230312T090000
END:DAYLIGHT
BEGIN:STANDARD
TZOFFSETFROM:-0600
TZOFFSETTO:-0700
TZNAME:MST
DTSTART:20231105T080000
END:STANDARD
BEGIN:DAYLIGHT
TZOFFSETFROM:-0700
TZOFFSETTO:-0600
TZNAME:MDT
DTSTART:20240310T090000
END:DAYLIGHT
BEGIN:STANDARD
TZOFFSETFROM:-0600
TZOFFSETTO:-0700
TZNAME:MST
DTSTART:20241103T080000
END:STANDARD
BEGIN:DAYLIGHT
TZOFFSETFROM:-0700
TZOFFSETTO:-0600
TZNAME:MDT
DTSTART:20250309T090000
END:DAYLIGHT
BEGIN:STANDARD
TZOFFSETFROM:-0600
TZOFFSETTO:-0700
TZNAME:MST
DTSTART:20251102T080000
END:STANDARD
END:VTIMEZONE
BEGIN:VEVENT
DTSTART;TZID=America/Edmonton:20241129T100000
DTEND;TZID=America/Edmonton:20241129T113000
DTSTAMP:20260424T154948
CREATED:20241019T043158Z
LAST-MODIFIED:20241019T043514Z
UID:10036581-1732874400-1732879800@urbancasual.ca
SUMMARY:Budget on a Bounty
DESCRIPTION:Friday November 29\, 10-11:30 a.m. | St. Andrew’s United Church\, 128 First Street E. | Registered\, 18+ \nThis fun\, hands-on session will help you learn to make the most of your food budget by reducing waste and expanding the ways you can use basic groceries. Family dinners are more delicious when you can create homemade stocks\, crunchy fresh microgreens and tasty seasonings with little to no additional cost. Limited spots. To register\, please visit: www.cochrane.ca/financialresources
URL:https://urbancasual.ca/cochrane-event/budget-on-a-bounty/
LOCATION:St. Andrew’s United Church\, 128 1st Street E\, Cochrane\, AB
CATEGORIES:Community,Library
ATTACH;FMTTYPE=image/jpeg:https://urbancasual.ca/wp-content/uploads/2024/10/Bounty-on-a-Budget.jpg
END:VEVENT
BEGIN:VEVENT
DTSTART;TZID=America/Edmonton:20241129T100000
DTEND;TZID=America/Edmonton:20241129T200000
DTSTAMP:20260424T154948
CREATED:20241030T015925Z
LAST-MODIFIED:20241030T015925Z
UID:10037302-1732874400-1732910400@urbancasual.ca
SUMMARY:2024 BANFF CHRISTMAS MARKET
DESCRIPTION:It’s the 10th anniversary of the Banff Christmas Market and we’ve got some excited news… We’ve relocated to the Banff Train Station and we’re open for four weekends of holiday magic! That’s right\, FOUR WEEKENDS!\n\nJoin us this year and browse some of the finest local handcrafted items\, visit with Santa\, enjoy live music\, and fill your belly with great food & warm drinks.\nIt’s enough to make the most hardened Scrooge dream of a white Christmas\, so mark your calendar for the following dates:\n\n\nThe 2024 Banff Christmas Market will be open for four weekends: \nThursday\, November 14 – free local’s night\nFriday\, November 15 – Sunday\, November 17\nFriday\, November 22 – Sunday\, November 24\nFriday\, November 29 – Sunday\, December 1\nFriday\, December 6 – Sunday\, December 8 \nMarket Hours: \nThursday: 5pm – 9pm (November 14 ONLY – local’s night!)\nFriday: 10am – 8pm\nSaturday: 10am – 8pm\nSunday: 10am – 4pm \n\nENTRY FEE:\nAdults (11-64): $15\nSeniors (65+): $12\nChild (3-10): $5\nChildren 2 & under: Free\n100% of child ticket sales are donated to the Shine Foundation\nAll ticket prices are subject to 5% GST.  \n\nWww.banffchristmasmarket.com\n\nLOCATION: Banff Heritage Train Station\, 327 Railway Ave\, Banff AB
URL:https://urbancasual.ca/cochrane-event/2024-banff-christmas-market/2024-11-29/
LOCATION:AB
CATEGORIES:HOLIDAY MARKETS 2024,Market
ATTACH;FMTTYPE=image/jpeg:https://urbancasual.ca/wp-content/uploads/2024/10/418128259_807534224719143_7385194473237471075_n-e1730758384766.jpg
END:VEVENT
BEGIN:VEVENT
DTSTART;TZID=America/Edmonton:20241129T103000
DTEND;TZID=America/Edmonton:20241129T120000
DTSTAMP:20260424T154948
CREATED:20240325T011124Z
LAST-MODIFIED:20240619T170316Z
UID:10025415-1732876200-1732881600@urbancasual.ca
SUMMARY:Little Sprouts at Growing Roots
DESCRIPTION:Get outside with your 18–36 month olds in this parented outdoor program at the Cochrane Ranch. This Forest School program provides a fantastic opportunity for kids to explore\, play outside with other kids and make new friends. It’s for kids who are ready to dip their toes into the larger world but are not ready to be on their own just yet. Let’s help our littles embrace their curiosity and take on the world with confidence! \nWhen: Friday mornings\, 10:30-12\nWhere: Historic Cochrane Ranche\nWho: 18-36 months olds and their families – siblings welcome!\nCost: First class free! Then $15/class. Register for only the class(es) you wish to attend \nMore details at GrowingRootsKids.ca
URL:https://urbancasual.ca/cochrane-event/little-sprouts-at-growing-roots/2024-11-29/
LOCATION:AB
CATEGORIES:Family Friendly,Parents & Caregivers
ATTACH;FMTTYPE=image/jpeg:https://urbancasual.ca/wp-content/uploads/2024/03/IMG_5731-scaled.jpg
ORGANIZER;CN="Growing Roots Forest Play":MAILTO:info@growingrootskids.ca
END:VEVENT
BEGIN:VEVENT
DTSTART;TZID=America/Edmonton:20241129T140000
DTEND;TZID=America/Edmonton:20241129T180000
DTSTAMP:20260424T154948
CREATED:20241030T155205Z
LAST-MODIFIED:20241030T155205Z
UID:10037308-1732888800-1732903200@urbancasual.ca
SUMMARY:Christmas Village Market in Bearspaw
DESCRIPTION:Join us for the Bearspaw Christmas Market!\n\nStep into a magical Christmas wonderland at the Bearspaw Christmas Market\, where you’ll find gifts\, crafts\, food\, and entertainment for the whole family!\n\n Event Dates:– **November 29 & 30**– **December 1\, 6\, 7 & 8**\n\n **Opening Hours:**– Fridays: 2:00 PM – 6:00 PM– Saturdays: 10:00 AM – 7:00 PM– Sundays: 10:00 AM – 4:00 PM\n\n Enjoy an enchanting market with over 100 vendors\, and experience the festive spirit with local crafts\, delicious food\, and lively entertainment. Perfect for holiday gift shopping and creating lasting memories with your loved ones!\n\n Location:Bearspaw Community Association253220 Bearspaw Road\, Calgary\, AB\n\n Don’t miss out on this festive experience! Whether you’re looking for unique holiday gifts\, tasty treats\, or just a day out with the family\, the Bearspaw Christmas Market is the place to be this holiday season!\n\n For more details\, visit our website: www.bearspawcommunityassociation.com
URL:https://urbancasual.ca/cochrane-event/christmas-village-market-in-bearspaw/2024-11-29/
LOCATION:Bearspaw Lifestyle Centre
CATEGORIES:Bearspaw,Family Friendly,HOLIDAY MARKETS 2024,Market
ATTACH;FMTTYPE=image/jpeg:https://urbancasual.ca/wp-content/uploads/2024/10/464500582_1503828683857419_8934627393298113074_n.jpg
END:VEVENT
BEGIN:VEVENT
DTSTART;TZID=America/Edmonton:20241129T160000
DTEND;TZID=America/Edmonton:20241129T173000
DTSTAMP:20260424T154948
CREATED:20240911T015708Z
LAST-MODIFIED:20240911T015708Z
UID:10036018-1732896000-1732901400@urbancasual.ca
SUMMARY:Games Afternoon at CPL
DESCRIPTION:Join us for an afternoon of games\, puzzles\, and more! All skill levels and ages are welcome. \n\nEvent dates\n\nEvery week on Friday ends on October 18\, 2024\, 4:00 p.m. – 5:30 p.m.\nEvery week on Friday ends on December 13\, 2024\, 4:00 p.m. – 5:30 p.m.
URL:https://urbancasual.ca/cochrane-event/games-afternoon-at-cpl/2024-11-29/
LOCATION:Cochrane Public Library\, 405 Railway Street W\, Cochrane\, Alberta
CATEGORIES:Entertainment & Games,Family Friendly,Free,Library,Parents & Caregivers
ATTACH;FMTTYPE=image/jpeg:https://urbancasual.ca/wp-content/uploads/2024/09/Games-Afternoon_ultrawide_1440.jpg
END:VEVENT
BEGIN:VEVENT
DTSTART;TZID=America/Edmonton:20241129T160000
DTEND;TZID=America/Edmonton:20241129T180000
DTSTAMP:20260424T154948
CREATED:20240106T194614Z
LAST-MODIFIED:20240106T194614Z
UID:10021572-1732896000-1732903200@urbancasual.ca
SUMMARY:Friending Fridays at the Taproom
DESCRIPTION:New in town? Looking to meet new people and make new friends?\n.\nJoin us every Friday from 4-6pm for FRIENDING FRIDAYS!\n.\n$20 Pitchers\nComplimentary Popcorn\nBuy a stranger a pint for 10% off\n\nJoin their Friending Fridays Facebook group HERE.
URL:https://urbancasual.ca/cochrane-event/friending-fridays-at-the-taproom/2024-11-29/
LOCATION:Rocky View Taproom\, 420 1st Street\, Cochrane\, AB
CATEGORIES:Club,Community,Downtown,Entertainment & Games,Food,Networking,Pub/Bar Event,Restaurant
ATTACH;FMTTYPE=image/jpeg:https://urbancasual.ca/wp-content/uploads/2024/01/417112676_958261299095624_2169347946227142531_n.jpg
END:VEVENT
BEGIN:VEVENT
DTSTART;TZID=America/Edmonton:20241129T173000
DTEND;TZID=America/Edmonton:20241129T190000
DTSTAMP:20260424T154948
CREATED:20221217T022124Z
LAST-MODIFIED:20250116T220005Z
UID:10001317-1732901400-1732906800@urbancasual.ca
SUMMARY:Legion DINNERS + KARAOKE
DESCRIPTION:Every Friday night from 5:30pm to 7pm – hit up the Legion for a pint and some  dinner! \nVarious weekly options available. \n+ Karaoke with DJ Marky Mark \n  \nTo reserve a table for groups of 8 or more\, please call: 403 932 2011
URL:https://urbancasual.ca/cochrane-event/legion-bbq/2024-11-29/
LOCATION:The Legion\, 114 Fifth Ave\, Cochrane\, Canada
CATEGORIES:Community,Food
ATTACH;FMTTYPE=image/jpeg:https://urbancasual.ca/wp-content/uploads/2022/12/461036069_10160502868711848_7959954002188333440_n.jpg
END:VEVENT
BEGIN:VEVENT
DTSTART;TZID=America/Edmonton:20241129T180000
DTEND;TZID=America/Edmonton:20241129T203000
DTSTAMP:20260424T154948
CREATED:20241114T155507Z
LAST-MODIFIED:20241114T155507Z
UID:10037378-1732903200-1732912200@urbancasual.ca
SUMMARY:MAMMA MIA by Bow Valley Performing Arts
DESCRIPTION:Join us for a lively and heartwarming performance of Mamma Mia! as our talented high school cast brings the iconic musical to life! \nSet against the backdrop of a picturesque Greek island\, follow Sophie on her quest to discover the identity of her father\, all while singing along to classic ABBA hits like “Dancing Queen” and “Take a Chance on Me.” Please note this show is rated PG-13. \nThe show has a run time of 2 hours with a 30 minute intermission between acts. \nOur chamber ensemble will offer live entertainment before the show and during intermission\, and a Mamma Mia themed concession will be open serving a selection of food and beverages. \nWe look forward to seeing you at the show!
URL:https://urbancasual.ca/cochrane-event/mamma-mia-by-bow-valley-performing-arts/2024-11-29/
LOCATION:The Cochrane Ranchehouse\, 1 Ranchehouse Road\, Cochrane\, Alberta
CATEGORIES:Entertainment & Games,Family Friendly,School,Theatre,Youth
ATTACH;FMTTYPE=image/jpeg:https://urbancasual.ca/wp-content/uploads/2024/11/276292290_2371345516340683_6178873643943859074_n-1.jpg
END:VEVENT
BEGIN:VEVENT
DTSTART;TZID=America/Edmonton:20241129T190000
DTEND;TZID=America/Edmonton:20241129T213000
DTSTAMP:20260424T154948
CREATED:20241105T192744Z
LAST-MODIFIED:20241105T192744Z
UID:10037342-1732906800-1732915800@urbancasual.ca
SUMMARY:Holiday Wreath/Porch Pot Workshop
DESCRIPTION:We’re back for another year of Holiday Crafting! \nUnleash your creativity and kick off the holiday season at our Holiday Wreath/Porch Pot Workshop! Let your imagination run wild as we get into the festive spirit and create your own unique holiday decorations that will impress your neighbors and guests. Whether you’re a seasoned crafter or a beginner\, this in-person event is perfect for everyone so grab your friends and join us for an evening of creativity and laughter. \nOur talented instructor\, Niki from Blooms & Design\, will guide you through the process of making your choice of a beautiful wreath or porch pot. You’ll have a wide selection of materials to choose from\, including fresh greenery\, ribbons\, ornaments\, and more. \nWREATH – Create your own unique Holiday wreath by choosing from a selection of cedar\, fir and pine as well as decorative pieces from the decor “buffet” – berries\, pinecones\, bells\, bows and more! Typical diameter of finished product is 18-24″. \nPORCH POT – Start with your black container (these can be set out or dropped into an existing planter pot) and build your pot up from a selection of cedar\, fir\, pine\, dogwood branches and large sugar cones. Add in your red berries\, birch poles and other decor to create your unique & stunning pot to display. \nFound’s wine & coffee bar will be open so grab a beverage and lets get festive!! \nWant to make both? When you purchase a ticket for this date\, you’ll automatically receive a code to save 15% off if you’d like to join us on December 3rd as well. \nLooking for something else? We are also offering a Grinch Tree Workshop on December 6th and a Christmas Centrepiece workshop!
URL:https://urbancasual.ca/cochrane-event/holiday-wreath-porch-pot-workshop-2/
LOCATION:Found Book Shop\, 206 1st Street W\, Cochrane\, AB
CATEGORIES:Art,Business,Learning
ATTACH;FMTTYPE=image/jpeg:https://urbancasual.ca/wp-content/uploads/2024/10/2-12.jpg
ORGANIZER;CN="Quirk Social":MAILTO:hello@quirksocial.ca
END:VEVENT
BEGIN:VEVENT
DTSTART;TZID=America/Edmonton:20241129T190000
DTEND;TZID=America/Edmonton:20241129T220000
DTSTAMP:20260424T154948
CREATED:20241108T002851Z
LAST-MODIFIED:20241108T002851Z
UID:10037358-1732906800-1732917600@urbancasual.ca
SUMMARY:“Winter’s Eve”
DESCRIPTION:Join the crew at Final Touch for this fabulous hurricane painting! See our Facebook & Instagram pages to see the video of the full painting!
URL:https://urbancasual.ca/cochrane-event/winters-eve/
LOCATION:Final Touch Art Studio\, #10 118 1 Ave West\, Cochrane\, Alberta\, Canada
CATEGORIES:Art,Learning
ATTACH;FMTTYPE=image/png:https://urbancasual.ca/wp-content/uploads/2024/11/Winter-Inline-1.png
ORGANIZER;CN="Final Touch Art Studio":MAILTO:finaltouchart2015@gmail.com
END:VEVENT
BEGIN:VEVENT
DTSTART;TZID=America/Edmonton:20241129T200000
DTEND;TZID=America/Edmonton:20241129T223000
DTSTAMP:20260424T154949
CREATED:20240729T235628Z
LAST-MODIFIED:20240729T235628Z
UID:10035330-1732910400-1732919400@urbancasual.ca
SUMMARY:COCHRANE GENERALS AT HOME - NOVEMBER
DESCRIPTION:FOR ALL THE COCHRANE GENERALS GAME INFO\, PLEASE VISIT: CANNEX COCHRANE GENERALS GAMES \nALL HOME GAMES ARE TO BE PLAYED AT THE SPRAY LAKES SAWMILL FAMILY REC CENTRE. \n 
URL:https://urbancasual.ca/cochrane-event/cochrane-generals-at-home-november-2024/2024-11-29/
LOCATION:Spray Lake Sawmill Family Sports Centre\, 800 Griffin Road\, Cochrane\, AB
CATEGORIES:Cochrane Generals,Community,Entertainment & Games,Family Friendly,Parents & Caregivers,Sports,Spray Lakes Sawmill Rec Centre
ATTACH;FMTTYPE=image/png:https://urbancasual.ca/wp-content/uploads/2024/07/202425-OCT-GEN-SCHED.png
END:VEVENT
BEGIN:VEVENT
DTSTART;TZID=America/Edmonton:20241129T220000
DTEND;TZID=America/Edmonton:20241129T233000
DTSTAMP:20260424T154949
CREATED:20240917T161425Z
LAST-MODIFIED:20240917T161426Z
UID:10030848-1732917600-1732923000@urbancasual.ca
SUMMARY:The Rockyview Hotel - All Request DJ
DESCRIPTION:THE ROCKYVIEW HOTEL | EST’D IN 1904 – Celebrating 120 years in Historic Downtown. \n+ Dance the night away at the @texasgate.cochrane ! \n+ Tuesdays – learn to line dance\, 7pm\n+ Thursdays – karaoke\, 8pm\n+ Fridays / Saturdays – all request DJ\, 10pm +\n+ Sundays – All day free pool! \nTo book your stay & for more info: rockyviewhotel.ca \n  \n  \n  \n\n\n  \n\n\n\n\n\n\n\n\n\n\nView this post on Instagram\n\n\n\n\n\n\n\n\n\n\n\n\n\n\n\n\n\n\n\n\n\n\n  \nA post shared by Urban Casual Cochrane (@urbancasual.ca)
URL:https://urbancasual.ca/cochrane-event/the-rockyview-hotel-all-request-dj-2/2024-11-29/
LOCATION:Rockyview Hotel
CATEGORIES:Business,Downtown,Entertainment & Games,Pub/Bar Event,Restaurant
ATTACH;FMTTYPE=image/jpeg:https://urbancasual.ca/wp-content/uploads/2024/06/305308494_488593543275767_6866078460144404837_n.jpg
END:VEVENT
END:VCALENDAR