BEGIN:VCALENDAR
VERSION:2.0
PRODID:-//Urbancasual.ca - ECPv6.15.20//NONSGML v1.0//EN
CALSCALE:GREGORIAN
METHOD:PUBLISH
X-WR-CALNAME:Urbancasual.ca
X-ORIGINAL-URL:https://urbancasual.ca
X-WR-CALDESC:Events for Urbancasual.ca
REFRESH-INTERVAL;VALUE=DURATION:PT1H
X-Robots-Tag:noindex
X-PUBLISHED-TTL:PT1H
BEGIN:VTIMEZONE
TZID:America/Edmonton
BEGIN:DAYLIGHT
TZOFFSETFROM:-0700
TZOFFSETTO:-0600
TZNAME:MDT
DTSTART:20230312T090000
END:DAYLIGHT
BEGIN:STANDARD
TZOFFSETFROM:-0600
TZOFFSETTO:-0700
TZNAME:MST
DTSTART:20231105T080000
END:STANDARD
BEGIN:DAYLIGHT
TZOFFSETFROM:-0700
TZOFFSETTO:-0600
TZNAME:MDT
DTSTART:20240310T090000
END:DAYLIGHT
BEGIN:STANDARD
TZOFFSETFROM:-0600
TZOFFSETTO:-0700
TZNAME:MST
DTSTART:20241103T080000
END:STANDARD
BEGIN:DAYLIGHT
TZOFFSETFROM:-0700
TZOFFSETTO:-0600
TZNAME:MDT
DTSTART:20250309T090000
END:DAYLIGHT
BEGIN:STANDARD
TZOFFSETFROM:-0600
TZOFFSETTO:-0700
TZNAME:MST
DTSTART:20251102T080000
END:STANDARD
END:VTIMEZONE
BEGIN:VEVENT
DTSTART;VALUE=DATE:20241024
DTEND;VALUE=DATE:20241026
DTSTAMP:20260424T122051
CREATED:20241005T203210Z
LAST-MODIFIED:20241010T165220Z
UID:10036249-1729738800-1729825199@urbancasual.ca
SUMMARY:SMALL BUSINESS WEEK IN COCHRANE
DESCRIPTION:FULL DETAILS:\nSEE SCHEDULE
URL:https://urbancasual.ca/cochrane-event/small-business-week-in-cochrane/2024-10-24/
LOCATION:AB
CATEGORIES:Business,COCHRANE SMALL BUSINESS WEEK 2024,Free,Learning,Networking
ATTACH;FMTTYPE=image/png:https://urbancasual.ca/wp-content/uploads/2024/10/SMALL-BUSINESS-WEEK-2024-date-add-1.png
END:VEVENT
BEGIN:VEVENT
DTSTART;TZID=America/Edmonton:20241024T080000
DTEND;TZID=America/Edmonton:20241024T170000
DTSTAMP:20260424T122051
CREATED:20240725T155901Z
LAST-MODIFIED:20240725T155901Z
UID:10033527-1729756800-1729789200@urbancasual.ca
SUMMARY:Volunteer and Board Member Recruitment (On-Going)
DESCRIPTION:Cultivate Cochrane Society is a local non-profit organization that teaches people about growing food in this climate\, food sustainability\, supporting community connections\, and increasing one’s resilience in the ongoing changes happening around the globe regarding food\, water\, and health access. Please check out our website and Facebook page for further information. \nhttps://cultivatecochrane.com/\nhttps://www.facebook.com/groups/1040271816164025/user/100067204061496/ \nWe are currently seeking volunteers in numerous areas including ongoing maintenance and improvements to our Passive Solar mobile greenhouse\, event planning and support\, grant applications\, program support\, and long range planning for a permanent\, largescale greenhouse and community space. We also require board members to oversee the operations of Cultivate Cochrane\, continue building community networks\, and increase stakeholders.\nIf you would love to work with an exciting group of passionate people who love food and seeing things grow\, reach out to us. You do not need a green thumb or need to know how to garden. We can teach you\, plus people with a variety of skills are needed. If you have an idea to bring forward\, please let us know. We will work with you to match your interests with our needs. Individuals\, groups\, and organizations are welcome. People of all ages and life stages are welcome. Perhaps this could be a team building opportunity for your organization\, church\, community group!
URL:https://urbancasual.ca/cochrane-event/volunteer-and-board-member-recruitment-on-going/2024-10-24/
LOCATION:AB
CATEGORIES:Community,Volunteer
ATTACH;FMTTYPE=image/jpeg:https://urbancasual.ca/wp-content/uploads/2024/07/Solar-Roller.jpg
ORGANIZER;CN="Cultivate Cochrane Society":MAILTO:info@cultivatecochrane.com
END:VEVENT
BEGIN:VEVENT
DTSTART;TZID=America/Edmonton:20241024T160000
DTEND;TZID=America/Edmonton:20241024T200000
DTSTAMP:20260424T122051
CREATED:20241015T171236Z
LAST-MODIFIED:20241015T171236Z
UID:10036283-1729785600-1729800000@urbancasual.ca
SUMMARY:Lions Community Market
DESCRIPTION:Join us for the Lions Community Market! Starting October 17\, 4-8pm\, enjoy local vendors\, live music\, free coffee\, an open bar\, and a variety of tables including baking and second-hand items. Get a head start on your Christmas shopping and support the Lions Club. \nLocated at the Lions Event Center. Don’t miss out!”
URL:https://urbancasual.ca/cochrane-event/lions-community-market/2024-10-24/
LOCATION:Cochrane Lions Club Event Centre\, 109 Fifth Avenue\, Cochrane\, Alberta\, T4C 0A4\, Canada
CATEGORIES:Farmers Market,Market,Shopping
ATTACH;FMTTYPE=image/jpeg:https://urbancasual.ca/wp-content/uploads/2024/10/463118132_941460238005690_1292112871800881463_n.jpg
END:VEVENT
BEGIN:VEVENT
DTSTART;TZID=America/Edmonton:20241024T180000
DTEND;TZID=America/Edmonton:20241024T190000
DTSTAMP:20260424T122051
CREATED:20241003T155102Z
LAST-MODIFIED:20241016T193153Z
UID:10036567-1729792800-1729796400@urbancasual.ca
SUMMARY:New to Line Dance
DESCRIPTION:Join me for this 5-week series in the Seniors on the Bow auditorium\, SLS Centre. \nThis class is for anyone who is new to line dancing or who wants to gain more confidence with their basic line dance skills. (Under 18 welcome if mature and registering with a guardian.) \nThe focus will be on basic line dance steps such as jazz box\, toe strut\, v step\, k step\, rumba box\, lock step\, mambo\, grapevine\, etc. \nLearn 8 fun dances to a variety of upbeat music in a fun\, relaxed environment.
URL:https://urbancasual.ca/cochrane-event/new-to-line-dance/2024-10-24/
LOCATION:SLS Centre\, 800 Griffin Rd E\, Cochrane\, Alberta\, T4C 2B8\, Canada
CATEGORIES:Community,Dance,Entertainment & Games,Fitness,Learning
ATTACH;FMTTYPE=image/jpeg:https://urbancasual.ca/wp-content/uploads/2024/09/line-1.jpg
ORGANIZER;CN="Cathy Chalmers":MAILTO:chalmers999@gmail.com
END:VEVENT
BEGIN:VEVENT
DTSTART;TZID=America/Edmonton:20241024T180000
DTEND;TZID=America/Edmonton:20241024T220000
DTSTAMP:20260424T122051
CREATED:20241024T174122Z
LAST-MODIFIED:20241024T174123Z
UID:10025476-1729792800-1729807200@urbancasual.ca
SUMMARY:LIVE MUSIC at Half Hitch
DESCRIPTION:Join us every Thursday evening at 6pm for free local live music! Enjoy great tunes\, local craft beer\, and tasty fare. Here are our upcoming artists! \n 
URL:https://urbancasual.ca/cochrane-event/live-music-at-half-hitch-2-2-2-2-2-2-2-2/2024-10-24/
LOCATION:Half Hitch Brewery
CATEGORIES:Business,Entertainment & Games,Music,Pub/Bar Event,Restaurant
ATTACH;FMTTYPE=image/jpeg:https://urbancasual.ca/wp-content/uploads/2024/03/279631870_409360817860020_4743340451307473139_n-4.jpg
END:VEVENT
BEGIN:VEVENT
DTSTART;TZID=America/Edmonton:20241024T183000
DTEND;TZID=America/Edmonton:20241024T210000
DTSTAMP:20260424T122051
CREATED:20241003T030639Z
LAST-MODIFIED:20241003T030639Z
UID:10036211-1729794600-1729803600@urbancasual.ca
SUMMARY:Wine & Wolves of the World: Part 1
DESCRIPTION:A PRESENTATION PAIRING SCIENCE\, ART\, AND SPECIALTY WINE\, SERVED WITH LIGHT APPETIZERS. \nJoin us for “Wine and Wolves of the World\,” featuring Dr. Shelley Alexander\, a leading expert on wild canid behaviour and compassionate conservation\, and award-winning wildlife photographer Jo-Anne Oucharek. Explore captivating wolf research and stunning wildlife photography\, as they share their passion for understanding and protecting wolves while showcasing the beauty of nature through science and the art of storytelling. \nSpecialty wine & light food pairings will be served\, with vegetarian options. A silent auction will be held with work by local artists. \n‍ \nEvening Program: \n6:30pm – Doors open\, specialty wine & light food pairings served\, and silent auction opens with work by local artists \n7:15pm – Presentation begins\, followed by a question period \n8:15pm – Socializing\, Final bidding \n9:00pm – Silent Auction closes \n‍ \nDate: Thursday\, October 24th\, 2024 \nLocation: Vinestone Wine Co. 608 Second St W\, Cochrane\, AB \nPrice: $125 \n‍ \nAbout our Presenters: \nDr. Shelley M. Alexander \nDr. Shelley Alexander is a Professor in the Department of Geography at the University of Calgary. She has over 30 years of experience studying wolves and coyotes. Shelley founded the Canid Conservation Science Lab. Embracing the principles of Compassionate Conservation\, her research spans ecology\, ethology\, epidemiology\, ethics\, and coexistence (@canid_lab). She founded the flagship coexistence program UCalgary Living with Wildlife (https://research.ucalgary.ca/wildlife). Shelley has provided expert review on wild canid behaviour for international communities\, courts\, and contributes regularly to the media on best coexistence practices. \n‍ \nJo-Anne Oucharek \nJo-Anne Oucharek is an award-winning wildlife photographer. Capturing moments has always been a part of her life. When she moved to Cochrane in 2014\, she brought my camera out of retirement. It marked the beginning of a new photography adventure. It was the birds that inspired “Nature in my Backyard”! This new journey opened her eyes to the beauty and nature that surrounds us in the foothills of the Rocky Mountains. Her adventures are usually close to home\, but over the past couple of years\, her backyard has expanded\, travelling to other provinces\, the US and Africa to capture amazing birds and wildlife stories. Jo-Anne is passionate about sharing her adventures through the stories behind the lens. Her hope is the images captured from these adventures provide insight into the compelling stories of the animals she is fortunate to spend time with in nature. \nThe past 10 years have been a learning experience. A big part of my journey is connecting with like-minded photographers who believe that nature comes first. We are privileged to have such a variety of wildlife so close to home. When we get to see wildlife in their natural environment\, it is truly a gift!
URL:https://urbancasual.ca/cochrane-event/wine-wolves-of-the-world-part-1/
LOCATION:Vinestone\, 608 2 St W\, Cochrane\, Alberta\, T4C 1Z7\, Canada
CATEGORIES:Art,Community,Fundraiser,Learning,Yamnuska Wolfdog Sanctuary
ATTACH;FMTTYPE=image/jpeg:https://urbancasual.ca/wp-content/uploads/2024/10/Wine-Wolves-Online-Graphic-800-x-450-px.jpg
END:VEVENT
BEGIN:VEVENT
DTSTART;TZID=America/Edmonton:20241024T190000
DTEND;TZID=America/Edmonton:20241024T220000
DTSTAMP:20260424T122051
CREATED:20240613T200447Z
LAST-MODIFIED:20240717T001248Z
UID:10028696-1729796400-1729807200@urbancasual.ca
SUMMARY:LIVE IN THE LODGE at Mr. Mike
DESCRIPTION:Live in the Lodge tonight! Bring the entire Family…Lodge Night means all burgers are $13\, 22oz House Beer only $7…and Our Little Doe Wine is 5$ off 1/2L!
URL:https://urbancasual.ca/cochrane-event/live-in-the-lodge-at-mr-mike/2024-10-24/
LOCATION:Mr. Mike’s Steakhouse
CATEGORIES:Business,Entertainment & Games,Music,Pub/Bar Event,Restaurant
ATTACH;FMTTYPE=image/jpeg:https://urbancasual.ca/wp-content/uploads/2024/06/449614290_1151984949393345_7912631255620081994_n-e1721175158333.jpg
END:VEVENT
BEGIN:VEVENT
DTSTART;TZID=America/Edmonton:20241024T193000
DTEND;TZID=America/Edmonton:20241024T233000
DTSTAMP:20260424T122052
CREATED:20240718T163542Z
LAST-MODIFIED:20240718T163542Z
UID:10032894-1729798200-1729812600@urbancasual.ca
SUMMARY:Karaoke at the Venue
DESCRIPTION:🎤🍽 Join us at The Venue this Thursday for a night of delicious food and epic karaoke! \n🎶 Get ready to sing your heart out starting at 7:30pm. \nSee you there! #KaraokeNight #TheVenue #ThursdayVibes 🎤🍷
URL:https://urbancasual.ca/cochrane-event/karaoke-at-the-venue/2024-10-24/
LOCATION:AB
CATEGORIES:Adults Only,Entertainment & Games,Pub/Bar Event,Restaurant
ATTACH;FMTTYPE=image/jpeg:https://urbancasual.ca/wp-content/uploads/2024/07/Screenshot_20240718_103348_Instagram.jpg
END:VEVENT
BEGIN:VEVENT
DTSTART;TZID=America/Edmonton:20241024T200000
DTEND;TZID=America/Edmonton:20241024T233000
DTSTAMP:20260424T122052
CREATED:20240618T155624Z
LAST-MODIFIED:20240618T204438Z
UID:10030298-1729800000-1729812600@urbancasual.ca
SUMMARY:The Rockyview Hotel - Karaoke
DESCRIPTION:THE ROCKYVIEW HOTEL | EST’D IN 1904 – Celebrating 120 years in Historic Downtown. \n+ Dance the night away at the @texasgate.cochrane ! \n+ Tuesdays – learn to line dance\, 7pm\n+ Thursdays – karaoke\, 8pm\n+ Fridays / Saturdays – all request DJ\, 10pm\n+ Sundays – All day free pool! \nTo book your stay & for more info: rockyviewhotel.ca \n  \n  \n  \n\n\n  \n\n\n\n\n\n\n\n\n\n\nView this post on Instagram\n\n\n\n\n\n\n\n\n\n\n\n\n\n\n\n\n\n\n\n\n\n\n  \nA post shared by Urban Casual Cochrane (@urbancasual.ca)
URL:https://urbancasual.ca/cochrane-event/the-rockyview-hotel-karaoke/2024-10-24/
LOCATION:Rockyview Hotel
CATEGORIES:Business,Downtown,Entertainment & Games,Pub/Bar Event,Restaurant
ATTACH;FMTTYPE=image/jpeg:https://urbancasual.ca/wp-content/uploads/2024/06/305308494_488593543275767_6866078460144404837_n.jpg
END:VEVENT
END:VCALENDAR