BEGIN:VCALENDAR
VERSION:2.0
PRODID:-//Urbancasual.ca - ECPv6.15.20//NONSGML v1.0//EN
CALSCALE:GREGORIAN
METHOD:PUBLISH
X-WR-CALNAME:Urbancasual.ca
X-ORIGINAL-URL:https://urbancasual.ca
X-WR-CALDESC:Events for Urbancasual.ca
REFRESH-INTERVAL;VALUE=DURATION:PT1H
X-Robots-Tag:noindex
X-PUBLISHED-TTL:PT1H
BEGIN:VTIMEZONE
TZID:America/Edmonton
BEGIN:DAYLIGHT
TZOFFSETFROM:-0700
TZOFFSETTO:-0600
TZNAME:MDT
DTSTART:20230312T090000
END:DAYLIGHT
BEGIN:STANDARD
TZOFFSETFROM:-0600
TZOFFSETTO:-0700
TZNAME:MST
DTSTART:20231105T080000
END:STANDARD
BEGIN:DAYLIGHT
TZOFFSETFROM:-0700
TZOFFSETTO:-0600
TZNAME:MDT
DTSTART:20240310T090000
END:DAYLIGHT
BEGIN:STANDARD
TZOFFSETFROM:-0600
TZOFFSETTO:-0700
TZNAME:MST
DTSTART:20241103T080000
END:STANDARD
BEGIN:DAYLIGHT
TZOFFSETFROM:-0700
TZOFFSETTO:-0600
TZNAME:MDT
DTSTART:20250309T090000
END:DAYLIGHT
BEGIN:STANDARD
TZOFFSETFROM:-0600
TZOFFSETTO:-0700
TZNAME:MST
DTSTART:20251102T080000
END:STANDARD
END:VTIMEZONE
BEGIN:VEVENT
DTSTART;VALUE=DATE:20241023
DTEND;VALUE=DATE:20241025
DTSTAMP:20260424T191351
CREATED:20241005T203210Z
LAST-MODIFIED:20241010T165220Z
UID:10036248-1729652400-1729738799@urbancasual.ca
SUMMARY:SMALL BUSINESS WEEK IN COCHRANE
DESCRIPTION:FULL DETAILS:\nSEE SCHEDULE
URL:https://urbancasual.ca/cochrane-event/small-business-week-in-cochrane/2024-10-23/
LOCATION:AB
CATEGORIES:Business,COCHRANE SMALL BUSINESS WEEK 2024,Free,Learning,Networking
ATTACH;FMTTYPE=image/png:https://urbancasual.ca/wp-content/uploads/2024/10/SMALL-BUSINESS-WEEK-2024-date-add-1.png
END:VEVENT
BEGIN:VEVENT
DTSTART;TZID=America/Edmonton:20241023T080000
DTEND;TZID=America/Edmonton:20241023T170000
DTSTAMP:20260424T191351
CREATED:20240725T155901Z
LAST-MODIFIED:20240725T155901Z
UID:10033526-1729670400-1729702800@urbancasual.ca
SUMMARY:Volunteer and Board Member Recruitment (On-Going)
DESCRIPTION:Cultivate Cochrane Society is a local non-profit organization that teaches people about growing food in this climate\, food sustainability\, supporting community connections\, and increasing one’s resilience in the ongoing changes happening around the globe regarding food\, water\, and health access. Please check out our website and Facebook page for further information. \nhttps://cultivatecochrane.com/\nhttps://www.facebook.com/groups/1040271816164025/user/100067204061496/ \nWe are currently seeking volunteers in numerous areas including ongoing maintenance and improvements to our Passive Solar mobile greenhouse\, event planning and support\, grant applications\, program support\, and long range planning for a permanent\, largescale greenhouse and community space. We also require board members to oversee the operations of Cultivate Cochrane\, continue building community networks\, and increase stakeholders.\nIf you would love to work with an exciting group of passionate people who love food and seeing things grow\, reach out to us. You do not need a green thumb or need to know how to garden. We can teach you\, plus people with a variety of skills are needed. If you have an idea to bring forward\, please let us know. We will work with you to match your interests with our needs. Individuals\, groups\, and organizations are welcome. People of all ages and life stages are welcome. Perhaps this could be a team building opportunity for your organization\, church\, community group!
URL:https://urbancasual.ca/cochrane-event/volunteer-and-board-member-recruitment-on-going/2024-10-23/
LOCATION:AB
CATEGORIES:Community,Volunteer
ATTACH;FMTTYPE=image/jpeg:https://urbancasual.ca/wp-content/uploads/2024/07/Solar-Roller.jpg
ORGANIZER;CN="Cultivate Cochrane Society":MAILTO:info@cultivatecochrane.com
END:VEVENT
BEGIN:VEVENT
DTSTART;TZID=America/Edmonton:20241023T090000
DTEND;TZID=America/Edmonton:20241023T110000
DTSTAMP:20260424T191351
CREATED:20240325T212247Z
LAST-MODIFIED:20240619T153633Z
UID:10025737-1729674000-1729681200@urbancasual.ca
SUMMARY:COCHRANE BABY BOOMERS COFFEE CLUB
DESCRIPTION:EVERY WEDNESDAY – JOIN US AT ONE OR BOTH GROUPS! \nGROUP 1 – 9 TO 11AM AT THE LEGION – 114 FIFTH AVENUE \nGROUP 2 – 2 TO 4PM AT THE VENUE – 79 RAILWAY ST.
URL:https://urbancasual.ca/cochrane-event/cochrane-baby-boomers-coffee-club/2024-10-23/
LOCATION:The Legion\, 114 Fifth Ave\, Cochrane\, Canada
CATEGORIES:Club,Community,Entertainment & Games,Newcomers,Pub/Bar Event,Seniors
ATTACH;FMTTYPE=image/jpeg:https://urbancasual.ca/wp-content/uploads/2024/03/434241669_414630964545703_5340421825823485419_n.jpg
END:VEVENT
BEGIN:VEVENT
DTSTART;TZID=America/Edmonton:20241023T140000
DTEND;TZID=America/Edmonton:20241023T160000
DTSTAMP:20260424T191351
CREATED:20240325T212343Z
LAST-MODIFIED:20240619T201127Z
UID:10026259-1729692000-1729699200@urbancasual.ca
SUMMARY:COCHRANE BABY BOOMERS COFFEE CLUB
DESCRIPTION:EVERY WEDNESDAY – JOIN US AT ONE OR BOTH GROUPS! \nGROUP 1 – 9 TO 11AM AT THE LEGION – 114 FIFTH AVENUE \nGROUP 2 – 2 TO 4PM AT THE VENUE – 79 RAILWAY ST.
URL:https://urbancasual.ca/cochrane-event/cochrane-baby-boomers-coffee-club-2/2024-10-23/
LOCATION:Venue Bar & Grill\, 79 Railway St E\, Cochrane\, AB\, Canada
CATEGORIES:Club,Community,Entertainment & Games,Newcomers,Pub/Bar Event,Seniors
ATTACH;FMTTYPE=image/jpeg:https://urbancasual.ca/wp-content/uploads/2024/03/434241669_414630964545703_5340421825823485419_n.jpg
END:VEVENT
BEGIN:VEVENT
DTSTART;TZID=America/Edmonton:20241023T180000
DTEND;TZID=America/Edmonton:20241023T210000
DTSTAMP:20260424T191351
CREATED:20241202T000531Z
LAST-MODIFIED:20241202T000605Z
UID:10037695-1729706400-1729717200@urbancasual.ca
SUMMARY:Country Music with Turner Bates at the Venue
DESCRIPTION:
URL:https://urbancasual.ca/cochrane-event/country-music-with-turner-bates-at-the-venue/2024-10-23/
LOCATION:AB
CATEGORIES:Adults Only,Business,Entertainment & Games,Food,Music,Pub/Bar Event
ATTACH;FMTTYPE=image/jpeg:https://urbancasual.ca/wp-content/uploads/2024/12/463385392_17920216139988797_9181419957565291331_n.jpg
END:VEVENT
BEGIN:VEVENT
DTSTART;TZID=America/Edmonton:20241023T190000
DTEND;TZID=America/Edmonton:20241023T200000
DTSTAMP:20260424T191351
CREATED:20230825T012638Z
LAST-MODIFIED:20240619T154001Z
UID:10018976-1729710000-1729713600@urbancasual.ca
SUMMARY:Ukulele Classes
DESCRIPTION:Weekly group ukulele classes starting sept 13 at Frank Wills Community Hall. Have fun and learn skills to play in a ukulele orchestra. Keep your mind and body healthy and happy. $180 for fall session. Bring ukulele\, ukulele tuner\, music stand and a smile. Contact Karen Rollins at krollins@telus.net for more information and to register.
URL:https://urbancasual.ca/cochrane-event/ukulele-classes/2024-10-23/
LOCATION:Frank Wills Memorial Hall\, 405 1st Street E\, Cochrane\, Alberta
CATEGORIES:Learning,Music
ATTACH;FMTTYPE=image/jpeg:https://urbancasual.ca/wp-content/uploads/2023/08/UKULELE-ORCHESTRA-MARKETING-2.jpg
END:VEVENT
BEGIN:VEVENT
DTSTART;TZID=America/Edmonton:20241023T190000
DTEND;TZID=America/Edmonton:20241023T210000
DTSTAMP:20260424T191351
CREATED:20240925T225007Z
LAST-MODIFIED:20240925T225007Z
UID:10036172-1729710000-1729717200@urbancasual.ca
SUMMARY:Writer's Unplugged Open Mic
DESCRIPTION:Come share your poetry\, stories\, and spoken word at our laid-back Writer’s Unplugged Open Mic night – no technology\, just raw talent!\n\nWelcome to Writer’s Unplugged Open Mic ! Join us at Found Books & Shop in collaboration with the Alexandra Writers Centre Society for a night of creativity and community.\n\nWhether you’re a seasoned writer or just starting out\, this event is the perfect opportunity to share your work in a supportive environment. Come listen to fellow writers\, poets\, musicians and storytellers\, or take the stage yourself! Let your words flow freely and connect with like-minded individuals. Don’t miss out on this chance to be inspired and inspire others. It’s easy. Show up with a max of 5 minutes of material to share. Throw your name into the duck bowl. Readers are drawn at random.Please register in advance so we know you’re coming.\nWe launched on March 27\, 2024 and are running on the last Wednesday of the month thereafter. Share your words while surrounded by walls of books\, in front of the friendliest audience you’ll ever meet.\nIt’s easy.\nPoetry\, fiction\, non-fiction\, songs\, dramatic monologues…anything goes.\nMaybe you’re not ready to read in front of people and just want to enjoy the show. Be a part of our live studio audience\, cheer on our writers.We are a licensed space also boasting a coffee bar & light snacks available for purchase.\n\n2024 – 2025 Dates:Sept 25 | Oct 30 | Nov 27 | Jan 29 | Feb 26 | Mar 26 | Apr 30 | May 28 | June 25
URL:https://urbancasual.ca/cochrane-event/writers-unplugged-open-mic/2024-10-23/
LOCATION:Found Book Shop\, 206 1st Street W\, Cochrane\, AB
CATEGORIES:Business,Music,OPEN MIC,Pub/Bar Event
ATTACH;FMTTYPE=image/jpeg:https://urbancasual.ca/wp-content/uploads/2024/09/460386200_3928347174117001_7711379119311944725_n.jpg
END:VEVENT
END:VCALENDAR