BEGIN:VCALENDAR
VERSION:2.0
PRODID:-//Urbancasual.ca - ECPv6.15.20//NONSGML v1.0//EN
CALSCALE:GREGORIAN
METHOD:PUBLISH
X-ORIGINAL-URL:https://urbancasual.ca
X-WR-CALDESC:Events for Urbancasual.ca
REFRESH-INTERVAL;VALUE=DURATION:PT1H
X-Robots-Tag:noindex
X-PUBLISHED-TTL:PT1H
BEGIN:VTIMEZONE
TZID:America/Edmonton
BEGIN:DAYLIGHT
TZOFFSETFROM:-0700
TZOFFSETTO:-0600
TZNAME:MDT
DTSTART:20230312T090000
END:DAYLIGHT
BEGIN:STANDARD
TZOFFSETFROM:-0600
TZOFFSETTO:-0700
TZNAME:MST
DTSTART:20231105T080000
END:STANDARD
BEGIN:DAYLIGHT
TZOFFSETFROM:-0700
TZOFFSETTO:-0600
TZNAME:MDT
DTSTART:20240310T090000
END:DAYLIGHT
BEGIN:STANDARD
TZOFFSETFROM:-0600
TZOFFSETTO:-0700
TZNAME:MST
DTSTART:20241103T080000
END:STANDARD
BEGIN:DAYLIGHT
TZOFFSETFROM:-0700
TZOFFSETTO:-0600
TZNAME:MDT
DTSTART:20250309T090000
END:DAYLIGHT
BEGIN:STANDARD
TZOFFSETFROM:-0600
TZOFFSETTO:-0700
TZNAME:MST
DTSTART:20251102T080000
END:STANDARD
END:VTIMEZONE
BEGIN:VEVENT
DTSTART;VALUE=DATE:20240917
DTEND;VALUE=DATE:20240918
DTSTAMP:20260423T082450
CREATED:20221217T013520Z
LAST-MODIFIED:20230421T171658Z
UID:10002061-1726531200-1726617599@urbancasual.ca
SUMMARY:10% off Tuesday at Home Reno Heaven
DESCRIPTION:Home Reno Heaven presents – EVERY Tuesday save 10% off all items in store! \nAll proceeds support affordable housing in Cochrane. \n  \nLocated at 136 Charlesworth Avenue in Cochrane.
URL:https://urbancasual.ca/cochrane-event/10-off-tuesday-at-home-reno-heaven/2024-09-17/
LOCATION:Home Reno Heaven\, 136 Charlesworth Ave\, Cochrane
CATEGORIES:Community,Fundraiser,Sale
ATTACH;FMTTYPE=image/jpeg:https://urbancasual.ca/wp-content/uploads/2022/12/HRH-fb-save-10-new-logo-2023.jpg
END:VEVENT
BEGIN:VEVENT
DTSTART;TZID=America/Edmonton:20240917T080000
DTEND;TZID=America/Edmonton:20240917T093000
DTSTAMP:20260423T082450
CREATED:20221228T234228Z
LAST-MODIFIED:20221228T234228Z
UID:10012586-1726560000-1726565400@urbancasual.ca
SUMMARY:BNI Inspire - Business Networking Meeting
DESCRIPTION:We help business professionals grow their business through a structured\, positive\, and professional referral marketing program. \nWeekly (except the first Tuesday of the Month which is in person at the Legion) online\, from 8am to 9:30am.
URL:https://urbancasual.ca/cochrane-event/bni-inspire-business-networking-meeting-2/2024-09-17/
LOCATION:Online
CATEGORIES:Business,Networking
ATTACH;FMTTYPE=image/jpeg:https://urbancasual.ca/wp-content/uploads/2022/12/BNI.jpg
END:VEVENT
BEGIN:VEVENT
DTSTART;TZID=America/Edmonton:20240917T080000
DTEND;TZID=America/Edmonton:20240917T170000
DTSTAMP:20260423T082450
CREATED:20240725T155901Z
LAST-MODIFIED:20240725T155901Z
UID:10033490-1726560000-1726592400@urbancasual.ca
SUMMARY:Volunteer and Board Member Recruitment (On-Going)
DESCRIPTION:Cultivate Cochrane Society is a local non-profit organization that teaches people about growing food in this climate\, food sustainability\, supporting community connections\, and increasing one’s resilience in the ongoing changes happening around the globe regarding food\, water\, and health access. Please check out our website and Facebook page for further information. \nhttps://cultivatecochrane.com/\nhttps://www.facebook.com/groups/1040271816164025/user/100067204061496/ \nWe are currently seeking volunteers in numerous areas including ongoing maintenance and improvements to our Passive Solar mobile greenhouse\, event planning and support\, grant applications\, program support\, and long range planning for a permanent\, largescale greenhouse and community space. We also require board members to oversee the operations of Cultivate Cochrane\, continue building community networks\, and increase stakeholders.\nIf you would love to work with an exciting group of passionate people who love food and seeing things grow\, reach out to us. You do not need a green thumb or need to know how to garden. We can teach you\, plus people with a variety of skills are needed. If you have an idea to bring forward\, please let us know. We will work with you to match your interests with our needs. Individuals\, groups\, and organizations are welcome. People of all ages and life stages are welcome. Perhaps this could be a team building opportunity for your organization\, church\, community group!
URL:https://urbancasual.ca/cochrane-event/volunteer-and-board-member-recruitment-on-going/2024-09-17/
LOCATION:AB
CATEGORIES:Community,Volunteer
ATTACH;FMTTYPE=image/jpeg:https://urbancasual.ca/wp-content/uploads/2024/07/Solar-Roller.jpg
ORGANIZER;CN="Cultivate Cochrane Society":MAILTO:info@cultivatecochrane.com
END:VEVENT
BEGIN:VEVENT
DTSTART;TZID=America/Edmonton:20240917T101500
DTEND;TZID=America/Edmonton:20240917T104500
DTSTAMP:20260423T082450
CREATED:20240121T211242Z
LAST-MODIFIED:20240619T174137Z
UID:10022888-1726568100-1726569900@urbancasual.ca
SUMMARY:Tech Hour at CPL
DESCRIPTION:Need help with technology questions or with using the Library’s electronic resources? We can help during our drop-in Tech Hour! No appointment is required. All you need to bring are your technology problems and any relevant devices. \n\nEvent dates\n  \n\nEvery week on Tuesday ends on March 26\, 2024\, 10:15 a.m. – 11:15 a.m.
URL:https://urbancasual.ca/cochrane-event/tech-hour-at-cpl/2024-09-17/
LOCATION:Cochrane Public Library\, 405 Railway Street W\, Cochrane\, Alberta
CATEGORIES:Employment,Free,Learning,Library
ATTACH;FMTTYPE=image/jpeg:https://urbancasual.ca/wp-content/uploads/2024/01/Tech-Hour.jpg
END:VEVENT
BEGIN:VEVENT
DTSTART;TZID=America/Edmonton:20240917T120000
DTEND;TZID=America/Edmonton:20240917T130000
DTSTAMP:20260423T082450
CREATED:20240912T164420Z
LAST-MODIFIED:20240912T164420Z
UID:10036024-1726574400-1726578000@urbancasual.ca
SUMMARY:St. Andrew's Community Lunch
DESCRIPTION:Our free Community Lunch resumes next week: 12-1pm\, every Tuesday\, starting Sept 17th!Come join us for freshly-homemade soup\, a bun\, and good conversation\, here at St. Andrew’s United Church. 
URL:https://urbancasual.ca/cochrane-event/st-andrews-community-lunch/2024-09-17/
LOCATION:St. Andrew’s United Church\, 128 1st Street E\, Cochrane\, AB
CATEGORIES:Church Events,Community,Family Friendly,Food,Free,Parents & Caregivers,Seniors
ATTACH;FMTTYPE=image/jpeg:https://urbancasual.ca/wp-content/uploads/2024/09/459033461_519244324034266_4506866919483480440_n.jpg
END:VEVENT
BEGIN:VEVENT
DTSTART;TZID=America/Edmonton:20240917T170000
DTEND;TZID=America/Edmonton:20240917T183000
DTSTAMP:20260423T082450
CREATED:20240725T162046Z
LAST-MODIFIED:20240905T193019Z
UID:10035659-1726592400-1726597800@urbancasual.ca
SUMMARY:After School Club at The Messy Moose Studio
DESCRIPTION:Let’s ignite their creativity and unwind after school with some relaxing activities like crafting\, creating\, or simply chilling out with our sensory bins.​ \nThis is a registered\, drop off event. \nStarting Tuesday\, Sept 10th\, now from 5:00pm to 6:30pm.$145/per month\, drop off every Tuesday for some creative process art and sensory play!The first session runs from Sept to November.Register online to save your spot!*Can be billed monthly* \nLocation: 3-123 2nd Avenue West -The Messy Moose Studio
URL:https://urbancasual.ca/cochrane-event/after-school-club-at-the-messy-moose-studio/2024-09-17/
LOCATION:The Messy Moose Inc.\, 123 2nd Avenue West\, Unit #3\, Cochrane\, Alberta\, Canada
CATEGORIES:Art,Community,Family Friendly,Learning,Town of Cochrane
ATTACH;FMTTYPE=image/jpeg:https://urbancasual.ca/wp-content/uploads/2024/07/458540557_450612814600871_1026879836003693240_n.jpg
ORGANIZER;CN="The Messy Moose Inc.":MAILTO:themessymoosestudio@gmail.com
END:VEVENT
BEGIN:VEVENT
DTSTART;TZID=America/Edmonton:20240917T190000
DTEND;TZID=America/Edmonton:20240917T210000
DTSTAMP:20260423T082450
CREATED:20240618T152427Z
LAST-MODIFIED:20240619T174110Z
UID:10028729-1726599600-1726606800@urbancasual.ca
SUMMARY:Rockyview Hotel - Learn to line dance
DESCRIPTION:THE ROCKYVIEW HOTEL | EST’D IN 1904 – Celebrating 120 years in Historic Downtown. \n+ Dance the night away at the @texasgate.cochrane ! \n+ Tuesdays – learn to line dance\, 7pm\n+ Thursdays – karaoke\, 8pm\n+ Fridays / Saturdays – all request DJ\, 10pm\n+ Sundays – All day free pool! \nTo book your stay & for more info: rockyviewhotel.ca \n  \n\n\n  \n\n\n\n\n\n\n\n\n\n\nView this post on Instagram\n\n\n\n\n\n\n\n\n\n\n\n\n\n\n\n\n\n\n\n\n\n\n  \nA post shared by Urban Casual Cochrane (@urbancasual.ca)
URL:https://urbancasual.ca/cochrane-event/rockyview-hotel-learn-to-line-dance/2024-09-17/
LOCATION:Rockyview Hotel
CATEGORIES:Business,Downtown,Hotel,Pub/Bar Event,Restaurant
ATTACH;FMTTYPE=image/jpeg:https://urbancasual.ca/wp-content/uploads/2024/06/305308494_488593543275767_6866078460144404837_n.jpg
END:VEVENT
END:VCALENDAR