BEGIN:VCALENDAR
VERSION:2.0
PRODID:-//Urbancasual.ca - ECPv6.15.20//NONSGML v1.0//EN
CALSCALE:GREGORIAN
METHOD:PUBLISH
X-WR-CALNAME:Urbancasual.ca
X-ORIGINAL-URL:https://urbancasual.ca
X-WR-CALDESC:Events for Urbancasual.ca
REFRESH-INTERVAL;VALUE=DURATION:PT1H
X-Robots-Tag:noindex
X-PUBLISHED-TTL:PT1H
BEGIN:VTIMEZONE
TZID:America/Edmonton
BEGIN:DAYLIGHT
TZOFFSETFROM:-0700
TZOFFSETTO:-0600
TZNAME:MDT
DTSTART:20230312T090000
END:DAYLIGHT
BEGIN:STANDARD
TZOFFSETFROM:-0600
TZOFFSETTO:-0700
TZNAME:MST
DTSTART:20231105T080000
END:STANDARD
BEGIN:DAYLIGHT
TZOFFSETFROM:-0700
TZOFFSETTO:-0600
TZNAME:MDT
DTSTART:20240310T090000
END:DAYLIGHT
BEGIN:STANDARD
TZOFFSETFROM:-0600
TZOFFSETTO:-0700
TZNAME:MST
DTSTART:20241103T080000
END:STANDARD
BEGIN:DAYLIGHT
TZOFFSETFROM:-0700
TZOFFSETTO:-0600
TZNAME:MDT
DTSTART:20250309T090000
END:DAYLIGHT
BEGIN:STANDARD
TZOFFSETFROM:-0600
TZOFFSETTO:-0700
TZNAME:MST
DTSTART:20251102T080000
END:STANDARD
END:VTIMEZONE
BEGIN:VEVENT
DTSTART;TZID=America/Edmonton:20240915T080000
DTEND;TZID=America/Edmonton:20240915T170000
DTSTAMP:20260423T103443
CREATED:20240725T155901Z
LAST-MODIFIED:20240725T155901Z
UID:10033488-1726387200-1726419600@urbancasual.ca
SUMMARY:Volunteer and Board Member Recruitment (On-Going)
DESCRIPTION:Cultivate Cochrane Society is a local non-profit organization that teaches people about growing food in this climate\, food sustainability\, supporting community connections\, and increasing one’s resilience in the ongoing changes happening around the globe regarding food\, water\, and health access. Please check out our website and Facebook page for further information. \nhttps://cultivatecochrane.com/\nhttps://www.facebook.com/groups/1040271816164025/user/100067204061496/ \nWe are currently seeking volunteers in numerous areas including ongoing maintenance and improvements to our Passive Solar mobile greenhouse\, event planning and support\, grant applications\, program support\, and long range planning for a permanent\, largescale greenhouse and community space. We also require board members to oversee the operations of Cultivate Cochrane\, continue building community networks\, and increase stakeholders.\nIf you would love to work with an exciting group of passionate people who love food and seeing things grow\, reach out to us. You do not need a green thumb or need to know how to garden. We can teach you\, plus people with a variety of skills are needed. If you have an idea to bring forward\, please let us know. We will work with you to match your interests with our needs. Individuals\, groups\, and organizations are welcome. People of all ages and life stages are welcome. Perhaps this could be a team building opportunity for your organization\, church\, community group!
URL:https://urbancasual.ca/cochrane-event/volunteer-and-board-member-recruitment-on-going/2024-09-15/
CATEGORIES:Community,Volunteer
ATTACH;FMTTYPE=image/jpeg:https://urbancasual.ca/wp-content/uploads/2024/07/Solar-Roller.jpg
ORGANIZER;CN="Cultivate Cochrane Society":MAILTO:info@cultivatecochrane.com
END:VEVENT
BEGIN:VEVENT
DTSTART;TZID=America/Edmonton:20240915T090000
DTEND;TZID=America/Edmonton:20240915T120000
DTSTAMP:20260423T103443
CREATED:20240827T165310Z
LAST-MODIFIED:20240829T163936Z
UID:10035616-1726390800-1726401600@urbancasual.ca
SUMMARY:Terry Fox Run
DESCRIPTION:  \nOn Sunday\, September 15 the 44th Annual Terry Fox Run is happening in Cochrane! \nWe hope you can join us at Mitford Park at 10:00am. We have beautiful route options of 2km\, 5km or 10km. \nPlease register today at run.terryfox.ca/cochrane-ab and help us fulfill Terry’s dream of a world without cancer!
URL:https://urbancasual.ca/cochrane-event/terry-fox-run-2/
LOCATION:Mitford Park
CATEGORIES:Community,Family Friendly,Fundraiser,Run/Walk,Sports
ATTACH;FMTTYPE=image/jpeg:https://urbancasual.ca/wp-content/uploads/2024/08/456565014_10159954652027190_3973072058448677339_n.jpg
END:VEVENT
BEGIN:VEVENT
DTSTART;TZID=America/Edmonton:20240915T100000
DTEND;TZID=America/Edmonton:20240915T130000
DTSTAMP:20260423T103443
CREATED:20240808T170953Z
LAST-MODIFIED:20240808T170953Z
UID:10035382-1726394400-1726405200@urbancasual.ca
SUMMARY:Building Resiliency: Mental Health Groups for Youth
DESCRIPTION:We know that going back to school can be stressful! 😩 Whether your child needs support making new friends\, navigating social media\, or building confidence and self-esteem\, we’re here to help! \nThis is why we’re so excited to launch 5-week mental health groups for youth! It’s the perfect way to ensure your kiddo feels confident and resilient in kicking off the school year! 🎒 \nThese groups allow for your children to process their anxiety\, build relationships\, learn new skills\, and have a safe place to land. ✨ \nThe best part? They can be fully covered by your insurance provider! ♥️ \nVisit maliya.ca to book or give us a call to learn more! We can’t wait to support you!
URL:https://urbancasual.ca/cochrane-event/building-resiliency-mental-health-groups-for-youth/2024-09-15/
LOCATION:Maliya Wellness Centre for Women\, Teens\, & Children\, 2204-120 5th Ave West\, Cochrane\, Alberta\, T4C0A4\, Canada
CATEGORIES:Business,Learning,Youth
ATTACH;FMTTYPE=image/png:https://urbancasual.ca/wp-content/uploads/2024/08/Blue-Yellow-Online-webinar-Poster-8.5-x-11-in-2-1.png
ORGANIZER;CN="Maliya Wellness Centre for Women%2C Teens%2C &amp%3B Children":MAILTO:hello@maliya.ca
END:VEVENT
BEGIN:VEVENT
DTSTART;TZID=America/Edmonton:20240915T100000
DTEND;TZID=America/Edmonton:20240915T130000
DTSTAMP:20260423T103443
CREATED:20240822T192105Z
LAST-MODIFIED:20240822T192105Z
UID:10035547-1726394400-1726405200@urbancasual.ca
SUMMARY:KIERAN KICHUK NO GI WORKSHOPS - at Dallas O'Regan BJJ
DESCRIPTION:KIERAN KICHUK NO GI WORKSHOPS – SATURDAY\, SEPTEMBER 14TH AND SUNDAY\, SEPTEMBER 15TH \n10AM TO 1PM each day at Dallas O’Regan Brazilian Jiu Jitsu\nLocation: Dallas O’Regan Brazilian Jiu Jitsu\n213-118 1st Avenue West\nCochrane\, Alberta T4C 2K8 CA \nJoin us for two 3-hour No Gi workshops with Kieran Kichuk. These workshops are open to Advanced Youth ages 7 & up and Adults. \nAll schools are welcome. \nThis is our second time having Kieran at our Dojo and we can’t wait to learn from him again. This is going to be a great opportunity to prepare for the upcoming ADCC in Vancouver on October 26th – you don’t want to miss this! \nSpaces limited. \nLink to register: https://dobjj.sites.zenplanner.com/event.cfm?eventId=36100671-C7B8-4347-830E-C9BE6D75A286
URL:https://urbancasual.ca/cochrane-event/kieran-kichuk-no-gi-workshops-at-dallas-oregan-bjj/2024-09-15/
CATEGORIES:Business,Family Friendly,Learning,Parents & Caregivers,Sports
ATTACH;FMTTYPE=image/png:https://urbancasual.ca/wp-content/uploads/2024/08/kieraninstagram.png
END:VEVENT
BEGIN:VEVENT
DTSTART;TZID=America/Edmonton:20240915T100000
DTEND;TZID=America/Edmonton:20240915T150000
DTSTAMP:20260423T103443
CREATED:20240420T160732Z
LAST-MODIFIED:20240619T192324Z
UID:10026649-1726394400-1726412400@urbancasual.ca
SUMMARY:Bragg Creek Farmers Market - Weekly
DESCRIPTION:
URL:https://urbancasual.ca/cochrane-event/bragg-creek-farmers-market-weekly/2024-09-15/
LOCATION:Bragg Creek Community Centre
CATEGORIES:Bragg Creek,Business,Community,Family Friendly,Market
ATTACH;FMTTYPE=image/jpeg:https://urbancasual.ca/wp-content/uploads/2024/04/FB_IMG_1713461101666.jpg
END:VEVENT
BEGIN:VEVENT
DTSTART;TZID=America/Edmonton:20240915T130000
DTEND;TZID=America/Edmonton:20240915T150000
DTSTAMP:20260423T103443
CREATED:20240911T013446Z
LAST-MODIFIED:20240911T013827Z
UID:10035696-1726405200-1726412400@urbancasual.ca
SUMMARY:Plant Sale at the Cochrane Public Library
DESCRIPTION:Save The Date! Cochrane and District Horticultural Society Plant Sale FundraiserMark your calendars for the Cochrane and District Horticultural Society’s semi-annual plant sale fundraiser taking place in the front garden of the Library.Date: Sunday\, September 15Time: 1:00 PM – 3:00 PMWhether you’re a seasoned gardener or just starting out\, you’re sure to find something to brighten up your garden and home.Best of all\, your support will make a difference! Net proceeds from the event will go to the Friends of Spirit Winds Ranch Equine Assisted Therapy Programs.
URL:https://urbancasual.ca/cochrane-event/plant-sale-at-the-cochrane-public-library/
LOCATION:Cochrane Public Library\, 405 Railway Street W\, Cochrane\, Alberta
CATEGORIES:Community,Downtown,Gardening,Sale
ATTACH;FMTTYPE=image/jpeg:https://urbancasual.ca/wp-content/uploads/2024/09/inbound419294940940764511.jpg
END:VEVENT
END:VCALENDAR